BEGIN:VCALENDAR
VERSION:2.0
PRODID:-//Jazzbah (Port de Ciutadella) - ECPv6.15.20//NONSGML v1.0//EN
CALSCALE:GREGORIAN
METHOD:PUBLISH
X-ORIGINAL-URL:https://jazzbah.es
X-WR-CALDESC:Esdeveniments per Jazzbah (Port de Ciutadella)
REFRESH-INTERVAL;VALUE=DURATION:PT1H
X-Robots-Tag:noindex
X-PUBLISHED-TTL:PT1H
BEGIN:VTIMEZONE
TZID:Europe/Paris
BEGIN:DAYLIGHT
TZOFFSETFROM:+0100
TZOFFSETTO:+0200
TZNAME:CEST
DTSTART:20240331T010000
END:DAYLIGHT
BEGIN:STANDARD
TZOFFSETFROM:+0200
TZOFFSETTO:+0100
TZNAME:CET
DTSTART:20241027T010000
END:STANDARD
BEGIN:DAYLIGHT
TZOFFSETFROM:+0100
TZOFFSETTO:+0200
TZNAME:CEST
DTSTART:20250330T010000
END:DAYLIGHT
BEGIN:STANDARD
TZOFFSETFROM:+0200
TZOFFSETTO:+0100
TZNAME:CET
DTSTART:20251026T010000
END:STANDARD
BEGIN:DAYLIGHT
TZOFFSETFROM:+0100
TZOFFSETTO:+0200
TZNAME:CEST
DTSTART:20260329T010000
END:DAYLIGHT
BEGIN:STANDARD
TZOFFSETFROM:+0200
TZOFFSETTO:+0100
TZNAME:CET
DTSTART:20261025T010000
END:STANDARD
END:VTIMEZONE
BEGIN:VEVENT
DTSTART;TZID=Europe/Paris:20250904T235500
DTEND;TZID=Europe/Paris:20250904T235500
DTSTAMP:20260420T043635
CREATED:20250825T135417Z
LAST-MODIFIED:20250825T135555Z
UID:3518-1757030100-1757030100@jazzbah.es
SUMMARY:DEEPDIVE
DESCRIPTION:Presentam DeepDive Immersion in Sound\, el projecte nascut a Menorca amb la vocació de transformar la pista en una experiència sonora profunda i hipnòtica. \nEn aquesta segona edició ens visita Basic96\, productor i DJ de house i techno amb un so envoltant i personal que l’ha fet destacar dins l’escena internacional. Una proposta potent que promet submergir-nos en un viatge sonor inoblidable. \nLa nit començarà amb el warm-up de Stay Chris\, DJ amb una trajectòria consolidada\, encarregat de preparar l’atmosfera perfecta per a la immersió. També hi seran presents els fundadors Tâs & Jöw\, aportant la seva energia característica per arrodonir l’experiència. \nUna nova manera de viure la música electrònica\, des de Menorca i sense filtres. \n—————————————————————————————————————————————————- \nPresentamos DeepDive “Immersion in Sound” el proyecto nacido en Menorca con la vocación de transformar la pista en una experiencia sonora profunda e hipnótica. \n\nEn esta segunda edición nos visita Basic96\, productor y DJ de house y techno con un sonido envolvente y personal\, que lo ha llevado a destacar dentro de la escena internacional. Una propuesta potente que promete sumergirnos en un viaje sonoro inolvidable. \nLa noche arrancará con el warm-up de Stay Chris\, DJ con una trayectoria consolidada\, encargado de preparar la atmósfera perfecta para la inmersión. También estarán presentes los fundadores Tâs & Jöw\, aportando su energía característica para redondear la experiencia. \nUna nueva forma de vivir la música electrónica\, desde Menorca y sin filtros. \nEntrada anticipada: 10€ (+dg) \nhttps://entradas.codetickets.com/entradas/deepdive_9013/73340/jazzbah/online
URL:https://jazzbah.es/event/deepdive-2/
CATEGORIES:2025,Concerts,Destacats,Dj,Jazzbah
ATTACH;FMTTYPE=image/jpeg:https://jazzbah.es/wp-content/uploads/2025/08/Slide.jpeg
END:VEVENT
BEGIN:VEVENT
DTSTART;TZID=Europe/Paris:20250906T235900
DTEND;TZID=Europe/Paris:20250906T235900
DTSTAMP:20260420T043635
CREATED:20250903T162149Z
LAST-MODIFIED:20250903T162215Z
UID:3528-1757203140-1757203140@jazzbah.es
SUMMARY:SUGAR - Remember Reggaeton - Closing
DESCRIPTION:REMEMBER REGGAETON es la cita imprescindible del verano en Jazzbah. Una fiesta temática que recorre los grandes éxitos del reggaetón: desde los hits que marcaron la era de 2015 hasta los temazos más actuales y los clásicos atemporales. Con la mejor selección de DJs residentes de Sugar y el ambiente único\, prepárate para bailar sin parar al ritmo de reggaetón old school\, nuevas tendencias y los grandes favoritos de todas las épocas. ¡Ven a disfrutar de una pista llena de energía y revive tus canciones favoritas bajo las estrellas!
URL:https://jazzbah.es/event/sugar-remember-reggaeton-closing/
CATEGORIES:2025,Concerts,Destacats,Dj,Jazzbah,Party
ATTACH;FMTTYPE=image/jpeg:https://jazzbah.es/wp-content/uploads/2025/05/Slide-Jazzbah-3.jpg
END:VEVENT
BEGIN:VEVENT
DTSTART;TZID=Europe/Paris:20250912T223000
DTEND;TZID=Europe/Paris:20250912T223000
DTSTAMP:20260420T043635
CREATED:20250529T072731Z
LAST-MODIFIED:20250529T072731Z
UID:3415-1757716200-1757716200@jazzbah.es
SUMMARY:JOHNSON WOO
DESCRIPTION:Els Johnson Woo es van estrenar al Jazzbah l’estiu passat i tornen amb ganes de canviar-ho tot. Amb una barreja explosiva de rock\, funk\, lounge\, country\, grunge i dance\, són capaços de portar-te per mitja galàxia en una sola cançó. \nSón d’aquí\, però ara juguen en una altra lliga. I vénen amb novetats.\nTorna la Woo-nivers experience. \n———————————————————————————————————————————————————— \nJohnson Woo debutaron en el Jazzbah el verano pasado y regresan dispuestos a revolucionarlo todo. Con una mezcla explosiva de rock\, funk\, lounge\, country\, grunge y dance\, pueden llevarte de viaje por media galaxia en una sola canción. \nSon de aquí\, pero ahora juegan en otra liga. Y vuelven con novedades. \nVuelve la Woo-nivers experience. \nAnticipada: 8€ (+dg)\nhttps://entradas.codetickets.com/entradas/johnson-woo/69573/jazzbah/online \nTaquilla: 10€
URL:https://jazzbah.es/event/johnson-woo/
CATEGORIES:2025,Concerts,Destacats,Jazzbah
ATTACH;FMTTYPE=image/jpeg:https://jazzbah.es/wp-content/uploads/2025/05/slide-Johnson-woo_20250529_081231_0000.jpg
END:VEVENT
BEGIN:VEVENT
DTSTART;TZID=Europe/Paris:20250913T235500
DTEND;TZID=Europe/Paris:20250913T235500
DTSTAMP:20260420T043635
CREATED:20250516T143759Z
LAST-MODIFIED:20250905T193049Z
UID:3352-1757807700-1757807700@jazzbah.es
SUMMARY:Closing Bah! Skryption
DESCRIPTION:Llega el closing de BAH! con un dj que ya lo reventó el año pasado\, desde BLACKWORKS llega la bestia argentina SKRYPTION. Sin duda uno de los djs hard mas queridos por todos\, con unos shows que lo han hecho ser uno de los referentes en los sonidos mas contundentes. \nPreparate para el closing de los closings! La ultima fiesta de este 2025. \nEntradas:\nhttps://entradas.codetickets.com/entradas/los-santos-presentan-bah-with-fumi-km240-t-jazzbah-/73418/lossantos/online
URL:https://jazzbah.es/event/bah-closing/
CATEGORIES:2025,Bah!,Concerts,Destacats,Dj,Jazzbah
ATTACH;FMTTYPE=image/jpeg:https://jazzbah.es/wp-content/uploads/2025/05/Slide-Jazzbah-10.jpg
END:VEVENT
BEGIN:VEVENT
DTSTART;TZID=Europe/Paris:20250927T233000
DTEND;TZID=Europe/Paris:20250927T233000
DTSTAMP:20260420T043635
CREATED:20250626T075321Z
LAST-MODIFIED:20250627T053310Z
UID:3444-1759015800-1759015800@jazzbah.es
SUMMARY:House 152 presenta EQUINOX
DESCRIPTION:Este año\, el crew londinense de 152 Records se encarga de la fiesta de cierre de temporada de verano en Jazzbah Menorca! \nLa line-up de Bass House\, Tech House y Techno más esperada aterriza en la isla el Sábado 27/09/25  \nMAIN ROOM {A-Z} \nAlex Von Martin (152 Records | Reino Unido)\nEmeye (152 Records | Reino Unido)\nNahi Fitzpatrick (Bonker Music | España)\nTecnik Curr (Breakout Sardinia | Italia) \n  \nTERRAZA {A-Z}\nDj EKL (152 Records\, Electrobreakz | Italia )\nFabrizio Costa (Kickon Music | Italia) \n  \n Entrada + Chupito ¡ya disponibles en Codetickets!\nhttps://entradas.codetickets.com/entradas/house-152-presenta:-equinox/69945/152records/online\n\n¡No te lo pierdas! \n\nVideo promocional: \nhttps://youtu.be/fl1vMSMlX8Y
URL:https://jazzbah.es/event/house-152-presenta-equinox/
CATEGORIES:2025,Concerts,Destacats,Dj,Jazzbah
ATTACH;FMTTYPE=image/jpeg:https://jazzbah.es/wp-content/uploads/2025/06/Slide-Jazzbah.jpg
END:VEVENT
BEGIN:VEVENT
DTSTART;TZID=Europe/Paris:20250930T193000
DTEND;TZID=Europe/Paris:20250930T193000
DTSTAMP:20260420T043635
CREATED:20250911T124504Z
LAST-MODIFIED:20250915T065658Z
UID:3544-1759260600-1759260600@jazzbah.es
SUMMARY:CINE CENA - JAPÓ
DESCRIPTION:Dimarts 30 de setembre\, a les 19:30 h\, els Cinemes Moix Negre es convertiran en un racó del país del sol ixent amb una nova edició de Cine-Cena. Una vetlada on el cinema\, la gastronomia i la música s’ajunten per oferir-te una experiència única. \nLa vetlada inclourà la projecció de la sorprenent comèdia de ciència-ficció japonesa Més enllà dels dos minuts infinits (Junta Yamaguchi\, 2023)\, en VOSE\, un relat enginyós i divertit que juga amb el temps i l’amistat. \nEn l’apartat gastronòmic\, el restaurant Subarashi Fornells\, obert fa poc a Fornells\, ens oferirà un autèntic menú japonès\, amb dues opcions a triar: vegetariana o tradicional\, acompanyades de begudes típiques del Japó. \n\nHi haurà dos tipus d’entrada: \nCine-Cena completa – 45 €: inclou tapa japonesa\, sopar complet\, beguda japonesa i pel·lícula. \nCine-Tapa – 20 €: inclou tapa japonesa\, beguda japonesa i pel·lícula. \nLa nit es completarà amb festa i música en directe de la mà de DJ Sonido Puñal\, que ens farà viatjar amb sons que mesclen l’esperit nipó amb el Mediterrani. \nCine-Cena és una coproducció entre Jazzbah\, Cinemes Moix Negre i Anna Gonzalvo (creadora del projecte)\, amb la col·laboració molt especial de David Peña\, àlies Puño àlies Sonido Puñal. \n——————————————————————————————————————————————– \nEl próximo martes 30 de septiembre\, a las 19:30 h\, los Cinemes Moix Negre se transformarán en un rincón del país del sol naciente con una nueva edición de Cine-Cena. Una noche donde el cine\, la gastronomía y la música se unen para ofrecerte una experiencia única. \nLa velada incluirá la proyección de la sorprendente comedia de ciencia ficción japonesa Más allá de los dos minutos infinitos (Junta Yamaguchi\, 2023)\, en VOSE\, un relato ingenioso y divertido que juega con el tiempo y la amistad. \nEn el apartado gastronómico\, el restaurante Subarashi Fornells\, recientemente inaugurado en Fornells\, nos ofrecerá un auténtico menú japonés\, con dos opciones a elegir: vegetariana o tradicional\, acompañado de bebidas típicas del país nipón. \n  \nHabrá dos tipos de entrada: \nCine-Cena completa – 45 €: incluye tapa japonesa\, cena completa\, bebida japonesa y película. \nCine-Tapa – 20 €: incluye tapa japonesa\, bebida japonesa y película. \nLa noche se completará con fiesta y música en directo de la mano de DJ Sonido Puñal\, que nos hará viajar con sonidos que mezclan el espíritu japonés con el Mediterráneo. \nCine-Cena es una coproducción entre Jazzbah\, Cinemes Moix Negre y Anna Gonzalvo (creadora del proyecto)\, con la colaboración muy especial de David Peña\, alias Puño alias Sonido Puñal. \nhttps://cinesmoixnegre.sacatuentrada.es/es/productos/descripcion/cine-cena-japon
URL:https://jazzbah.es/event/cine-cena-japo/
CATEGORIES:2025,Cine cena,Cinemes Moix Negre,Concerts,Destacats
ATTACH;FMTTYPE=image/jpeg:https://jazzbah.es/wp-content/uploads/2025/09/slide-CINE-CENA-JAPO-208.jpg
END:VEVENT
END:VCALENDAR