BEGIN:VCALENDAR
VERSION:2.0
PRODID:-//Jazzbah (Port de Ciutadella) - ECPv6.15.20//NONSGML v1.0//EN
CALSCALE:GREGORIAN
METHOD:PUBLISH
X-ORIGINAL-URL:https://jazzbah.es
X-WR-CALDESC:Esdeveniments per Jazzbah (Port de Ciutadella)
REFRESH-INTERVAL;VALUE=DURATION:PT1H
X-Robots-Tag:noindex
X-PUBLISHED-TTL:PT1H
BEGIN:VTIMEZONE
TZID:Europe/Paris
BEGIN:DAYLIGHT
TZOFFSETFROM:+0100
TZOFFSETTO:+0200
TZNAME:CEST
DTSTART:20240331T010000
END:DAYLIGHT
BEGIN:STANDARD
TZOFFSETFROM:+0200
TZOFFSETTO:+0100
TZNAME:CET
DTSTART:20241027T010000
END:STANDARD
BEGIN:DAYLIGHT
TZOFFSETFROM:+0100
TZOFFSETTO:+0200
TZNAME:CEST
DTSTART:20250330T010000
END:DAYLIGHT
BEGIN:STANDARD
TZOFFSETFROM:+0200
TZOFFSETTO:+0100
TZNAME:CET
DTSTART:20251026T010000
END:STANDARD
BEGIN:DAYLIGHT
TZOFFSETFROM:+0100
TZOFFSETTO:+0200
TZNAME:CEST
DTSTART:20260329T010000
END:DAYLIGHT
BEGIN:STANDARD
TZOFFSETFROM:+0200
TZOFFSETTO:+0100
TZNAME:CET
DTSTART:20261025T010000
END:STANDARD
END:VTIMEZONE
BEGIN:VEVENT
DTSTART;TZID=Europe/Paris:20250104T203000
DTEND;TZID=Europe/Paris:20250104T203000
DTSTAMP:20260419T183556
CREATED:20241216T170221Z
LAST-MODIFIED:20241216T170420Z
UID:3059-1736022600-1736022600@jazzbah.es
SUMMARY:Concert Recital de Reis - Indigo
DESCRIPTION:El proper dissabte 4 de gener de 2025\, el Teatre del Casino 17 de Gener de Ciutadella de Menorca acollirà un recital molt especial amb la cantant ciutadellenca Indigo\, que estarà acompanyada per un conjunt de músics excepcionals: \nINDIGO (veu/piano)\nCarme Riera (saxo alt)\nJoan Arguimbau (guitarra)\nLluís Gener (baix i contrabaix)\nPere Gelabert (bateria) \nJunts ens oferiran una selecció única i captivadora dels grans clàssics de la música moderna\, tant nacional com internacional\, en una fusió de talent i sensibilitat musical que no et pots perdre. \nEntrada anticipada: 10€ (+dg)  \nhttps://entradas.codetickets.com/entradas/concert-recital-de-reis-indigo/65183/casino-17-de-gener/online \nTaquilla: 13€ \n\n UBICACIÓ:\nTeatre del Casino 17 de Gener\nAvinguda Constitució\, 18 (Ciutadella de Menorca)
URL:https://jazzbah.es/event/concert-recital-de-reis-indigo/
CATEGORIES:2024,Concerts,Destacats,Teatre Casino 17 de gener
ATTACH;FMTTYPE=image/png:https://jazzbah.es/wp-content/uploads/2024/12/slide-web-INDIGO_20241216_172115_0000.png
END:VEVENT
END:VCALENDAR