BEGIN:VCALENDAR
VERSION:2.0
PRODID:-//Jazzbah (Port de Ciutadella) - ECPv6.15.20//NONSGML v1.0//EN
CALSCALE:GREGORIAN
METHOD:PUBLISH
X-WR-CALNAME:Jazzbah (Port de Ciutadella)
X-ORIGINAL-URL:https://jazzbah.es
X-WR-CALDESC:Esdeveniments per Jazzbah (Port de Ciutadella)
REFRESH-INTERVAL;VALUE=DURATION:PT1H
X-Robots-Tag:noindex
X-PUBLISHED-TTL:PT1H
BEGIN:VTIMEZONE
TZID:Europe/Paris
BEGIN:DAYLIGHT
TZOFFSETFROM:+0100
TZOFFSETTO:+0200
TZNAME:CEST
DTSTART:20230326T010000
END:DAYLIGHT
BEGIN:STANDARD
TZOFFSETFROM:+0200
TZOFFSETTO:+0100
TZNAME:CET
DTSTART:20231029T010000
END:STANDARD
BEGIN:DAYLIGHT
TZOFFSETFROM:+0100
TZOFFSETTO:+0200
TZNAME:CEST
DTSTART:20240331T010000
END:DAYLIGHT
BEGIN:STANDARD
TZOFFSETFROM:+0200
TZOFFSETTO:+0100
TZNAME:CET
DTSTART:20241027T010000
END:STANDARD
BEGIN:DAYLIGHT
TZOFFSETFROM:+0100
TZOFFSETTO:+0200
TZNAME:CEST
DTSTART:20250330T010000
END:DAYLIGHT
BEGIN:STANDARD
TZOFFSETFROM:+0200
TZOFFSETTO:+0100
TZNAME:CET
DTSTART:20251026T010000
END:STANDARD
END:VTIMEZONE
BEGIN:VEVENT
DTSTART;TZID=Europe/Paris:20241207T190000
DTEND;TZID=Europe/Paris:20241207T190000
DTSTAMP:20260419T202213
CREATED:20241108T163422Z
LAST-MODIFIED:20241108T163505Z
UID:3026-1733598000-1733598000@jazzbah.es
SUMMARY:JUKEBOX BAND
DESCRIPTION:Un nou ptardeo al Jazzbah! la sala es convertirà en un túnel del temps amb un concert homenatge als grans temes dels anys 80’s oferint un repertori amb cançons que han marcat a tota una generació. Des de la Movida madrileña fins als hits internacionals més festius. Un repàs a l’edat daurada del pop\, rock i funk nacional i internacional. \nEntrada anticipada: 7€ (+ dg)\nhttps://entradas.codetickets.com/entradas/jukebox-band_4150/62751/jazzbah/online\nTaquilla: 10€ \nObertura portes: 18h\nConcert: 19h
URL:https://jazzbah.es/event/jukebox-band-5/
CATEGORIES:2024,25è Aniversari,Concerts,Destacats,Jazzbah,P-tardeo
ATTACH;FMTTYPE=image/png:https://jazzbah.es/wp-content/uploads/2024/11/slide-jukebox-band.png
END:VEVENT
BEGIN:VEVENT
DTSTART;TZID=Europe/Paris:20241214T190000
DTEND;TZID=Europe/Paris:20241214T190000
DTSTAMP:20260419T202213
CREATED:20241114T053548Z
LAST-MODIFIED:20241114T053548Z
UID:3030-1734202800-1734202800@jazzbah.es
SUMMARY:MAGMA + EL CAIRO + BLACK SUGAR
DESCRIPTION:No et perdis una nit de rock en estat pur amb aquests tres grups de l’escena local! \nMAGMA – Un Power Trio nascut a Mallorca durant el confinament del 2020. Amb Fede Fossati\, cantant i guitarra de DINAMO\, que va iniciar aquest projecte amb un toc fosc i potent\, inspirat en influències com The Cult\, Danzig i Black Sabbath. \nEL CAIRO – Directament des de Ciutadella\, aquesta banda beu del britpop\, el shoegaze i el powerpop americà\, amb una essència que remet als millors grups dels 90. \nBLACK SUGAR – Aquesta banda menorquina compta amb Jordi (veu i guitarra)\, Ramón (baix) i Manu (bateria). Amb un estil que fusiona rock clàssic\, grunge i metall\, ofereixen un directe explosiu i contundent que no deixarà ningú indiferent. \nAnticipada: 8€ (+ dg)\nhttps://entradas.codetickets.com/entradas/magma-+-el-cairo-+-black-sugar/62860/jazzbah/online\nTaquilla: 10€ \nObertura portes: 18h\nConcert: 19h \n 
URL:https://jazzbah.es/event/magma-el-cairo-black-sugar/
CATEGORIES:2024,25è Aniversari,Concerts,Destacats,Jazzbah,P-tardeo
ATTACH;FMTTYPE=image/png:https://jazzbah.es/wp-content/uploads/2024/11/slide-ptardeo-rock.png
END:VEVENT
BEGIN:VEVENT
DTSTART;TZID=Europe/Paris:20241227T203000
DTEND;TZID=Europe/Paris:20241227T203000
DTSTAMP:20260419T202213
CREATED:20241126T124655Z
LAST-MODIFIED:20241222T095106Z
UID:3033-1735331400-1735331400@jazzbah.es
SUMMARY:The Binigaus Band
DESCRIPTION:Arriba la gresca nadalenca amb The Binigaus Band! \nUna de les bandes més estimades i festives del panorama musical menorquí arriba per omplir vespre de música\, bon humor i molta diversió. Aquest cop\, amb un toc més nadalenc que mai\, The Binigaus Band ens oferirà un repàs de la seva trajectòria amb les seves millors cançons i aquell estil únic que ens fa vibrar. \nThe Binigaus Band és una banda de rock menorquina nascuda a Es Migjorn Gran el 2012 i formada per: Maixx Gomila (veu i saxo)\, Johnny Pascual (teclats i veus)\, Josep Sales (bateria)\, Joan Coll (baix i veus)\, Pere Arguimbau (guitarra i veus) \nPrepara’t per una nit inoblidable plena de ritme i festa! \n  \nEntrada Anticipada: 10 (+ dg)\nhttps://entradas.codetickets.com/entradas/the-binigaus-band/63181/casino-17-de-gener/online \nTaquilla: 13€ \nDescàrrega document accés menors 16 anys \nObertura portes: 19:30 h / The Binigaus Band: 20:30 h\nConcert dret (no hi hauran cadires)\nServei de bar dins el teatre\n \nUBICACIÓ: Teatre del Casino 17 de Gener. Avinguda Constitució\, 18 (Ciutadella de Menorca)
URL:https://jazzbah.es/event/the-binigaus-band-4/
CATEGORIES:2024,25è Aniversari,Concerts,Destacats,Teatre Casino 17 de gener
ATTACH;FMTTYPE=image/jpeg:https://jazzbah.es/wp-content/uploads/2024/11/Slide-Jazzbah-Sold-out.jpg
END:VEVENT
BEGIN:VEVENT
DTSTART;TZID=Europe/Paris:20241227T235500
DTEND;TZID=Europe/Paris:20241227T235500
DTSTAMP:20260419T202213
CREATED:20241216T145523Z
LAST-MODIFIED:20241216T145523Z
UID:3056-1735343700-1735343700@jazzbah.es
SUMMARY:Drastic Grooves
DESCRIPTION:Drastic Grooves torna a Jazzbah! \nLa marca i segell discogràfic cel·lebrarà el darrer event de l’any amb la millor electrònica. \nEn aquesta edició amb un line up format per nous exponents de l’escena Techno de l’illa\, de Granda i de Madrid. Un vespre únic que no us podeu perdre! \nLine up complet: Bojak B2B Perkless Education \, Sol Caballero\, IvanFG i VIC504 \n\nEntrades anticipades 10€+gg\nhttps://entradas.codetickets.com/entradas/drastic-grooves_1759/65180/jazzbah/online\n\nEntrades a taquilla comprades abans de la 1am 10€\nEntrades a taquilla 15€
URL:https://jazzbah.es/event/drastic-grooves-3/
CATEGORIES:2024,Concerts,Destacats,Dj,Jazzbah
ATTACH;FMTTYPE=image/jpeg:https://jazzbah.es/wp-content/uploads/2024/12/DG_PORTADA_HORIZONTALJAZZBAH.jpg
END:VEVENT
BEGIN:VEVENT
DTSTART;TZID=Europe/Paris:20241228T200000
DTEND;TZID=Europe/Paris:20241228T200000
DTSTAMP:20260419T202213
CREATED:20241129T104158Z
LAST-MODIFIED:20241228T155642Z
UID:3044-1735416000-1735416000@jazzbah.es
SUMMARY:RUDYMENTARI + artista convidat ORGÀNIC
DESCRIPTION:A ritme de reggae i amb un toc jamaicà\, Rudymentari arriba al Teatre del Casino de Ciutadella amb tota la banda per fer vibrar els cors amb la seva música plena de missatge i consciència.  Cada cançó és una porta oberta a la reflexió\, una invitació a la crítica social i una mostra del poder transformador de la música. \nPer començar la tarda\, el duet menorquí Orgànic\, desplegaran el seu rap autèntic i enèrgic. \nObertura portes: 19:00 h\nConcert: 20:00 h \nAnticipada: 12€ (+ dg)\nhttps://entradas.codetickets.com/entradas/rudymentari/63463/casino-17-de-gener/online \nTaquilla: 15€ \nDescàrrega document accés menors 16 anys \nConcert dret (no hi hauran cadires)\nServei de bar dins el teatre \nUBICACIÓ: Teatre del Casino 17 de Gener. Avinguda Constitució\, 18 (Ciutadella de Menorca)
URL:https://jazzbah.es/event/rudymentari-artista-convidat-organic/
CATEGORIES:2024,25è Aniversari,Concerts,Destacats,Teatre Casino 17 de gener
ATTACH;FMTTYPE=image/jpeg:https://jazzbah.es/wp-content/uploads/2024/11/Slide-Jazzbah-sold.jpg
END:VEVENT
BEGIN:VEVENT
DTSTART;TZID=Europe/Paris:20241231T235900
DTEND;TZID=Europe/Paris:20241231T235900
DTSTAMP:20260419T202213
CREATED:20241230T144041Z
LAST-MODIFIED:20241230T144041Z
UID:3089-1735689540-1735689540@jazzbah.es
SUMMARY:FESTA DE CAP D'ANY 2025
DESCRIPTION:Dona la benvinguda al 2025 al Jazzbah! La festa de la Nit de Cap d’Any arrenca a la 01h amb els nostres DJ’s residents. \nEntrades a taquilla.\nPreu: 20€ (1 consumició inclosa) \n*Prohibida l’entrada a menors de 18 anys.
URL:https://jazzbah.es/event/festa-de-cap-dany-2025/
CATEGORIES:2024,25è Aniversari,Concerts,Destacats,Dj,Jazzbah
ATTACH;FMTTYPE=image/png:https://jazzbah.es/wp-content/uploads/2024/12/slide-web-CAP-DANY-2025.png
END:VEVENT
END:VCALENDAR