BEGIN:VCALENDAR
VERSION:2.0
PRODID:-//Jazzbah (Port de Ciutadella) - ECPv6.15.20//NONSGML v1.0//EN
CALSCALE:GREGORIAN
METHOD:PUBLISH
X-ORIGINAL-URL:https://jazzbah.es
X-WR-CALDESC:Esdeveniments per Jazzbah (Port de Ciutadella)
REFRESH-INTERVAL;VALUE=DURATION:PT1H
X-Robots-Tag:noindex
X-PUBLISHED-TTL:PT1H
BEGIN:VTIMEZONE
TZID:Europe/Paris
BEGIN:DAYLIGHT
TZOFFSETFROM:+0100
TZOFFSETTO:+0200
TZNAME:CEST
DTSTART:20230326T010000
END:DAYLIGHT
BEGIN:STANDARD
TZOFFSETFROM:+0200
TZOFFSETTO:+0100
TZNAME:CET
DTSTART:20231029T010000
END:STANDARD
BEGIN:DAYLIGHT
TZOFFSETFROM:+0100
TZOFFSETTO:+0200
TZNAME:CEST
DTSTART:20240331T010000
END:DAYLIGHT
BEGIN:STANDARD
TZOFFSETFROM:+0200
TZOFFSETTO:+0100
TZNAME:CET
DTSTART:20241027T010000
END:STANDARD
BEGIN:DAYLIGHT
TZOFFSETFROM:+0100
TZOFFSETTO:+0200
TZNAME:CEST
DTSTART:20250330T010000
END:DAYLIGHT
BEGIN:STANDARD
TZOFFSETFROM:+0200
TZOFFSETTO:+0100
TZNAME:CET
DTSTART:20251026T010000
END:STANDARD
END:VTIMEZONE
BEGIN:VEVENT
DTSTART;TZID=Europe/Paris:20241102T190000
DTEND;TZID=Europe/Paris:20241102T190000
DTSTAMP:20260419T220123
CREATED:20240918T141848Z
LAST-MODIFIED:20240918T141848Z
UID:3010-1730574000-1730574000@jazzbah.es
SUMMARY:Fandango All Stars
DESCRIPTION:Comencem la temporada de ptardeo amb la banda més festiva de l’illa! \nSi tens ganes de viure una festa èpica\, aquesta és la teva oportunitat!\, amb un recull de covers i grans temes atemporals\, a cop de “temazos” i un grapat de sorpreses i «frikades varies» que no faltaran en el seu xou de gairebé dues hores de concert. \nCapitanejat per un dels músics rockers més consagrats de Menorca\, Pedro Sánchez\, el grup el formen Judit Uris (veu)\, Pere Moll (bateria)\, Angel Gelabert (teclats)\, Joan Daben (guitarra) i Cesc Pallisser (baix). \nPoques són les festes que s’ha perdut aquest grup des dels seus inicis. Així que\, no podien fer altra cosa que aterrar al Jazzbah per posar-ho potes amunt. La festa està servida! No badis i compra ja la teva anticipada a preu reduït! \nAforament limitat. \nObertura portes: 18h\nConcert : 19h \nEntrada Anticipada: 7€ (+dg)\nhttps://entradas.codetickets.com/entradas/fandango-all-stars_3283/60476/jazzbah/online \nEntrada a taquilla: 10€ \n 
URL:https://jazzbah.es/event/fandango-all-stars-2/
CATEGORIES:2024,25è Aniversari,Concerts,Destacats,Jazzbah,P-tardeo
ATTACH;FMTTYPE=image/png:https://jazzbah.es/wp-content/uploads/2024/09/slide-Fandango-.png
END:VEVENT
BEGIN:VEVENT
DTSTART;TZID=Europe/Paris:20241109T190000
DTEND;TZID=Europe/Paris:20241109T190000
DTSTAMP:20260419T220123
CREATED:20240924T153905Z
LAST-MODIFIED:20240924T154104Z
UID:3016-1731178800-1731178800@jazzbah.es
SUMMARY:TRIBUT A OASIS amb LIVE FOREVER
DESCRIPTION:Aquest any celebrem el 30è aniversari de “Definitely Maybe”\, l’àlbum debut que va catapultar Oasis a la fama mundial. Amb motiu d’aquesta fita\, la mítica banda britànica ha anunciat el seu retorn amb una gira\, i volem celebrar-ho amb tots vosaltres! \nLa banda Live Forever ret homenatge a Oasis amb un concert fidel als seus grans èxits\, oferint un repàs complet de les cançons més icòniques\, com “Don’t Look Back in Anger”\, “Supersonic” i\, per descomptat\, “Wonderwall”\, entre d’altres. \nL’esdeveniment més esperat pels amants dels 90!\nVine a viure en directe l’energia i l’essència d’una de les bandes britàniques més emblemàtiques de tots els temps. \nAforament limitat.\nObertura portes: 18h\nConcert : 19h \nAnticipada: 15€ (+dg)\nhttps://entradium.com/events/tributo-a-oasis-en-jazzbah\nEntrada a taquilla: 18€ \n 
URL:https://jazzbah.es/event/tribut-a-oasis-amb-live-forever/
CATEGORIES:2024,25è Aniversari,Concerts,Destacats,Jazzbah,P-tardeo
ATTACH;FMTTYPE=image/png:https://jazzbah.es/wp-content/uploads/2024/09/slide-Tribut-OASIS-Live-Forever-.png
END:VEVENT
BEGIN:VEVENT
DTSTART;TZID=Europe/Paris:20241116T190000
DTEND;TZID=Europe/Paris:20241116T190000
DTSTAMP:20260419T220123
CREATED:20240522T135230Z
LAST-MODIFIED:20240807T144014Z
UID:2623-1731783600-1731783600@jazzbah.es
SUMMARY:STOP STOP!  + WHITE TYGËR
DESCRIPTION:La banda de Hard Rock fundada en Barcelona pero afincada en Reino Unido STOP\, STOP! regresa con una nueva y extensa gira que pasará por España en octubre y noviembre de 2024 con nada menos que trece conciertos junto a los ingleses WHITE TYGËR. \n\n\n\nEl tour arrancará en Lugo y finalizará en Ciutadella de Menorca\, pasando por Vitoria\, Madrid\, Valencia\, Barcelona y otras localidades. \n\n\n\nActualmente con seis discos de estudio ya publicados STOP STOP! se consolida en la escena de rock europea\, realizando conciertos en Reino Unido con asiduidad\, giras por Europa y Estados Unidos junto a artistas tales como: Alice Cooper\, Buckcherry\, Tyketto\, Hardcore Superstar\, \, Jeff Scott Soto\, Geoff Tate\, Reckless Love\, Crashdiet\, L.A. Guns\, Enuff Znuff\, Pretty Boy Floyd entre muchos otros…además\, a lo largo de sus 15 años de existencia\, la banda ha tenido el honor de tocar en festivales internacionales como: “Monsters of Rock Cruise” (U.S.A.)\, Rocklahoma (U.S.A) \, The Ice Rock Festival (Suiza)\, Rocknacht (Suiza)\, Indoor Summer (Alemania)\, SleazeFest (Alemania)\, HEAT Festival (Alemania)\, Iron Fest (Alemania)\, Stonedead (U.K.)\, The Godney Gathering (U.K.)\, Hard Rock Hell (U.K.)\, Spirit of Burgas (Bulgaria)\, Glam Slam (Bélgica)\, Bully on Rocks (Francia)\, CMF (España) entre muchos otros. \n\n\n\n“Los que han visto a STOP STOP! en directo conocen cómo se las gastan sobre el escenario. Pura energía\, electricidad\, actitud y entrega total con el público”. \n\n\n\n“¡Menorca\, allá vamos! Volvemos a casa en noviembre para presentaros nuestro nuevo disco en primicia!” \n\n\n\n¡Con muchas ganas de ver caras conocidas y nuevas! ¡Además\, nos van a acompañar nuestros buenos amigos ingleses WHITE TYGËR! Banda perfecta para abrir una noche de Hard Rock inolvidable”. \n\n\n\nOriginales de West Midlands\, Reino Unido\, WHITE TYGËR en 2022 sacó su LP debut “This is The Life” y el single “No Fucks Given” con el que presentaban el disco. Actualmente se encuentran trabajando en un nuevo cd del que hace unos meses nos anticipaban el single “Runaway Bride”. \n\n\nEntrada anticipada: 13 (+despesa gestió)\nhttps://entradas.codetickets.com/entradas/stop-stop-_8142/55114/jazzbah/online\n\n\nEntrada a taquilla: 19 € \n  \n\n\n18:00 h Apertura puertas\n19:00 h  WHITE TYGËR / 19:45 h STOP STOP!
URL:https://jazzbah.es/event/stop-stop-white-tyger/
CATEGORIES:2024,25è Aniversari,Concerts,Destacats,Jazzbah,P-tardeo
ATTACH;FMTTYPE=image/jpeg:https://jazzbah.es/wp-content/uploads/2024/05/Slide-Jazzbah-2.jpg
END:VEVENT
BEGIN:VEVENT
DTSTART;TZID=Europe/Paris:20241116T200000
DTEND;TZID=Europe/Paris:20241116T200000
DTSTAMP:20260419T220123
CREATED:20240620T135745Z
LAST-MODIFIED:20240620T140043Z
UID:2780-1731787200-1731787200@jazzbah.es
SUMMARY:Homenatge Sente Fontestad Concert de Ja T'ho Diré+Amics / Obeses / Leonmanso
DESCRIPTION:9 NOVEMBRE. SALA LA MIRONA (SALT\, GIRONA)\n16 NOVEMBRE. SALA POLIVALENT CANAL SALAT (CIUTADELLA DE MENORCA) \nHomenatge a Sente Fontestad\, bateria de Ja t’ho diré: El proper novembre ens retrobarem amics i músics per fer 2 únics concerts que tindran lloc a Salt i a Ciutadella de Menorca\, on hi actuarem Leonmanso\, Obeses i\, especialment per a l’ocasió\, els Ja t’ho Diré acompanyat de molts d’amics. Els beneficis aniran íntegrament a l’Associació Espanyola contra el Càncer de Menorca. \nVenda d’entrades: https://rgb.cat/management/homenatge/ \nEls beneficis aniran íntegrament a l’Associació Espanyola contra el Càncer de Menorca \nDescarregar document d’accés menors de 16 anys aquí (concert Ciutadella) 
URL:https://jazzbah.es/event/homenatge-sente-fontestad-concert-de-ja-tho-dire-amics-obeses-leonmanso/
CATEGORIES:2024,Concerts,Destacats,Sala Polivalent Canal Salat
ATTACH;FMTTYPE=image/png:https://jazzbah.es/wp-content/uploads/2024/06/slide-sente.png
END:VEVENT
BEGIN:VEVENT
DTSTART;TZID=Europe/Paris:20241122T210000
DTEND;TZID=Europe/Paris:20241122T210000
DTSTAMP:20260419T220123
CREATED:20241025T134711Z
LAST-MODIFIED:20241025T134819Z
UID:3021-1732309200-1732309200@jazzbah.es
SUMMARY:Les Nits del Casino Comedy | DANI MORLÁ Y SUS AMIGOS... RAVENTÓS
DESCRIPTION:LES NITS DEL CASINO COMEDY presenta: DANI MORLÁ Y SUS AMIGOS… RAVENTÓS Un show de comèdia\, cultura catalana i menorquina! \nDani Morlá estrena espectacle! Aquesta vegada\, ho fa de la mà del gran humorista Raventós. Junts arriben a Les Nits del Casino Comedy amb un nou i esbojarrat show que combina humor\, cultura catalana i menorquina. \nPrepara’t per una nit de comèdia inoblidable\, plena de rialles\, curiositats sobre la nostra terra\, consells per millorar la nostra llengua i\, sobretot\, una bona dosi de ximpleries! \nQuè pots esperar?\nGags que ens fan riure mentre ens ensenyen\, anècdotes delicioses sobre la nostra cultura i aquell toc irreverent i únic que només Dani Morlá i el seu bon amic Raventós saben oferir. Un espectacle que uneix tradició i humor local amb ximpleries a cabassos per fer-te passar una nit d’humor i diversió sense parar! \nEntrades:\n20 primeres a preu reduït: 8€ (+dg)\nAnticipada: 10€ (+dg)\nhttps://entradas.codetickets.com/entradas/dani-morla-y-sus-amigos—-raventos/62395/casino-17-de-gener/online\nTaquilla: 12€ \n* Aforament limitat\n** Servei de bar dins el teatre\n*** Espectacle no apte per a menors de 18 anys
URL:https://jazzbah.es/event/les-nits-del-casino-comedy-dani-morla-y-sus-amigos-raventos/
CATEGORIES:2024,Concerts,Destacats,Les nits del Casino Comedy,Teatre Casino 17 de gener
ATTACH;FMTTYPE=image/jpeg:https://jazzbah.es/wp-content/uploads/2024/10/Slide-Jazzbah.jpg
END:VEVENT
BEGIN:VEVENT
DTSTART;TZID=Europe/Paris:20241123T190000
DTEND;TZID=Europe/Paris:20241123T190000
DTSTAMP:20260419T220123
CREATED:20240918T161916Z
LAST-MODIFIED:20241104T180134Z
UID:3013-1732388400-1732388400@jazzbah.es
SUMMARY:LOS NIÑOS JESÚS amb JORDI ÉVOLE
DESCRIPTION:La banda de Jordi Évole i amics torna al Jazzbah per oferir una altra ptardeo ple d’energia i diversió. Després d’un estiu trepidant amb concerts arreu de l’Estat\, tornen a aquest escenari icònic per seguir fent gaudir el públic. \nDurant els seus concerts\, han comptat amb la col·laboració d’artistes tan destacats com Amaral\, Lori Meyers\, Kiko Veneno\, Albert Pla\, La La Love You\, Elefantes\, i molts més. A més\, el seu repertori inclou versions de grans noms com C. Tangana\, Extremoduro\, Estopa\, Jarabe de Palo i altres\, oferint un recorregut per diversos estils musicals que garanteixen una experiència sorprenent. \nUn concert festiu on l’objectiu principal és passar-ho bé amb bona música\, un ambient carregat de complicitat i moltes sorpreses. Si vols gaudir d’una nit inoblidable\, aquest és el teu concert! \nAforament limitat. \nObertura portes: 18h\nConcert : 19h \nEntrada anticipada: 15€ (+dg)\nhttps://entradas.codetickets.com/entradas/los-ninos-jesus-amb-jordi-evole_4645/60479/jazzbah/online\n \nEntrada a taquilla: 18€
URL:https://jazzbah.es/event/los-ninos-jesus-amb-jordi-evole-2/
CATEGORIES:2024,25è Aniversari,Concerts,Destacats,Jazzbah,P-tardeo
ATTACH;FMTTYPE=image/png:https://jazzbah.es/wp-content/uploads/2024/09/slide-Los-ninos-jesus-.png
END:VEVENT
BEGIN:VEVENT
DTSTART;TZID=Europe/Paris:20241130T190000
DTEND;TZID=Europe/Paris:20241130T190000
DTSTAMP:20260419T220123
CREATED:20240906T155340Z
LAST-MODIFIED:20240906T155519Z
UID:3003-1732993200-1732993200@jazzbah.es
SUMMARY:THE BUZZ LOVERS (The best Nirvana world tribute)
DESCRIPTION:TEEN SPIRIT WORLD TOUR 2024-2027 \nThe Buzz Lovers visitará la sala Jazzbah de Ciutadella (Menorca) el próximo 30 de noviembre de 2024\, fecha que formará parte de su gira más ambiciosa hasta el momento\, con un directo electrizante que promete recrear los directos de la mítica banda Nirvana\, sumergiéndose en un espectáculo de alta fidelidad para el deleite de todos los entusiastas presentes. \n“Teen Spirit Word Tour” comprenderá una larga lista de conciertos iniciada en agosto de 2024 y que se extenderá hasta 2027\, recorriendo los principales escenarios de multitud de ciudades y países. \n………………………………………………………………………………………………………………………………………… \nThe Buzz Lovers visitarà la sala Jazzbah de Ciutadella (Menorca) el proper 30 de novembre de 2024\, data que formarà part de la seva gira més ambiciosa fins ara\, amb un directe electritzant que promet recrear els directes de la mítica banda Nirvana\, submergint-se en un espectacle d’alta fidelitat per al delit de tots els entusiastes presents. \n“Teen Spirit Word Tour” comprendrà una llarga llista de concerts iniciada a l’agost del 2024 i que s’estendrà fins al 2027\, recorrent els principals escenaris de multitud de ciutats i països. ja disponibles. \nAnticipada: 18 €\nhttps://ticketib.com/events/the-buzz-lovers-tribut-a-nirvana-jazzbah-ciutadella#\n\nTaquilla: 23 € \nIncici concert: 19:00 h\nObertura portes: 18:00 h \n 
URL:https://jazzbah.es/event/the-buzz-lovers-the-best-nirvana-world-tribute/
CATEGORIES:2024,25è Aniversari,Concerts,Destacats,Jazzbah,P-tardeo
ATTACH;FMTTYPE=image/png:https://jazzbah.es/wp-content/uploads/2024/09/THE-BUZZ-LOVERS.png
END:VEVENT
END:VCALENDAR