BEGIN:VCALENDAR
VERSION:2.0
PRODID:-//Jazzbah (Port de Ciutadella) - ECPv6.15.20//NONSGML v1.0//EN
CALSCALE:GREGORIAN
METHOD:PUBLISH
X-WR-CALNAME:Jazzbah (Port de Ciutadella)
X-ORIGINAL-URL:https://jazzbah.es
X-WR-CALDESC:Esdeveniments per Jazzbah (Port de Ciutadella)
REFRESH-INTERVAL;VALUE=DURATION:PT1H
X-Robots-Tag:noindex
X-PUBLISHED-TTL:PT1H
BEGIN:VTIMEZONE
TZID:Europe/Paris
BEGIN:DAYLIGHT
TZOFFSETFROM:+0100
TZOFFSETTO:+0200
TZNAME:CEST
DTSTART:20230326T010000
END:DAYLIGHT
BEGIN:STANDARD
TZOFFSETFROM:+0200
TZOFFSETTO:+0100
TZNAME:CET
DTSTART:20231029T010000
END:STANDARD
BEGIN:DAYLIGHT
TZOFFSETFROM:+0100
TZOFFSETTO:+0200
TZNAME:CEST
DTSTART:20240331T010000
END:DAYLIGHT
BEGIN:STANDARD
TZOFFSETFROM:+0200
TZOFFSETTO:+0100
TZNAME:CET
DTSTART:20241027T010000
END:STANDARD
BEGIN:DAYLIGHT
TZOFFSETFROM:+0100
TZOFFSETTO:+0200
TZNAME:CEST
DTSTART:20250330T010000
END:DAYLIGHT
BEGIN:STANDARD
TZOFFSETFROM:+0200
TZOFFSETTO:+0100
TZNAME:CET
DTSTART:20251026T010000
END:STANDARD
END:VTIMEZONE
BEGIN:VEVENT
DTSTART;TZID=Europe/Paris:20240702T210000
DTEND;TZID=Europe/Paris:20240702T210000
DTSTAMP:20260420T043457
CREATED:20240610T141715Z
LAST-MODIFIED:20240611T073628Z
UID:2750-1719954000-1719954000@jazzbah.es
SUMMARY:Ramé
DESCRIPTION:Ramé és una banda de pop-folk amb un repertori cent per cent original compost de cançons escrites en català i anglès. La seva música transporta l’oient a un espai íntim de reflexió\, que es combina amb d’altres passatgers energètics que conviden a celebrar la vida. \nEl grup està integrat per Andreu Barceló (Ciutadella\, 1997)\, Pau Casares (Barcelona\, 1997) i Francesc Aparicio (Palma\, 1996). Aquest origen disseminat entre Menorca\, Mallorca i Barcelona impregna la seva música d’una mediterraneïtat característica que hi és molt present en les seves lletres\, que parlen de l’amor\, de la família o de la distància\, sovint amb un estil costumista per bé que profund. \n“Ceràmica i fang”\, és l’últim EP del grup. Una obra íntima i quotidiana\, amb un toc de nostàlgia. Cada melodia narra la història d’una persona significativa per algun dels integrants. Tot i això\, lluny de ser percebut com un àlbum trist o melancòlic\, esdevé una obra extraordinàriament propera. Cada cançó està repleta de records\, que ressonen amb els oients i els porten a reviure els seus propis records personals. \n  \nEntrada anticipada 8 € (+dg)\nhttps://entradas.codetickets.com/entradas/rame/57460/casino-17-de-gener/online \n12 € taquilla  \nUBICACIÓ: Teatre del Casino 17 de Gener. Avinguda Constitució\, 18 (Ciutadella de Menorca)
URL:https://jazzbah.es/event/rame/
CATEGORIES:2024,Concerts,Destacats,Teatre Casino 17 de gener
ATTACH;FMTTYPE=image/png:https://jazzbah.es/wp-content/uploads/2024/06/rame-web.png
END:VEVENT
BEGIN:VEVENT
DTSTART;TZID=Europe/Paris:20240703T235900
DTEND;TZID=Europe/Paris:20240703T235900
DTSTAMP:20260420T043457
CREATED:20240630T170459Z
LAST-MODIFIED:20240630T170748Z
UID:2811-1720051140-1720051140@jazzbah.es
SUMMARY:B**ch Bangers
DESCRIPTION:B**ch Bangers torna per segona vegada al Jazzbah per a fer-nos reviure els millors ‘temons’ de l’estiu que van marcar la epoca de mes d’un. En aquesta edició comptem amb DA BEAT com a convidat especial! La nova cara del reconegut artista català An Der Beat\, discjockey versàtil i amb anys d’experiència que ens portarà una nova sessió especial a vinil per a posar la sala del revés. \n\n\n A més dels nostres fidels residents i creadors d’aquesta nit @legong.music i @newjossh 
URL:https://jazzbah.es/event/bch-bangers-2/
CATEGORIES:2024,25è Aniversari,Concerts,Destacats,Dj,Jazzbah
ATTACH;FMTTYPE=image/jpeg:https://jazzbah.es/wp-content/uploads/2024/06/Slide-Jazzbah-3.jpg
END:VEVENT
BEGIN:VEVENT
DTSTART;TZID=Europe/Paris:20240704T213000
DTEND;TZID=Europe/Paris:20240704T213000
DTSTAMP:20260420T043457
CREATED:20240630T074640Z
LAST-MODIFIED:20240702T170951Z
UID:2791-1720128600-1720128600@jazzbah.es
SUMMARY:Casino Jazz Club: Swing Quartet
DESCRIPTION:Aquest estiu el Teatre del Casino es torna a vestir amb les seves millors gales per a oferir-vos una experiència única. Gaudeix del millor jazz\, swing i soul amb actuacions en directe\, molt de ball i copes servides amb elegància. \n20:30 h. Classe Oberta de LINDY HOP. Aprèn a ballar la música de Swing abans del concert. (Apte per a tots els nivells). \n 21:30 h. Concert: Swing Quartet \nEntrades a taquilla: 8 €\nPREU ESPECIAL: Socis Casino 17 de Gener i Jazz Obert: 5 € (mostrant el carnet de soci a taquilla) \nUBICACIÓ: Teatre del Casino 17 de Gener. Avinguda Constitució\, 18 (Ciutadella de Menorca)
URL:https://jazzbah.es/event/2791/
CATEGORIES:2024,25è Aniversari,Casino Jazz Club,Concerts,Destacats,Teatre Casino 17 de gener
ATTACH;FMTTYPE=image/jpeg:https://jazzbah.es/wp-content/uploads/2024/06/Slide-Jazzbah-2.jpg
END:VEVENT
BEGIN:VEVENT
DTSTART;TZID=Europe/Paris:20240704T233000
DTEND;TZID=Europe/Paris:20240704T233000
DTSTAMP:20260420T043457
CREATED:20240529T135202Z
LAST-MODIFIED:20240702T161148Z
UID:2682-1720135800-1720135800@jazzbah.es
SUMMARY:Els Funkiss
DESCRIPTION:Els Funkiss és una banda de funk nascuda a principis del 2021 a la població mallorquina d’Artà.\nComponen cançons de “funk fusió” fresc i ballador. \nDisposen d’un repertori variat de versions passades pel filtre funk que els caracteritza. \n\nEls Funkiss et conviden a sacsejar el cos i la consciència amb un directe atrevit\, participatiu i per damunt de tot amb molt de ritme! El propòsit del grup és estendre el funky pel territori amb tota l’energia i passió que l’estil demana. \nUn concert que no et pots perdre. \n\nEntrada lliure
URL:https://jazzbah.es/event/els-funkiss/
CATEGORIES:2024,25è Aniversari,Concerts,Destacats,Jazzbah
ATTACH;FMTTYPE=image/png:https://jazzbah.es/wp-content/uploads/2024/05/imatge-els-funkiss-web.png
END:VEVENT
BEGIN:VEVENT
DTSTART;TZID=Europe/Paris:20240704T235900
DTEND;TZID=Europe/Paris:20240704T235900
DTSTAMP:20260420T043457
CREATED:20240701T184611Z
LAST-MODIFIED:20240701T184611Z
UID:2824-1720137540-1720137540@jazzbah.es
SUMMARY:Funky Night
DESCRIPTION:Una vetllada que comença amb el concert de ELS FUNKISS i que després continua amb dos grans exponents dins de l’escena local. \nUs presentem a Marco Herbert & Bombastico\, un duo carregat d’energia que ve des del llevant de l’illa per fer-nos ballar amb els millors ritmes soul\, disco i funk dels 80 fins avui. \nDonem-los una calorosa benvinguda i no us perdeu aquest vespre únic!
URL:https://jazzbah.es/event/funky-night/
CATEGORIES:2024,25è Aniversari,Concerts,Destacats,Dj,Jazzbah,Party
ATTACH;FMTTYPE=image/jpeg:https://jazzbah.es/wp-content/uploads/2024/07/Slide-Jazzbah.jpg
END:VEVENT
BEGIN:VEVENT
DTSTART;TZID=Europe/Paris:20240705T233000
DTEND;TZID=Europe/Paris:20240705T233000
DTSTAMP:20260420T043457
CREATED:20240529T135500Z
LAST-MODIFIED:20240702T161058Z
UID:2687-1720222200-1720222200@jazzbah.es
SUMMARY:Tremendu/Tremendamente
DESCRIPTION:Tremendu beu de la rumba\, del reggae\, del rock fet a la vora del foc\, de les frases sospirades entre el fum i les mirades dels amics\, desperdigats\, retrobats\, ben trobats. \nFaré Bondat és una promesa cantada sota els llençols humits\, a la barra dels bars que l’acullen nits de cabòries confuses. Els dubtes de la vida mirats des de l’altra banda del riu. És un àlbum fet de dies de tot que convergeixen en 10 cançons inspirades a l’ombra del Cabrerès i les margeres de la plana de Vic. Un oasi de ganes de ballar amb els peus descalços\, sobre les fulles arremolinades de tardor. Sempre com mai\, així diu\, el bandoler vestit de colors\, el bandarra de llengua àgil amb una guitarra entre els dits. Et fa sentir lliure de saber la sort que tens cada dia\, quan t’esperona el batec cada cop més ferm\, del dia que es desperta\, a poc a poc\, amb persistència i bon humor. Diu que podem ser uns romàntics\, sense por a ser cursis\, i cantar a la lluna o a les ferides de l’experiència.  \nPerquè dels problemes en fa poemes\, i així\, les hores formen un estrany miratge del temps que córrer i es grava en les paraules valentes\, dites o callades\, cridades o xiuxiuejades. \nQuan en Tremendu es perd és perquè vola. Vola ben amunt. \nEntrada lliure
URL:https://jazzbah.es/event/tremendu-tremendamente/
CATEGORIES:2024,25è Aniversari,Concerts,Destacats,Jazzbah
ATTACH;FMTTYPE=image/png:https://jazzbah.es/wp-content/uploads/2024/05/slide-tremendu_tremendamente.png
END:VEVENT
BEGIN:VEVENT
DTSTART;TZID=Europe/Paris:20240708T233000
DTEND;TZID=Europe/Paris:20240708T233000
DTSTAMP:20260420T043457
CREATED:20240529T134852Z
LAST-MODIFIED:20240702T161015Z
UID:2677-1720481400-1720481400@jazzbah.es
SUMMARY:James Kirby
DESCRIPTION:El cantautor i multiinstrumentista guardonat\, James Kirby\, ha construït una base de fans internacional fidel durant els darrers anys\, \nHa omplert sales de concerts captivant el públic de tot el món amb la seva veu suau i la seva distintiva guitarra acústica. Barrejant elements de folk\, pop\, blues\, indie rock i piano\, les seves composicions van des de temes ràpids i furiosos fins més melòdics i intimistes. \nUn artista i un concert molt especial que no et pots perdre. \nEntrada lliure \nUBICACIÓ: Jazzbah Port de Ciutadella
URL:https://jazzbah.es/event/james-kirby-9/
CATEGORIES:2024,25è Aniversari,Concerts,Destacats,Jazzbah
ATTACH;FMTTYPE=image/png:https://jazzbah.es/wp-content/uploads/2024/05/slide-james-kirby.png
END:VEVENT
BEGIN:VEVENT
DTSTART;TZID=Europe/Paris:20240710T210000
DTEND;TZID=Europe/Paris:20240710T210000
DTSTAMP:20260420T043457
CREATED:20240529T132500Z
LAST-MODIFIED:20240604T144525Z
UID:2661-1720645200-1720645200@jazzbah.es
SUMMARY:Santi Balmes\, Julián Saldarriaga\, Dani Ferrer (Membres LOVE OF LESBIAN)
DESCRIPTION:“CONCERT EXCLUSIU 25 ANYS JAZZBAH”\n \n\n\n\nEl Teatre del Casino es convertirà en el marc d’una experiència musical única amb Santi Balmes\, Julián Saldarriaga i Dani Ferrer\, membres de Love of Lesbian. \n\nFora dels grans concerts i festivals d’estiu\, aquests tres amics i components de Love of Lesbian treuen a la llum en exclusives ocasions el repertori de la banda d’una manera nua i descoberta\, i el vesteixen amb anècdotes i conversant amb el públic. En aquesta ocasió\, a més\, Santi\, Julián i Dani presentaran en format acústic ‘Contradicción’ i ¿Qué vas a saber?‘\, els dos primers avenços del seu nou disc ‘Ejército de Salvación’\, que sortirà a la llum el proper 11 d’octubre. \nSerà una ocasió doblement especial. \nNo us ho perdeu! \n\nPreu: 28 € (+dg) / 35 € taquilla\nhttps://entradas.codetickets.com/entradas/santi-balmes-julian-saldarriaga-dani-ferrer-membres-love-/57124/casino-17-de-gener/online \nUBICACIÓ: Teatre del Casino 17 de Gener. Avinguda Constitució\, 18 (Ciutadella de Menorca)
URL:https://jazzbah.es/event/2661/
CATEGORIES:2024,25è Aniversari,Concerts,Destacats,Teatre Casino 17 de gener
ATTACH;FMTTYPE=image/png:https://jazzbah.es/wp-content/uploads/2024/05/slide-lol.png
END:VEVENT
BEGIN:VEVENT
DTSTART;TZID=Europe/Paris:20240710T234500
DTEND;TZID=Europe/Paris:20240710T234500
DTSTAMP:20260420T043457
CREATED:20240617T183130Z
LAST-MODIFIED:20240617T183130Z
UID:2773-1720655100-1720655100@jazzbah.es
SUMMARY:BAH! Opening 'DE LA SWING'
DESCRIPTION:elRow es un fenómeno de masas por todo el mundo\, así que no podía faltar tener en Bah! a uno de sus míticos residentes desde hace mas de 10 años. Para el opening de la temporada de verano contaremos con DE LA SWING\, sin duda uno de los djs mas representativos de la exitosa marca. Groove con un tech house divertido y vacilón harán de esta noche un recuerdo con mucho flow. \nhttps://entradas.codetickets.com/entradas/los-santos-presentan-bah-opening-de-la-swing-t-jazzbah-/57437/lossantos/online
URL:https://jazzbah.es/event/bah-opening-de-la-swing/
CATEGORIES:2024,25è Aniversari,Bah!,Concerts,Destacats,Dj,Jazzbah
ATTACH;FMTTYPE=image/jpeg:https://jazzbah.es/wp-content/uploads/2024/06/Slide-Jazzbah-1.jpg
END:VEVENT
BEGIN:VEVENT
DTSTART;TZID=Europe/Paris:20240711T213000
DTEND;TZID=Europe/Paris:20240711T213000
DTSTAMP:20260420T043457
CREATED:20240630T074939Z
LAST-MODIFIED:20240630T074939Z
UID:2795-1720733400-1720733400@jazzbah.es
SUMMARY:Casino Jazz Club: Gigi McFarlane
DESCRIPTION:Aquest estiu el Teatre del Casino es torna a vestir amb les seves millors gales per a oferir-vos una experiència única. Gaudeix del millor jazz\, swing i soul amb actuacions en directe\, molt de ball i copes servides amb elegància. \n20:30 h. Classe Oberta de LINDY HOP. Aprèn a ballar la música de Swing abans del concert. (Apte per a tots els nivells). \n 21:30 h. Concert: Gigi McFarlane \nEntrades a taquilla: 8 €\nPREU ESPECIAL: Socis Casino 17 de Gener i Jazz Obert: 5 € (mostrant el carnet de soci a taquilla) \nUBICACIÓ: Teatre del Casino 17 de Gener. Avinguda Constitució\, 18 (Ciutadella de Menorca)
URL:https://jazzbah.es/event/casino-jazz-club-gigi-mcfarlane/
CATEGORIES:2024,25è Aniversari,Casino Jazz Club,Concerts,Destacats,Teatre Casino 17 de gener
ATTACH;FMTTYPE=image/jpeg:https://jazzbah.es/wp-content/uploads/2024/06/Slide-Jazzbah-2.jpg
END:VEVENT
BEGIN:VEVENT
DTSTART;TZID=Europe/Paris:20240712T233000
DTEND;TZID=Europe/Paris:20240712T233000
DTSTAMP:20260420T043457
CREATED:20240602T175526Z
LAST-MODIFIED:20240706T100620Z
UID:2737-1720827000-1720827000@jazzbah.es
SUMMARY:Gigi McFarlane
DESCRIPTION:Gigi McFarlane\, cantant/guitarrista d’arrels jamaicanes\, va viure part de la seva infància a Menorca\, torna al Jazzbah acompanyada d’en Cristian Torres al comandament de loops\, beats & teclat. Un concert festiu i carregat de ritmes Disco/Dance dels 90’s fins a temes actuals entre cançons originals. Pura energía sobre l’escenari. \nEntrada lliure \nUBICACIÓ: Jazzbah Port de Ciutadella
URL:https://jazzbah.es/event/mcfarlane/
CATEGORIES:2024,25è Aniversari,Concerts,Destacats,Jazzbah
ATTACH;FMTTYPE=image/png:https://jazzbah.es/wp-content/uploads/2024/06/slide-GIGI-Jazzbah.png
END:VEVENT
BEGIN:VEVENT
DTSTART;TZID=Europe/Paris:20240717T235900
DTEND;TZID=Europe/Paris:20240717T235900
DTSTAMP:20260420T043457
CREATED:20240704T162200Z
LAST-MODIFIED:20240704T162232Z
UID:2855-1721260740-1721260740@jazzbah.es
SUMMARY:Inner City Dreams
DESCRIPTION:INNER CITY DREAMS \, la nova proposta de l’artista Vic504\, arriba per primer cop al Jazzbah! Un vespre alternatiu que ens depara una gran varietat de ritmes i melodíes on sonaran estils com el Breakbeat\, l’Electro\, el Speed Garage i el Ghetto House entre altres.\n\nAquesta primera edició amb un line up molt especial format per RMG\, Dj Bass i el propi Vic504. Grans exponents dins de l’escena local\, que amés contaràn amb la companyía de BOCABEATS com a artista convidat. Dj i productor musical mallorquí que no ens deixarà indiferents amb el seu so únic i divers. \n\n\nUn vespre llest per fernos ballar durant hores. No us el perdeu! \n\n\nEntrada lliure
URL:https://jazzbah.es/event/inner-city-dreams/
CATEGORIES:2024,25è Aniversari,Concerts,Destacats,Dj,Jazzbah
ATTACH;FMTTYPE=image/jpeg:https://jazzbah.es/wp-content/uploads/2024/07/Slide-Jazzbah-2.jpg
END:VEVENT
BEGIN:VEVENT
DTSTART;TZID=Europe/Paris:20240718T213000
DTEND;TZID=Europe/Paris:20240718T213000
DTSTAMP:20260420T043457
CREATED:20240630T075144Z
LAST-MODIFIED:20240702T174816Z
UID:2797-1721338200-1721338200@jazzbah.es
SUMMARY:Casino Jazz Club: Our Five Band amb Anna Szostack
DESCRIPTION:Aquest estiu el Teatre del Casino es torna a vestir amb les seves millors gales per a oferir-vos una experiència única. Gaudeix del millor jazz\, swing i soul amb actuacions en directe\, molt de ball i copes servides amb elegància. \n20:30 h. Classe Oberta de LINDY HOP. Aprèn a ballar la música de Swing abans del concert. (Apte per a tots els nivells). \n 21:30 h. Concert: Our Five Band amb Anna Szostack \nEntrades a taquilla: 8 €\nPREU ESPECIAL: Socis Casino 17 de Gener i Jazz Obert: 5 € (mostrant el carnet de soci a taquilla) \nUBICACIÓ: Teatre del Casino 17 de Gener. Avinguda Constitució\, 18 (Ciutadella de Menorca)
URL:https://jazzbah.es/event/casino-jazz-club-our-five-band/
CATEGORIES:2024,25è Aniversari,Casino Jazz Club,Concerts,Destacats,Teatre Casino 17 de gener
ATTACH;FMTTYPE=image/jpeg:https://jazzbah.es/wp-content/uploads/2024/06/Slide-Jazzbah-2.jpg
END:VEVENT
BEGIN:VEVENT
DTSTART;TZID=Europe/Paris:20240718T233000
DTEND;TZID=Europe/Paris:20240718T233000
DTSTAMP:20260420T043457
CREATED:20240704T155532Z
LAST-MODIFIED:20240704T155646Z
UID:2851-1721345400-1721345400@jazzbah.es
SUMMARY:Malánima
DESCRIPTION:MALÁNIMA és un dels nostres artistes emergents de l’illa amb caràcter més explosiu. Un projecte que comença a principis de 2022 amb Ángel Gómez com a cantant\, guitarrista i productor i Iris Medina\, com a corista i artista visual. Que acumula seguidors desde d’un primer moment i que es consolida amb la publicació d’un primer EP conegut com a “TFG” (Todo Fatal Gracias). \nL’artista polifacètic que destaca per fusionar estils com el flamenco\, el pop o el punk rock amb una nova onada de matisos urbans i electrònics. Acumula actuacions per sales de renom com Meteoro i Freedonia a Barcelona o la Sala Maravillas a Madrid\, i torna al Jazzbah per segon cop per presentar el seu nou treball altament esperat\, “MOÑADAS”. \nAquesta vegada acompanyat a més a més de tres artistes reconeguts dins l’escena catalana com son FIAPPII\, 8KEYS i NEISHA. Que ens faran una mostra exclusiva dels seus últims llançaments. \nUn showcase ple d’energía quen no us podeu perdre! \nEntrada lliure \nUbicació: JAZZBAH
URL:https://jazzbah.es/event/malanima2/
CATEGORIES:2024,25è Aniversari,Concerts,Destacats,Jazzbah
ATTACH;FMTTYPE=image/jpeg:https://jazzbah.es/wp-content/uploads/2024/07/Slide-Jazzbah-1.jpg
END:VEVENT
BEGIN:VEVENT
DTSTART;TZID=Europe/Paris:20240719T233000
DTEND;TZID=Europe/Paris:20240719T233000
DTSTAMP:20260420T043457
CREATED:20240530T135012Z
LAST-MODIFIED:20240605T085615Z
UID:2709-1721431800-1721431800@jazzbah.es
SUMMARY:Litus
DESCRIPTION:Cantant\, guitarrista\, pianista\, compositor i actor\, a Litus se l’ha pogut veure cada nit com a frontman de la banda musical de “Late Motiv”\, el programa d’Andreu Buenafuente\, en emissió durant 7 temporades a # Canal 0 de Movistar +. Una activitat que ha compaginat com a actor en diverses obres de teatre musical –l’exitosa Lehman Trilogy o el darrer musical sobre la rumba –Chakapum- en són bons exemples. La personalitat de Litus s’estén també en diverses seccions pròpies a la ràdio o\, la darrera aventura\, El Camerino\, un original programa televisiu en què conversa distesament amb diversos músics del panorama nacional actual. A banda de tota aquesta activitat creativa\, Litus compta amb 7\ntreballs propis com a líder i múltiples col·laboracions. \nImpetuós\, escènic i comunicatiu\, Litus és una cruïlla de diversos estils. La seva música transita pel soul\, el pop o la rumba en convivència pacífica amb el funk\, el folk o el rock. De variades inflexions vocals\, les seves cançons son elegants\, riques en instrumentació i amb tornades enèrgiques i entranyables. \nEls seus concerts són un show total impregnats d’energia i bon gust\, amb un directe sense embuts fruit de l’experiència obtinguda durant els 25 anys de trajectòria que l’han convertit en un dels artistes més versàtils i singulars del moment. \nPreu: 10 € (+dg) \nhttps://entradas.codetickets.com/entradas/litus/57215/jazzbah/online \nUBICACIÓ: Jazzbah Port de Ciutadella
URL:https://jazzbah.es/event/litus/
CATEGORIES:2024,25è Aniversari,Concerts,Destacats,Jazzbah
ATTACH;FMTTYPE=image/png:https://jazzbah.es/wp-content/uploads/2024/05/slide-LITUS.png
END:VEVENT
BEGIN:VEVENT
DTSTART;TZID=Europe/Paris:20240724T213000
DTEND;TZID=Europe/Paris:20240724T213000
DTSTAMP:20260420T043457
CREATED:20240630T075313Z
LAST-MODIFIED:20240704T115454Z
UID:2799-1721856600-1721856600@jazzbah.es
SUMMARY:Casino Jazz Club: Our Five Band amb Anna Szostack
DESCRIPTION:Aquest estiu el Teatre del Casino es torna a vestir amb les seves millors gales per a oferir-vos una experiència única. Gaudeix del millor jazz\, swing i soul amb actuacions en directe\, molt de ball i copes servides amb elegància. \n20:30 h. Classe Oberta de LINDY HOP. Aprèn a ballar la música de Swing abans del concert. (Apte per a tots els nivells). \n 21:30 h. Concert: Our Five Band amb Anna Szostack \nEntrades a taquilla: 8 €\nPREU ESPECIAL: Socis Casino 17 de Gener i Jazz Obert: 5 € (mostrant el carnet de soci a taquilla) \nUBICACIÓ: Teatre del Casino 17 de Gener. Avinguda Constitució\, 18 (Ciutadella de Menorca)
URL:https://jazzbah.es/event/casino-jazz-club-our-five-band-2/
CATEGORIES:2024,25è Aniversari,Casino Jazz Club,Concerts,Destacats,Teatre Casino 17 de gener
ATTACH;FMTTYPE=image/jpeg:https://jazzbah.es/wp-content/uploads/2024/06/Slide-Jazzbah-2.jpg
END:VEVENT
BEGIN:VEVENT
DTSTART;TZID=Europe/Paris:20240724T234500
DTEND;TZID=Europe/Paris:20240724T234500
DTSTAMP:20260420T043457
CREATED:20240716T134140Z
LAST-MODIFIED:20240716T134140Z
UID:2874-1721864700-1721864700@jazzbah.es
SUMMARY:BAH! Skryption
DESCRIPTION:Desde la factoría BLACKWORKS nos visita uno de sus referentes: SKRYPTION \nSin duda la mejor fiesta de hardtechno en la actualidad vuelve a visitarnos después del paso el año pasado de DEXPHASE \nEntradas anticipadas\nhttps://entradas.codetickets.com/entradas/los-santos-presentan-bah–skryption–blackworks—t-jazzbah-/58726/lossantos/online
URL:https://jazzbah.es/event/bah-skryption/
CATEGORIES:2024,25è Aniversari,Bah!,Concerts,Destacats,Dj,Jazzbah
ATTACH;FMTTYPE=image/jpeg:https://jazzbah.es/wp-content/uploads/2024/07/Slide-Jazzbah-4.jpg
END:VEVENT
BEGIN:VEVENT
DTSTART;TZID=Europe/Paris:20240726T233000
DTEND;TZID=Europe/Paris:20240726T233000
DTSTAMP:20260420T043457
CREATED:20240529T132947Z
LAST-MODIFIED:20240704T115741Z
UID:2668-1722036600-1722036600@jazzbah.es
SUMMARY:Socunbohemio
DESCRIPTION:Socunbohemio és l’àlies del jove barceloní Artur Viñas. L’acompanya la producció Biel Colomer (Massaviu)\, a més de formar part de la banda de directe que és completa amb òscar Acón i Gerard López. El projecte neix l’any 2018\, però és a partir del 2020 amb la publicació de l’EP “Les coses que no et diré mai” que comença a guanyar adeptes de forma molt destacada. \nAl 2023 arriba per fi el seu esperat disc de debut\, ´Contes de les Quatre Estacions´\, que el converteix en una de les figures amb més projecció de l´escena catalana actual. \nEntrada lliure \nUBICACIÓ: Jazzbah Port de Ciutadella
URL:https://jazzbah.es/event/socunbohemio/
CATEGORIES:2024,25è Aniversari,Concerts,Destacats,Jazzbah
ATTACH;FMTTYPE=image/png:https://jazzbah.es/wp-content/uploads/2024/05/Copia-de-Copia-de-Copia-de-Copia-de-Copia-de-Copia-de-Copia-de-Copia-de-Cop_20240612_165250_0000.png
END:VEVENT
BEGIN:VEVENT
DTSTART;TZID=Europe/Paris:20240726T235900
DTEND;TZID=Europe/Paris:20240726T235900
DTSTAMP:20260420T043457
CREATED:20240719T180035Z
LAST-MODIFIED:20240719T180035Z
UID:2881-1722038340-1722038340@jazzbah.es
SUMMARY:Ley Dj
DESCRIPTION:Ley DJ torna al Jazzbah! Ara que ha arribat l’estiu toca l’aparició mensual de la nostra resident més enèrgica. \nUna de les majors exponents de l’indie espanyol torna a l’illa per posar la sala a temperatura d’ebullició. Coneguda per la seva fusió d’estils pop i electrònica\, Ley és una artista que no deixa indiferent a ningú. Amb sets plens de carisma i energía i una carrera que acumula actuacions per els millors festivals de la península\, sens dubte és una data que no us voleu perdre. \nTeniu ganes de ballar? No us perdeu aquest gran vespre acompañat dels nostres grans dj’s residents. @legong.music\n@newjossh \nENTRADA LLIURE
URL:https://jazzbah.es/event/ley-dj-8/
CATEGORIES:2024,25è Aniversari,Concerts,Destacats,Dj,Jazzbah
ATTACH;FMTTYPE=image/jpeg:https://jazzbah.es/wp-content/uploads/2024/07/Slide-Jazzbah-6.jpg
END:VEVENT
BEGIN:VEVENT
DTSTART;TZID=Europe/Paris:20240730T235900
DTEND;TZID=Europe/Paris:20240730T235900
DTSTAMP:20260420T043457
CREATED:20240704T162616Z
LAST-MODIFIED:20240718T190150Z
UID:2859-1722383940-1722383940@jazzbah.es
SUMMARY:Remember Reggaeton
DESCRIPTION:Les promotores SUGAR i CAOS s’ajunten aquest any per portar-nos una de les festes més animades de l’estiu! \nQuatre nits inoblidables dedicades a tots aquells que han viure el reggaetón el millor electrolatino del 2012 fins avui. \nDimarts 30 de juliol gran inauguració amb l’espectacular concert de HENRY MENDEZ per primer cop al Jazzbah. \nVine i reviu els millors moments del reggaetón amb nosaltres. Ens veiem en la pista de ball! \nEntrades\nhttps://www.fourvenues.com/sugar-menorca/WO7X
URL:https://jazzbah.es/event/caos-x-sugar-party/
CATEGORIES:2024,25è Aniversari,Concerts,Destacats,Dj,Jazzbah
ATTACH;FMTTYPE=image/jpeg:https://jazzbah.es/wp-content/uploads/2024/07/Slide-Jazzbah-5.jpg
END:VEVENT
BEGIN:VEVENT
DTSTART;TZID=Europe/Paris:20240731T233000
DTEND;TZID=Europe/Paris:20240731T233000
DTSTAMP:20260420T043457
CREATED:20240726T151110Z
LAST-MODIFIED:20240726T151447Z
UID:2888-1722468600-1722468600@jazzbah.es
SUMMARY:B**ch Bangers
DESCRIPTION:Torna la nostra festa més estiuenca! Prepara’t per un viatje en el temps per reviure els millors hits de l’era dels clàssics.  \n En aquesta edició amb els artistes convidats KIKE VALVERDE desde Madrid i el reconegut artista català MAADRAASSOO! Disc jockey amb més de 20 anys a l’escena Barcelonina on acumula residències a grans clubs com Jamboree i Razzmatazz. \n Amés dels nostres exepcionas residents NEWJOSS i LEGONG  \nNo us perdeu aquest vespre únic. Us esperem! \nEntrada lliure
URL:https://jazzbah.es/event/bangers/
CATEGORIES:2024,25è Aniversari,Concerts,Destacats,Dj,Jazzbah
ATTACH;FMTTYPE=image/jpeg:https://jazzbah.es/wp-content/uploads/2024/07/Slide-Jazzbah-7.jpg
END:VEVENT
END:VCALENDAR