BEGIN:VCALENDAR
VERSION:2.0
PRODID:-//Jazzbah (Port de Ciutadella) - ECPv6.15.20//NONSGML v1.0//EN
CALSCALE:GREGORIAN
METHOD:PUBLISH
X-ORIGINAL-URL:https://jazzbah.es
X-WR-CALDESC:Esdeveniments per Jazzbah (Port de Ciutadella)
REFRESH-INTERVAL;VALUE=DURATION:PT1H
X-Robots-Tag:noindex
X-PUBLISHED-TTL:PT1H
BEGIN:VTIMEZONE
TZID:Europe/Paris
BEGIN:DAYLIGHT
TZOFFSETFROM:+0100
TZOFFSETTO:+0200
TZNAME:CEST
DTSTART:20230326T010000
END:DAYLIGHT
BEGIN:STANDARD
TZOFFSETFROM:+0200
TZOFFSETTO:+0100
TZNAME:CET
DTSTART:20231029T010000
END:STANDARD
BEGIN:DAYLIGHT
TZOFFSETFROM:+0100
TZOFFSETTO:+0200
TZNAME:CEST
DTSTART:20240331T010000
END:DAYLIGHT
BEGIN:STANDARD
TZOFFSETFROM:+0200
TZOFFSETTO:+0100
TZNAME:CET
DTSTART:20241027T010000
END:STANDARD
BEGIN:DAYLIGHT
TZOFFSETFROM:+0100
TZOFFSETTO:+0200
TZNAME:CEST
DTSTART:20250330T010000
END:DAYLIGHT
BEGIN:STANDARD
TZOFFSETFROM:+0200
TZOFFSETTO:+0100
TZNAME:CET
DTSTART:20251026T010000
END:STANDARD
END:VTIMEZONE
BEGIN:VEVENT
DTSTART;TZID=Europe/Paris:20240607T210000
DTEND;TZID=Europe/Paris:20240607T210000
DTSTAMP:20260420T061704
CREATED:20240209T094551Z
LAST-MODIFIED:20240527T174733Z
UID:2478-1717794000-1717794000@jazzbah.es
SUMMARY:XANGUITO presentació nou disc
DESCRIPTION:❗Nota important: Els menors de 16 anys\, hauran d’anar acompanyats dels seus progenitors o tutors legals que també caldrà que disposin d’una entrada. \nDescarregar document d’accés menors de 16 anys aquí \n  \nPRESENTACIÓ NOU DISC DE XANGUITO \nAmb tres discs d’estudi\, cinc gires i més de 200 concerts a les esquenes\, XANGUITO s’ha convertit en una de les bandes referencials de les Illes Balears. El grup ha revolucionat el panorama musical aconseguint fidelitzar un ampli públic i batent récords: 6 premis Enderrock de la música Balear (Millor Artista\, Millor disc; Millor cançó i Millor directe en dues ocasions)\, dos sold out al Teatre principal de Palma i cançons que acumulen milions de reproduccions a les plataformes musicals. \nEl 2024 marca un moment significatiu per a XANGUITO amb el llançament del seu 4t treball discogràfic. Acompanyat d’un espectacle inèdit\, aquesta presentació fusiona les noves composicions del grup amb els seus èxits més reconeguts\, tot desplegant una experiència de coreografies i accions que conviden el públic a formar part de l’espectacle. \nAmb el bon rotllo per bandera i l’autenticitat que els caractaritza\, XANGUITO segueixen contagiant el seu optimisme amb cançons que van deixant emprenta en el cor de la gent. \n  \nEntrades anticipades 12€+dg\nhttps://ticketib.com/es/events/xanguito-a-ciutadella-presentacio-nou-disc-a-menorca\n \n20:30h Obertura de portes\n21:00h Concert XANGUITO \nUBICACIÓ: Teatre del Casino 17 de Gener. Avinguda Constitució\, 18 (Ciutadella de Menorca)
URL:https://jazzbah.es/event/xanguito-presentacio-nou-disc/
CATEGORIES:2024,25è Aniversari,Concerts,Destacats,Teatre Casino 17 de gener
ATTACH;FMTTYPE=image/jpeg:https://jazzbah.es/wp-content/uploads/2024/02/Slide-Jazzbah-9.jpg
END:VEVENT
BEGIN:VEVENT
DTSTART;TZID=Europe/Paris:20240608T234500
DTEND;TZID=Europe/Paris:20240608T234500
DTSTAMP:20260420T061704
CREATED:20240503T135214Z
LAST-MODIFIED:20240503T135337Z
UID:2599-1717890300-1717890300@jazzbah.es
SUMMARY:5 Aniversario Bah! Spartaque
DESCRIPTION:Desde Ucrania recibimos a SPARTAQUE\, uno de los mejores dj/productores de techno de la ultima década. Bombo y calidad en una noche única con uno de los máximos exponentes del techno contundente. Ven a celebrar el 5to aniversario de las fiestas BAH!\, donde han marcado un antes y un después en las fiestas electrónicas de la isla. Junto a él los residentes de Bah! Byone\, Nic Riviera y Bojak. \nEntradas anticiapadas\nhttps://entradas.codetickets.com/entradas/los-santos-presentan-5-aniversario-bah–spartaque–t-jazzbah/53168/lossantos/online
URL:https://jazzbah.es/event/5aniversario-bah-spartaque/
CATEGORIES:2024,25è Aniversari,Bah!,Concerts,Destacats,Dj,Jazzbah
ATTACH;FMTTYPE=image/jpeg:https://jazzbah.es/wp-content/uploads/2024/05/Slide-Jazzbah.jpg
END:VEVENT
BEGIN:VEVENT
DTSTART;TZID=Europe/Paris:20240614T210000
DTEND;TZID=Europe/Paris:20240614T210000
DTSTAMP:20260420T061704
CREATED:20240610T142601Z
LAST-MODIFIED:20240614T092524Z
UID:2754-1718398800-1718398800@jazzbah.es
SUMMARY:CASINO JAZZ CLUB presenta:  Swing Quartet
DESCRIPTION:El Teatre del Casino es vesteix amb les seves millors gales per a oferir-vos una experiència única amb lo bo i millor de l’escena jazzística de l’illa\, carregada de bona música\, ball i copes servides amb la major elegància. \nI per a començar el pròxim divendres 14 de juny comptarem amb classe oberta de LINDY HOP i a continuació\, el concert dels fabulosos SWING QUARTET. \nLa versió reduïda dels “Our Five band”\, s’ajunten per obrir els paràmetres del cançoner americà i fer brillar la part instrumental\, sense deixar de fer ballable i festiva la musica que proposen. \nArranjaments curats i preparats per quartet d’aquests Standars del cançoner americà\, una proposta de música i ball que emfatitzarà la interacció i comunicació entre els quatre consolidats companys de viatge. Frescor i complicitat\, ball i energia. \n·Josep Lluis Pons (trompeta)\n·Pere Arguimbau (guitarra)\n·Lluis Gener (contrabaix)\n·Guillem Pons (bateria) \n20:30 h. Classe Oberta de LINDY HOP. Aprèn a ballar la música de Swing abans del concert. (Apte per a tots els nivells). \n21:30 h. Concert: SWING QUARTET (swing\, jazz\, mambo\, estàndards) \nEntrades a taquilla: 8 €\nPREU ESPECIAL: Socis Casino 17 de Gener i Jazz Obert: 5 € (mostrant el carnet de soci a taquilla)
URL:https://jazzbah.es/event/casino-jazz-club-presenta-swing-quartet/
CATEGORIES:2024,Casino Jazz Club,Concerts,Destacats
ATTACH;FMTTYPE=image/png:https://jazzbah.es/wp-content/uploads/2024/06/SWING-QUARTET.png
END:VEVENT
BEGIN:VEVENT
DTSTART;TZID=Europe/Paris:20240619T230000
DTEND;TZID=Europe/Paris:20240619T230000
DTSTAMP:20260420T061704
CREATED:20240517T154128Z
LAST-MODIFIED:20240529T112137Z
UID:2616-1718838000-1718838000@jazzbah.es
SUMMARY:Dolce Vita Electrónica
DESCRIPTION:Rinicream de CREAMING ONE NIGHT en Milán juntos con el sello discográfico 152 Records de Londres se han unido para crear DOLCE VITA ELECTRÓNICA un evento que combina las atmósferas icónicas de la famosa película italiana ‘La Dolce Vita’\, con la mejor música Minimal y Tech-House que sólo puedes escuchar en los mejor dancefloors de Ibiza. \nPara su debut en Menorca\, han eligido a una leyenda de la música electrónica Italiana y internacional: \nMassimo Lippoli \n– Main Room LineUp- \nRinicream \nEmeye \nSandra Palma \n– Terraza LineUp – \nNay Fitz\nAlex Von Martin \nEntradas anticipada\nhttps://entradas.codetickets.com/entradas/dolce-vita/54685/152records/online
URL:https://jazzbah.es/event/dolce-vitta/
CATEGORIES:2024,25è Aniversari,Concerts,Destacats,Dj,Jazzbah
ATTACH;FMTTYPE=image/jpeg:https://jazzbah.es/wp-content/uploads/2024/05/Slide-Jazzbah-1.jpg
END:VEVENT
BEGIN:VEVENT
DTSTART;TZID=Europe/Paris:20240628T213000
DTEND;TZID=Europe/Paris:20240628T213000
DTSTAMP:20260420T061704
CREATED:20240319T152205Z
LAST-MODIFIED:20240514T165247Z
UID:2526-1719610200-1719610200@jazzbah.es
SUMMARY:PRIDE "ORGULLO" PARTY
DESCRIPTION:Live / Concierto (22:30 h)\nROCIO SAIZ\n\nCantante de Monterrosa y Las Chillers\, Rocío Saiz lleva años defendiendo un discurso a favor de la diversidad que la han hecho convertirse en uno de los referentes LGTBIQ+ con más carácter y fuerza de España.  \nSu gran talento para convertir\, a golpe de pop\, la experiencia y vivencias en ideario universal con el que todos podemos sentirnos identificados\, acogidos y abrazados. Como si Tino Casal\, La Oreja de Van Gogh\, Abba\, Astrud\, Cecilia y Vengaboys se fundiesen en un solo proyecto para fabricar himnos generacionales.\n \nLa pista de baile es política\, la diversión nunca es tan inocente como la pintan y los dramas amorosos raramente son una experiencia intransferible. Rocío habla sobre todo lo que pasa antes\, durante y después del baile: los desengaños\, el sexo con y sin amor\, las relaciones tóxicas\, la plenitud de ser dueña de tu destino durante el máximo de horas posibles… pero también el insomnio fruto del estrés laboral y la falta de dinero y la necesidad de cierto hedonismo para olvidarse de todo de vez en cuando.  \nY esto último es lo que Rocío transmite en su máxima expresión en sus directos. Llenos de sorpresas e invitados\, se convierten en verdaderas celebraciones de la individualidad que equivalen a soltarse la coleta frente al espejo\, despeinarse y salir de cualquier sitio con aire nuevo. Rocío nos invita a cambiar lo que tengamos que cambiar para poder fluir y celebrar nuestra esencia\, para reconocernos\, respetarnos y celebrarnos. Abracemos esta invitación.  \n\n Party / Line up\nLEY DJ\nKASI\n\nTRANCE MAFIA (Bojak b2b Vic504) \n  \n\n\nTERRAZZA\nMARIBINGO by Las Vedettes de Usera\n \n\n(Travela Vargas y La Mujer Vaquero) nos presentan en primicia MARIBINGO. El Bingo travesti más trash de la capital llega a Menorca para repartir premios\, travestimo y mucho show a las calles de la Ciudadella. Estamos tan contentas de poder compartir con nuestras hermanas menorquinas este bingo trashvesti y desfachatado que nos vamos a orinar encima. \nHagan hueco en sus agendas porque…. ¡¡tenemos MARIBINGO el 28J en Menorca!\n¡Os esperamos y evidentemente\, traed tacones\, bigotes\, jockstraps\, plugs\, arneses\, maquillaje y todo el brilli brilli de vuestro ropero. Lo que sea\, pero ¡venid bien fistras!\n¡Ala guapes\, que ganas de comeros los morros! \n\n\n\n \nPERFORMANCES + MAQUILLAJE + ¡MUCHAS SORPRESAS!\n\n \nEntrada anticipada: 15€ (+gg) incluye concierto + party\nhttps://entradas.codetickets.com/entradas/pride–orgullo–party/52569/jazzbah/online?lang=ca_ES\n \nApertura puertas: 21:30 h \nConcierto Rocío Saiz: 22:30 h
URL:https://jazzbah.es/event/pride-orgullo-party/
CATEGORIES:2024,25è Aniversari,Concerts,Destacats,Dj,Jazzbah,Party
ATTACH;FMTTYPE=image/png:https://jazzbah.es/wp-content/uploads/2024/03/Copia-de-Copia-de-Copia-de-TRIBUTO-M-CLAN_20240514_181118_0000.png
END:VEVENT
BEGIN:VEVENT
DTSTART;TZID=Europe/Paris:20240630T235500
DTEND;TZID=Europe/Paris:20240630T235500
DTSTAMP:20260420T061704
CREATED:20240609T083306Z
LAST-MODIFIED:20240609T083306Z
UID:2747-1719791700-1719791700@jazzbah.es
SUMMARY:Bonkers
DESCRIPTION:Bonkers hace su debut en Jazzbah! La marca de eventos de electrónica y sello discográfico presenta por primera vez en la isla al productor madrileño PROMPT\, que nos deleitará con un formato Live Set. El arquitecto musical que acumula una carrera impoluta en varios clubs de renombre como Danceteria o el mismo Berghain. \nContaremos también con Nay Fitz\, capitana de la marca y con la compañía de Eber y Violeta Villa. Tres grandes exponentes de la isla con proyectos paralelos que se juntan para dar forma a esta potente velada. \nDémosles una calurosa bienvenida y no os la perdáis! @bonkers_music_ @bonkers_official_ \n>> Line Up\nPROMPT Live\n@nayfitz\n@violetavilla\n@eber.17 \nEntradas anticipadas:\nhttps://entradas.codetickets.com/entradas/bonkers/57436/jazzbah/online
URL:https://jazzbah.es/event/bonkers/
CATEGORIES:2024,25è Aniversari,Concerts,Destacats,Dj,Jazzbah
ATTACH;FMTTYPE=image/jpeg:https://jazzbah.es/wp-content/uploads/2024/06/Slide-Jazzbah.jpg
END:VEVENT
END:VCALENDAR