BEGIN:VCALENDAR
VERSION:2.0
PRODID:-//Jazzbah (Port de Ciutadella) - ECPv6.15.20//NONSGML v1.0//EN
CALSCALE:GREGORIAN
METHOD:PUBLISH
X-WR-CALNAME:Jazzbah (Port de Ciutadella)
X-ORIGINAL-URL:https://jazzbah.es
X-WR-CALDESC:Esdeveniments per Jazzbah (Port de Ciutadella)
REFRESH-INTERVAL;VALUE=DURATION:PT1H
X-Robots-Tag:noindex
X-PUBLISHED-TTL:PT1H
BEGIN:VTIMEZONE
TZID:Europe/Paris
BEGIN:DAYLIGHT
TZOFFSETFROM:+0100
TZOFFSETTO:+0200
TZNAME:CEST
DTSTART:20230326T010000
END:DAYLIGHT
BEGIN:STANDARD
TZOFFSETFROM:+0200
TZOFFSETTO:+0100
TZNAME:CET
DTSTART:20231029T010000
END:STANDARD
BEGIN:DAYLIGHT
TZOFFSETFROM:+0100
TZOFFSETTO:+0200
TZNAME:CEST
DTSTART:20240331T010000
END:DAYLIGHT
BEGIN:STANDARD
TZOFFSETFROM:+0200
TZOFFSETTO:+0100
TZNAME:CET
DTSTART:20241027T010000
END:STANDARD
BEGIN:DAYLIGHT
TZOFFSETFROM:+0100
TZOFFSETTO:+0200
TZNAME:CEST
DTSTART:20250330T010000
END:DAYLIGHT
BEGIN:STANDARD
TZOFFSETFROM:+0200
TZOFFSETTO:+0100
TZNAME:CET
DTSTART:20251026T010000
END:STANDARD
END:VTIMEZONE
BEGIN:VEVENT
DTSTART;TZID=Europe/Paris:20240406T190000
DTEND;TZID=Europe/Paris:20240406T190000
DTSTAMP:20260420T094653
CREATED:20240202T093744Z
LAST-MODIFIED:20240331T073452Z
UID:2425-1712430000-1712430000@jazzbah.es
SUMMARY:Me Colé (Tribut a Mecano)
DESCRIPTION:La banda mallorquina\, Me Colé “Tributo a Mecano” combina experiència\, entusiasme i sobretot\, passió pel que fos una de les bandes més importants de la història del pop espanyol. A càrrec de 5 músics amb àmplia trajectòria professional\, ofereix un espectacle homenatge que repassa els èxits de Mecano amb un show de gran qualitat i una cuidada escenificació. \nAforament limitat. \nObertura portes: 18h\nMe colé: 19h \nEntrada anticipada: 15€ (+dg)\nhttps://entradium.com/events/me-cole-tributo-a-mecano-en-jazzbah \nTaquilla: 18€ \n 
URL:https://jazzbah.es/event/me-cole-tribut-a-mecano-2/
CATEGORIES:2024,Concerts,Destacats,Jazzbah,P-tardeo
ATTACH;FMTTYPE=image/jpeg:https://jazzbah.es/wp-content/uploads/2024/02/Slide-Jazzbah-11.jpg
END:VEVENT
BEGIN:VEVENT
DTSTART;TZID=Europe/Paris:20240406T233000
DTEND;TZID=Europe/Paris:20240406T233000
DTSTAMP:20260420T094653
CREATED:20240323T064329Z
LAST-MODIFIED:20240323T064532Z
UID:2535-1712446200-1712446200@jazzbah.es
SUMMARY:DRASTIC GROOVES (1er Aniversari)
DESCRIPTION:Drastic Grooves su primer aniversario!  \nLa marca de música electrónica regresa para brindar por su primer año. \nPara esta edición especial contaremos por primera vez y en exclusiva con un ‘All Night Long’ de su fundador @realbojak y además en un formato único: \n\nUna experiencia 360º nunca vista antes  y con invitados sorpresa! \nNo os podéis perder esta noche tan especial con la mejor electrónica\, para celebrar exactamente en la misma fecha y el mismo lugar donde todo empezó… \nEntrada anticipada: 7€ +gg\nhttps://entradas.codetickets.com/entradas/drastic-grooves_3795/52630/jazzbah/online\nEntrada a taquilla: 10€
URL:https://jazzbah.es/event/drastic-grooves-1r-aniversario/
CATEGORIES:2024,Concerts,Destacats,Dj,Jazzbah,Party
ATTACH;FMTTYPE=image/jpeg:https://jazzbah.es/wp-content/uploads/2024/03/DG_PORTADA_HORIZONTALJAZZBAH.jpg
END:VEVENT
BEGIN:VEVENT
DTSTART;TZID=Europe/Paris:20240412T210000
DTEND;TZID=Europe/Paris:20240412T210000
DTSTAMP:20260420T094653
CREATED:20240209T073043Z
LAST-MODIFIED:20240409T151918Z
UID:2459-1712955600-1712955600@jazzbah.es
SUMMARY:LES NITS DEL CASINO COMEDY presenta: TRIBUTO AL GENIO
DESCRIPTION:Un espectacle d’Àngel Miralles \n“El millor homenatge del país a Eugenio” “REEUGENIO” “Movistar + / TV3 / Buenafuente / Cuéntame” \n \n\n\nL’Àngel Miralles ens presenta TRIBUTO AL GENIO\, un homenatge a l’humorista més important del s.XX en el nostre país. Un particular homenatge al mestre de l’humor serio\, l’Eugenio\, amb un llenguatge còmic singular i amb el seu inconfusible estil i segell (els silencis i el fum al seu voltant) que ha transcendit generacions rere generacions i que segueix fent-nos riure com mai. \nQuin show faria l’Eugenio si avui estigués entre nosaltres? Aquesta és la reflexió que va fer l’Àngel Miralles\, el que durant anys ha sigut el seu imitador oficial d’aquest mite i que l’ha portat a crear TRIBUTO AL GENIO. La precisa imitació de Miralles\, que va impressionar fins i tot a la pròpia família del mestre\, entusiasma el públic per la increïble semblança del gest i la seva veu. \nDurant una hora\, gaudirem dels seus acudits més populars ajudat de les famoses pauses marca de la casa\, i acompanyat del seu fidel tamboret\, d’una cigarreta i del seu inseparable vodka amb taronja. \n\nEntrades Anticipades: 12€ + despeses de gestió\nhttps://entradas.codetickets.com/entradas/les-nits-del-casino-comedy-presenta:-tributo-al-genio/50662/casino-17-de-gener/online \nTaquilla: 15€ \n  \n\n(espectacle en castellà)\n*Aforament limitat\n**Servei de bar dins el teatre\n***Espectacle no apte per a menors de 18 anys \n\nUBICACIÓ: Teatre del Casino 17 de Gener. Avinguda Constitució\, 18 (Ciutadella de Menorca)
URL:https://jazzbah.es/event/les-nits-del-casino-comedy-presenta-tributo-al-genio/
CATEGORIES:2024,25è Aniversari,Concerts,Destacats,Les nits del Casino Comedy,Teatre Casino 17 de gener
ATTACH;FMTTYPE=image/jpeg:https://jazzbah.es/wp-content/uploads/2024/02/sold-out-slide.jpg
END:VEVENT
BEGIN:VEVENT
DTSTART;TZID=Europe/Paris:20240413T190000
DTEND;TZID=Europe/Paris:20240413T190000
DTSTAMP:20260420T094653
CREATED:20240205T152927Z
LAST-MODIFIED:20240205T152927Z
UID:2441-1713034800-1713034800@jazzbah.es
SUMMARY:Keep the Faith Band (Tribut a Bon Jovi)
DESCRIPTION:Arriba el millor homenatge a BON JOVI amb els mallorquins KEEP THE FAITH BAND \nUna banda que destaca per la gran qualitat musical dels seus components\, amb noms reconeguts de l’escena rockera mallorquina. \nUn show de més de 2 hores on KEEP THE FAITH BAND: THE BEST OF BON JOVI us transportaran a l’època daurada de la banda de New Jersey. L’espectacle està garantit! \nNo faltaran títols com: Livin or a prayer\, Keep the Faith\,\nAlways\, Bed of roses\, It’s my life\, Have a nice day\, Bad Medicine… i molts més hits que van fer grans a Bon Jovi! \nKeep the Faith (The Best of Bon Jovi) i creuràs que realment estàs gaudint d’un concert de la banda original. \nKeep the Faith Band no és una Tribut Band a l’ús\, el seu estil propi els fa únics en el seu gènere. \nDani Magaña (guitarra)\nPedro González (teclats)\nPablo Martín (baixista)\nCristian Ibarra (bateria i veus)\nDavid Samblás (veu) \nAforament limitat. \nObertura portes: 18h\nKeep the Faith (The Best of Bon Jovi) : 19h \nEntrada anticipada: 15€ (+dg)\nhttps://entradium.com/events/tributo-a-bon-jovi-keep-the-faith-band \nTaquilla: 18€ \n 
URL:https://jazzbah.es/event/keep-the-faith-band-tribut-a-bon-jovi-2/
CATEGORIES:2024,Concerts,Destacats,Jazzbah,P-tardeo
ATTACH;FMTTYPE=image/jpeg:https://jazzbah.es/wp-content/uploads/2024/02/Slide-Jazzbah-3.jpg
END:VEVENT
BEGIN:VEVENT
DTSTART;TZID=Europe/Paris:20240419T203000
DTEND;TZID=Europe/Paris:20240419T203000
DTSTAMP:20260420T094653
CREATED:20240209T100217Z
LAST-MODIFIED:20240212T112552Z
UID:2481-1713558600-1713558600@jazzbah.es
SUMMARY:Albert Cirera i Kamarilla (Menorca Jazz Festival)
DESCRIPTION:Albert Cirera\, saxo tenor i soprano\, composicions\nMarcel·lí Bayer\, saxo alt i clarinet baix\nVicent Perez\, trombó\nIvan Gonzalez \, trompeta i flughe\nRamon Prats\, bateria\nJaume Llompart\, baix elèctric \nAlbert Cirera és un dels saxofonistes més destacats de la seva generació\, un músic determinant per entendre l’escena jazzística actual i un dels majors propulsors de la lliure improvisació durant la darrera dècada a Catalunya. Al disc ‘Aquella Cosa’ (Underpool\, 2022)\, es retroba amb un seguit de velles composicions que ha recuperat i ha enregistrat amb un nou septet. Es tracta d’un grup de músics amb els quals comparteix la complicitat necessària per a construir un llenguatge on caben melodies\, grooves i improvisacions\, però també experimenta amb el so\, les formes i textures. \nCirera és un músic madur\, que demostra que la música no és una qüestió d’estil\, sinó d’experiència. Albert Cirera i Kamarilla fan música en estat pur\, aquella cosa capaç de fer riure\, ballar\, respirar i viure. \nEntrades anticipades https://entradas.codetickets.com/entradas/albert-cirera-i-amarilla/48504/menorcajazzfestival/online \nUBICACIÓ: Teatre del Casino 17 de Gener. Avinguda Constitució\, 18 (Ciutadella de Menorca)
URL:https://jazzbah.es/event/albert-cirera-i-kamarilla-menorca-jazz-festival/
CATEGORIES:2024,Casino Jazz Club,Concerts,Destacats,Teatre Casino 17 de gener
ATTACH;FMTTYPE=image/jpeg:https://jazzbah.es/wp-content/uploads/2024/02/Slide-Jazzbah2.jpg
END:VEVENT
BEGIN:VEVENT
DTSTART;TZID=Europe/Paris:20240420T200000
DTEND;TZID=Europe/Paris:20240420T200000
DTSTAMP:20260420T094653
CREATED:20240404T135356Z
LAST-MODIFIED:20240404T135516Z
UID:2543-1713643200-1713643200@jazzbah.es
SUMMARY:¨CREEDENCE CLEARWATER REVIVAL EXPERIENCE¨ amb AURA
DESCRIPTION:El grup menorquí AURA arriba per primera vegada als P-tardeo del Jazzbah per oferir un extens repertori dels grans clàssics de la mítica banda nord-americana de rock que va tenir una gran acceptació mediàtica i popular a finals dels 60’s i començaments dels 70’s. Country \, Rock\, Folk i Blues. \nJesús Melià (bateria i cors)\nAntoni Carreras (baix i cors)\nMiquel Pol (guitarra i cors)\nLlorenç Vidal (guitarra) \nObertura portes: 19:00h\nConcert: 20:00h \nENTRADA LLIURE
URL:https://jazzbah.es/event/%c2%a8creedence-clearwater-revival-experience%c2%a8-amb-aura/
CATEGORIES:2024,25è Aniversari,Concerts,Destacats,Jazzbah,P-tardeo
ATTACH;FMTTYPE=image/jpeg:https://jazzbah.es/wp-content/uploads/2024/04/Slide-Jazzbah.jpg
END:VEVENT
END:VCALENDAR