BEGIN:VCALENDAR
VERSION:2.0
PRODID:-//Jazzbah (Port de Ciutadella) - ECPv6.15.20//NONSGML v1.0//EN
CALSCALE:GREGORIAN
METHOD:PUBLISH
X-WR-CALNAME:Jazzbah (Port de Ciutadella)
X-ORIGINAL-URL:https://jazzbah.es
X-WR-CALDESC:Esdeveniments per Jazzbah (Port de Ciutadella)
REFRESH-INTERVAL;VALUE=DURATION:PT1H
X-Robots-Tag:noindex
X-PUBLISHED-TTL:PT1H
BEGIN:VTIMEZONE
TZID:Europe/Paris
BEGIN:DAYLIGHT
TZOFFSETFROM:+0100
TZOFFSETTO:+0200
TZNAME:CEST
DTSTART:20230326T010000
END:DAYLIGHT
BEGIN:STANDARD
TZOFFSETFROM:+0200
TZOFFSETTO:+0100
TZNAME:CET
DTSTART:20231029T010000
END:STANDARD
BEGIN:DAYLIGHT
TZOFFSETFROM:+0100
TZOFFSETTO:+0200
TZNAME:CEST
DTSTART:20240331T010000
END:DAYLIGHT
BEGIN:STANDARD
TZOFFSETFROM:+0200
TZOFFSETTO:+0100
TZNAME:CET
DTSTART:20241027T010000
END:STANDARD
BEGIN:DAYLIGHT
TZOFFSETFROM:+0100
TZOFFSETTO:+0200
TZNAME:CEST
DTSTART:20250330T010000
END:DAYLIGHT
BEGIN:STANDARD
TZOFFSETFROM:+0200
TZOFFSETTO:+0100
TZNAME:CET
DTSTART:20251026T010000
END:STANDARD
END:VTIMEZONE
BEGIN:VEVENT
DTSTART;TZID=Europe/Paris:20240301T190000
DTEND;TZID=Europe/Paris:20240301T190000
DTSTAMP:20260422T110323
CREATED:20240215T181415Z
LAST-MODIFIED:20240215T181643Z
UID:2486-1709319600-1709319600@jazzbah.es
SUMMARY:Concert dia de les Illes Balears (Dani Juanico\, Xafogor i Maria Florit)
DESCRIPTION:El proper divendres dia 1 de Març de 2024\, i amb motiu de la celebració del dia de les Illes Balears\, s’oferirà un concert gratuït amb varis artistes menorquins. El consell insular vol ajudar així a impulsar la cultura músical de l’illa\, apostant per grups i artistes amb cançons pròpies. A les 18:00h s’obriran les portes del Casino Nou de Ciutadella\, i a partir de les 19:00h començaran les actuacions musicals. \nObrirà el concert en Dani Juanico\, músic cantautor de 19 anys amb varis projectes en marxa. A continuació seguirà “Xafogor” un grup jove amb moltes ganes de fer festes memorables amb sa seva música. I el tancament serà per part de na Maria Florit\, artista inquieta amb una llarga trajectòria a les sis cordes. \nLa organització i coordinació d’aquest event es farà desde Kitok\, la nova app per tota la música en directe que va néixer a Menorca fa uns mesos i que vol ajudar a dinamitzar i ajudar a la música en directe. Amb la col.laboració de Jazzbah i Bar des Casino Nou i amb el suport del Consell Insular de Menorca. Podeu accedir a tota la informació de l’event fent click al següent enllaç: https://kitok.page.link/XXkojKpH1J925VwF6 \nCelebrem el dia de les Illes Balears amb música!
URL:https://jazzbah.es/event/concert-dia-de-les-illes-balears-dani-juanico-xafogor-i-maria-florit/
CATEGORIES:2024,Concerts,Destacats,Teatre Casino 17 de gener
ATTACH;FMTTYPE=image/png:https://jazzbah.es/wp-content/uploads/2024/02/EVENT-KITOK-CIME-1178-x-658-px.png
END:VEVENT
BEGIN:VEVENT
DTSTART;TZID=Europe/Paris:20240302T190000
DTEND;TZID=Europe/Paris:20240302T190000
DTSTAMP:20260422T110323
CREATED:20240202T093224Z
LAST-MODIFIED:20240216T102725Z
UID:2423-1709406000-1709406000@jazzbah.es
SUMMARY:La Hoguera (Tribut a Extremoduro)
DESCRIPTION:La millor banda tribut a Extremoduro del país\, torna a Jazzbah!  \nAmb un renovat i potent directe\, La HOGUERA TRIBUTO EXTREMODURO et deixaran sense paraules. Un repàs als millors èxits d’una de les bandes més influents del panorama del rock nacional. \nLa Hoguera (Tributo a Extremoduro) es va formar a Felanitx (Mallorca) el 2009. Amb un excel·lent directe\, un so lleial a l’original i una veu que arriba a emocionar els més fervents seguidors de la banda placentina\, no deixarà a ningú indiferent. \nObertura portes: 18h\nLa Hoguera: 19h \nEntrada anticipada: 15€ (+dg)\nhttps://entradium.com/events/tribut-a-extremoduro-con-la-hoguera \nTaquilla: 18€ \n 
URL:https://jazzbah.es/event/la-hoguera-tribut-a-extremoduro-3/
CATEGORIES:2024,Concerts,Destacats,Jazzbah,P-tardeo
ATTACH;FMTTYPE=image/jpeg:https://jazzbah.es/wp-content/uploads/2019/12/Slide-la-hoguera.jpg
END:VEVENT
BEGIN:VEVENT
DTSTART;TZID=Europe/Paris:20240308T210000
DTEND;TZID=Europe/Paris:20240308T210000
DTSTAMP:20260422T110323
CREATED:20240208T152221Z
LAST-MODIFIED:20240220T090434Z
UID:2452-1709931600-1709931600@jazzbah.es
SUMMARY:LES NITS DEL CASINO COMEDY presenta: DAVID SAS  amb " Mundo Loco"
DESCRIPTION:“Un imprescindible de la comèdia” “garantia de riure” ” més de 1000 actuacions per tot el pais” “5 temporades al Teatreneu de Bcn” \n  \nSóc el “locu” que hi ha en tu. Dic allò que tots pensem i no diem. Els meus monòlegs són variats i de temàtica diferent\, però sempre indagant en la veritat. \nNo faig ni humor absurd\, ni intel·ligent\, ni blanc\, ni negre\, no m’agraden els hashtags\, simplement faig humor del carrer\, del dia a dia. \nObservo i observo i escric\, després em trenco el pit. \nPorto 8 anyets “monologuejant” amb més de 1000 actuacions per tot el país perquè no et falti el riure. \nSóc natural de terres de Lleida i habitant de la província de Barcelona. El meu humor i la meva energia intentaran provocar-te un xoc emocional perquè les teves rialles envaeixin el teu cos. \nEls temes dels meus monòlegs són molt quotidians\, sense entrar en gaires temes polítics\, però això sí\, jo aviso… Quan començo les meves actuacions aparteu les criatures perquè el meu humor és canalla\, desenfrenat\, boig i carregat d’energia. \nEn definitiva\, humor per a tots els públics excepte susceptibles\, cardíacs\, puritans hipòcrites\, capellans i algun banquer. La resta riuran molt. \n  \n(espectacle en castellà) \n*Aforament limitat \n**Servei de bar dins el teatre \n***Espectacle no apte per a menors de 18 anys  \nEntrades: \n15 primeres a preu reduït: 8€   \nAnticipada: 10€ \nhttps://entradas.codetickets.com/entradas/david-sas-presenta–mundo-loco-/50659/casino-17-de-gener/online \nTaquilla: 12€ \n  \nUBICACIÓ: Teatre del Casino 17 de Gener. Avinguda Constitució\, 18 (Ciutadella de Menorca)
URL:https://jazzbah.es/event/les-nits-del-casino-comedy-presenta-david-sas-amb-mundo-loco/
CATEGORIES:2024,Concerts,Destacats,Les nits del Casino Comedy,Teatre Casino 17 de gener
ATTACH;FMTTYPE=image/jpeg:https://jazzbah.es/wp-content/uploads/2024/02/Slide-Jazzbah-5.jpg
END:VEVENT
BEGIN:VEVENT
DTSTART;TZID=Europe/Paris:20240309T190000
DTEND;TZID=Europe/Paris:20240309T190000
DTSTAMP:20260422T110323
CREATED:20240208T144038Z
LAST-MODIFIED:20240301T092308Z
UID:2444-1710010800-1710010800@jazzbah.es
SUMMARY:Hummus (Rock Progressiu)
DESCRIPTION:HUMMUS és un grup de música especialitzat en el hard rock i rock progressiu dels anys 70. \nLa banda ciutadellenca realitza un extens repertori de covers de grans grups com Deep Purple\, The Beatles\, Jimi Hendrix\, Taste\, Jethro Tull\, Camel\, King Crimson\, Genesis\, etc… \nUn show que et transportarà al rock progressiu i psicodèlic dels anys 70’s\, HUMMUS donen el seu toc personal als covers que realitzen\, aportant arranjaments propis. La premisa de la banda és oferir una selecció de covers que no s’hagin interpretat mai a Menorca\, causant sorpresa entre el públic amant de la música setentera. \nHUMMUS està integrat per: \nSergi Cleofé (cantant)\, Borja Moll (flauta travessera\, teclats i coros)\, Pedro Gelabert (baix elèctric i coros)\, Pere Gelabert (bateria)\, Damià Gelabert (teclats)\, Pacífic Camps (guitarra i coros). \n\n\n\nAforament limitat.\nObertura portes: 18h\nHummus : 19h \nEntrada anticipada: 6€ +dg\nhttps://entradas.codetickets.com/entradas/hummus/51112/jazzbah/online
URL:https://jazzbah.es/event/hummus/
CATEGORIES:2024,Concerts,Destacats,Jazzbah,P-tardeo
ATTACH;FMTTYPE=image/jpeg:https://jazzbah.es/wp-content/uploads/2023/04/Slide-Jazzbah-3.jpg
END:VEVENT
BEGIN:VEVENT
DTSTART;TZID=Europe/Paris:20240316T190000
DTEND;TZID=Europe/Paris:20240316T190000
DTSTAMP:20260422T110323
CREATED:20240202T094940Z
LAST-MODIFIED:20240202T095425Z
UID:2427-1710615600-1710615600@jazzbah.es
SUMMARY:Y Sin Embargo... (Tribut a Joaquín Sabina)
DESCRIPTION:Joaquín Sabina és un d’aquells artistes capaços de posar tothom d’acord… que transcendeix amb les composicions amb un talent indiscutible per ser un dels artistes més grans del Pop Espanyol. \nEl sextet mallorquí Y SIN EMBARGO… (Tributo a Sabina) interpreten aquestes cançons de forma fidel i amb gran qualitat musical. Cançons que han acompanyat les vides de més d’una generació des de finals dels anys 70. \n\nAforament limitat. \nObertura portes: 18h\nY sin embargo…: 19h \nEntrada anticipada: 15€ (+dg)\nhttps://entradium.com/events/tribut-a-sabina-con-y-sin-embargo \nTaquilla: 18€ \n 
URL:https://jazzbah.es/event/y-sin-embargo-tribut-a-joaquin-sabina-2/
CATEGORIES:2024,Concerts,Destacats,Jazzbah,P-tardeo
ATTACH;FMTTYPE=image/jpeg:https://jazzbah.es/wp-content/uploads/2024/02/Slide-Jazzbah.jpg
END:VEVENT
BEGIN:VEVENT
DTSTART;TZID=Europe/Paris:20240322T210000
DTEND;TZID=Europe/Paris:20240322T210000
DTSTAMP:20260422T110323
CREATED:20240227T104001Z
LAST-MODIFIED:20240317T090205Z
UID:2499-1711141200-1711141200@jazzbah.es
SUMMARY:MANNERS (Concert presentació nou disc ‘Punctum’)
DESCRIPTION:Toni Genestar (bateria)\, Guiem Soldevila (veu\, guitarra i teclats)\, Pacífic Camps (guitarra) i Víctor Hernández (baix) són els integrants del grup musical Manners. Format per la passió cap a la música que sentien els seus membres a una edat molt primerenca\, el grup va anar evolucionant fins que\, en un moment donat\, el 1998\, “la carretera es va bifurcar en quatre i cadascú va iniciar un nou camí”. \nA finals de l’any passat\, 25 anys després\, i de forma totalment sorprenent i imprevista\, el grup es va tornar a reunir\, brindant als seus anteriors seguidors\, i als nous que puguin sorgir\, el seu primer àlbum: ‘Punctum’ (2023). Treball que presentarà en concert el pròxim divendres 22 de març al Teatre del Casino de Ciutadella\, a les 21h  \nAnticipada: 12€ (+dg)\nhttps://entradas.codetickets.com/entradas/manners/51062/casino-17-de-gener/online \nTaquilla: 15€ / *Preu descompte socis Casino \nAforament limitat.\nObertura portes: 20.00 h / Concert: 21.00 h \nUBICACIÓ: Teatre del Casino 17 de Gener. Avinguda Constitució\, 18 (Ciutadella de Menorca)
URL:https://jazzbah.es/event/manners-concert-presentacio-nou-disc-punctum/
CATEGORIES:2024,25è Aniversari,Concerts,Destacats,Teatre Casino 17 de gener
ATTACH;FMTTYPE=image/jpeg:https://jazzbah.es/wp-content/uploads/2024/02/Slide-Jazzbah2-1.jpg
END:VEVENT
BEGIN:VEVENT
DTSTART;TZID=Europe/Paris:20240322T230000
DTEND;TZID=Europe/Paris:20240322T230000
DTSTAMP:20260422T110323
CREATED:20240304T150858Z
LAST-MODIFIED:20240309T085715Z
UID:2504-1711148400-1711148400@jazzbah.es
SUMMARY:Nit JAMAICANA
DESCRIPTION:DanceHall Menorca i Back Yaad organitzen una festa carregada amb el millor del Dancehall\, reggae\, roots i jamaican vibes. \n\nConvidats especials: \nDj Ko Ala. Dancehall selectah des de Vigo / Rasjahwan (Juyful) i com sempre tota sa crew de Dj’s de Bback Yaad. \nA partir de les 23h\nAnticipades: 5 (+dg)\nhttps://entradium.com/events/dancehall-menorca-invites-lu-ko-ala-22-03-24?fbclid=PAAabkWr8gsyu7dyIUWWh74vLhFxm7Kq9MZ9dUeaDKHrldSSDPHA7MRqHVd3w \n\nTaquilla: 7€ \n\n 
URL:https://jazzbah.es/event/nit-jamaicana/
CATEGORIES:2024,Concerts,Destacats,Dj,Jazzbah,Party
ATTACH;FMTTYPE=image/jpeg:https://jazzbah.es/wp-content/uploads/2024/03/Slide-Jazzbah-1.jpg
END:VEVENT
BEGIN:VEVENT
DTSTART;TZID=Europe/Paris:20240323T190000
DTEND;TZID=Europe/Paris:20240323T190000
DTSTAMP:20260422T110323
CREATED:20240103T050127Z
LAST-MODIFIED:20240317T090551Z
UID:2405-1711220400-1711220400@jazzbah.es
SUMMARY:Coldday "World's Number One Coldplay Tribute"
DESCRIPTION:Coldday el Tribut Internacional més aclamat a la banda Coldplay\, arriba al Jazzbah!\n \n\n“Reconeguts per Jonny Buckland\, guitarrista de Coldplay com un dels millors tributs que existeixen” \nLa banda tribut internacional COLDDAY ens porta de la mà en un meravellós viatge per totes les diferents etapes de Coldplay. En un rigorós ordre cronològic recorrerem tota la seva evolució artística\, des dels seus inicis a principis dels 2000. \nUn viatge artístic però també conceptual en què la música de Coldplay neix amb un caràcter eminentment intimista i introspectiu per acabar per convertir-se en un cant a la vida\, amb cançons carregades de bona energia\, himnes que transcendeixen generacions i fronteres i moltíssim color. Tota aquesta evolució s’aprecia en el so però en molt més: les interpretacions a directe\, posada en escena\, canvis d’atrezzo i escenografia. L’experiència més propera que tindràs de veure un autèntic concert dels Coldplay. \nNo t’ho pots perdre! Aforament limitat. \nAnticipada: 15€ + despesses gestió\nhttps://entradas.codetickets.com/entradas/coldday–world-s-number-one-coldplay-tribute-/49106/jazzbah/online \nTaquilla: 18€
URL:https://jazzbah.es/event/coldday-worlds-number-one-coldplay-tribute/
CATEGORIES:2024,Concerts,Destacats,Jazzbah,P-tardeo
ATTACH;FMTTYPE=image/jpeg:https://jazzbah.es/wp-content/uploads/2024/01/Slide-Jazzbah2.jpg
END:VEVENT
BEGIN:VEVENT
DTSTART;TZID=Europe/Paris:20240328T210000
DTEND;TZID=Europe/Paris:20240328T210000
DTSTAMP:20260422T110323
CREATED:20240307T145513Z
LAST-MODIFIED:20240308T150200Z
UID:2515-1711659600-1711659600@jazzbah.es
SUMMARY:"EDICIÓ ESPECIAL" LES NITS DEL CASINO COMEDY presenta: GUILLEM ESTADELLA amb "Jarana"
DESCRIPTION:Conegut per la seva participació en programes com ‘Versió RAC1’\, ‘El Barça Juga a RAC1’\, ‘Matina Codina’ de RAC105 o ‘Estadella Mixelin’\, arriba a tots els racons de Catalunya amb la seva “Jarana” portant una catarsi còmica per a cada poble i ciutat. \nAquest espectacle no només busca fer-vos riure fins que us surtin abdominals\, sinó que també us convida a una teràpia col·lectiva\, amb l’alegria que desplega\, transformarà els petits entrebancs de la vida en el millor antídot: la rialla. Atureu-vos\, preneu una bocanada d’aire fresc i prepareu-vos per tenir la vostra vida sintonitzada pel ritme humorístic inconfusible de Guillem Estadella! \n(espectacle en català/castellà)\n*Aforament limitat\n**Servei de bar dins el teatre\n***Espectacle no apte per a menors de 18 anys \nEntrades: \n15 primeres a preu reduït: 8€\nAnticipada: 10€\nhttps://entradas.codetickets.com/entradas/-edicio-especial–les-nits-del-casino-comedy-presenta:-guill/52252/casino-17-de-gener/online \nTaquilla: 12€ \nUBICACIÓ: Teatre del Casino 17 de Gener. Avinguda Constitució\, 18 (Ciutadella de Menorca)
URL:https://jazzbah.es/event/edicio-especial-les-nits-del-casino-comedy-presenta-guillem-estadella-amb-jarana/
CATEGORIES:2024,Concerts,Destacats,Les nits del Casino Comedy,Teatre Casino 17 de gener
ATTACH;FMTTYPE=image/jpeg:https://jazzbah.es/wp-content/uploads/2024/03/Slide-Jazzbah-3.jpg
END:VEVENT
BEGIN:VEVENT
DTSTART;TZID=Europe/Paris:20240328T230000
DTEND;TZID=Europe/Paris:20240328T230000
DTSTAMP:20260422T110323
CREATED:20240314T180931Z
LAST-MODIFIED:20240314T180931Z
UID:2521-1711666800-1711666800@jazzbah.es
SUMMARY:LET'S DANCE
DESCRIPTION:Benvingut a LET’S DANCE\, la festa electrònica al club Jazzbah a Ciutadella! \nSubmergiu-vos en una experiència única i plena d’energia en una festa d’interès de culte sobre l’electrònica. A LET’S DANCE gaudiràs d’un ambient immillorable i vibrant\, perfecte per a aquells que busquen el bon rotllo i la passió per la música electrònica. \nUneix-te a persones que comparteixen la teva passió per ballar al ritme de melodies exquisides i ritmes furiosos. A LET’S DANCE\, la música electrònica cobra vida i et transporta a un món de sons envoltants i emocionants. No us perdeu l’oportunitat de viure una nit inoblidable al club Jazzbah a Ciutadella\, on la música\, la bona vibra i la passió per l’electrònica es fusionen per crear una experiència única. \nPrepara’t per ballar\, gaudir i submergir-te a la màgia de LET’S DANCE!
URL:https://jazzbah.es/event/lets-dance-2/
CATEGORIES:2024,Concerts,Destacats,Dj,Jazzbah,Party
ATTACH;FMTTYPE=image/jpeg:https://jazzbah.es/wp-content/uploads/2024/03/Slide-Jazzbah-4.jpg
END:VEVENT
BEGIN:VEVENT
DTSTART;TZID=Europe/Paris:20240329T233000
DTEND;TZID=Europe/Paris:20240329T233000
DTSTAMP:20260422T110323
CREATED:20240321T152942Z
LAST-MODIFIED:20240321T153031Z
UID:2531-1711755000-1711755000@jazzbah.es
SUMMARY:B**CH BANGERS!
DESCRIPTION:Aterriza en Jazzbah un nuevo concepto de la mano de los residentes @legong.music y @newjoss \nB**CH BANGERS! ¡Preparate para transportarte en el tiempo a los vibrantes años 90s y 2000s!\nUn viaje para revivir los mejores momentos de la era de los clásicos. \nEn esta primera edición acompañados por el dúo MALA VISTA SOCIAL CLUB \nÚnete a ellos y revive los recuerdos de verano favorito!
URL:https://jazzbah.es/event/bch-bangers/
CATEGORIES:2024,Concerts,Destacats,Dj,Jazzbah,Party
ATTACH;FMTTYPE=image/jpeg:https://jazzbah.es/wp-content/uploads/2024/03/Slide-Jazzbah-6.jpg
END:VEVENT
BEGIN:VEVENT
DTSTART;TZID=Europe/Paris:20240330T190000
DTEND;TZID=Europe/Paris:20240330T190000
DTSTAMP:20260422T110323
CREATED:20240227T101851Z
LAST-MODIFIED:20240227T101947Z
UID:2495-1711825200-1711825200@jazzbah.es
SUMMARY:Fandango All Stars
DESCRIPTION:FANDANGO ALL STARS és sinònim de “bulla i jarana”\, la banda més festiva de l’illa arriben als ptardeo del Jazzbah! \nSi tens ganes de viure una festa èpica\, aquesta és la teva oportunitat!\, amb un recull de covers i grans temes atemporals\, a cop de “temazos” i un grapat de sorpreses i «frikades varies» que no faltaran en el seu xou de gairebé dues hores de concert. \nCapitanejat per un dels músics rockers més consagrats de Menorca\, Pedro Sánchez\, el grup el formen Judit Uris (veu)\, Pere Moll (bateria)\, Angel Gelabert (teclats)\, Joan Daben (guitarra) i Cesc Pallisser (baix). \nPoques són les festes que s’ha perdut aquest grup des dels seus inicis. Així que\, no podien fer altra cosa que aterrar al Jazzbah per posar-ho potes amunt. La festa està servida! No badis i compra ja la teva anticipada a preu reduït! \n\n\nAnticipada: 5€ (+dg)\nhttps://entradas.codetickets.com/entradas/fandango-all-stars/51055/jazzbah/online \nEntrada a taquilla: 7€  \n\n\nAforament limitat. \nObertura portes: 18h\nConcert : 19h \n 
URL:https://jazzbah.es/event/fandango-all-stars/
CATEGORIES:2024,Concerts,Destacats,Jazzbah,P-tardeo
ATTACH;FMTTYPE=image/png:https://jazzbah.es/wp-content/uploads/2024/02/fandango-all-stars.png
END:VEVENT
END:VCALENDAR