BEGIN:VCALENDAR
VERSION:2.0
PRODID:-//Jazzbah (Port de Ciutadella) - ECPv6.15.20//NONSGML v1.0//EN
CALSCALE:GREGORIAN
METHOD:PUBLISH
X-ORIGINAL-URL:https://jazzbah.es
X-WR-CALDESC:Esdeveniments per Jazzbah (Port de Ciutadella)
REFRESH-INTERVAL;VALUE=DURATION:PT1H
X-Robots-Tag:noindex
X-PUBLISHED-TTL:PT1H
BEGIN:VTIMEZONE
TZID:Europe/Paris
BEGIN:DAYLIGHT
TZOFFSETFROM:+0100
TZOFFSETTO:+0200
TZNAME:CEST
DTSTART:20230326T010000
END:DAYLIGHT
BEGIN:STANDARD
TZOFFSETFROM:+0200
TZOFFSETTO:+0100
TZNAME:CET
DTSTART:20231029T010000
END:STANDARD
BEGIN:DAYLIGHT
TZOFFSETFROM:+0100
TZOFFSETTO:+0200
TZNAME:CEST
DTSTART:20240331T010000
END:DAYLIGHT
BEGIN:STANDARD
TZOFFSETFROM:+0200
TZOFFSETTO:+0100
TZNAME:CET
DTSTART:20241027T010000
END:STANDARD
BEGIN:DAYLIGHT
TZOFFSETFROM:+0100
TZOFFSETTO:+0200
TZNAME:CEST
DTSTART:20250330T010000
END:DAYLIGHT
BEGIN:STANDARD
TZOFFSETFROM:+0200
TZOFFSETTO:+0100
TZNAME:CET
DTSTART:20251026T010000
END:STANDARD
END:VTIMEZONE
BEGIN:VEVENT
DTSTART;TZID=Europe/Paris:20240203T190000
DTEND;TZID=Europe/Paris:20240203T190000
DTSTAMP:20260424T103940
CREATED:20240105T162923Z
LAST-MODIFIED:20240105T162923Z
UID:2409-1706986800-1706986800@jazzbah.es
SUMMARY:Secret Sons - Tribut als Millors Clàssics del Rock
DESCRIPTION:“DEEP PURPLE\, LED ZEPPELIN\, ZZ TOP\, GUN’S’N ROSES\, AC/DC i MÉS” \nSecret Sons és una banda conformada per cinc músics molt experimentats que resideixen a Mallorca i que toquen a diferents formacions al voltant de tota l’illa. Nicolas Soto (veu) és una eminència de l’escena rockera\, amb un registre inconfusible i que ha conformat bandes del calibre de Skyline\, Smoke\, Purple Head i recentment la creació de Flor de Rocka\, projecte de temes propis que ha vist la llum a 2023 i del que altres tres membres de Secret Sons també en formen part: Pedro González\, Pablo Martín i Cristian Ibarra\, músics experimentats amb innombrables concerts a l’esquena en diferents formacions amb les quals han visitat Menorca freqüentment. \nL’últim membre per nomenar és Ramón Barceló\, un guitarrista excepcional de la nova generació de músics mallorquins que aquests darrers anys va passar de ser una gran promesa\, a ser un dels guitarristes més buscats per participar de projectes a l’illa. \nAnticipada: 12€ (+ gg)\nhttps://entradium.com/events/secret-sons-clasics-del-rock-and-roll-70-80-90 \nTaquilla: 15€
URL:https://jazzbah.es/event/secret-sons-tribut-als-millors-classics-del-rock/
CATEGORIES:2024,Concerts,Destacats,Jazzbah,P-tardeo
ATTACH;FMTTYPE=image/jpeg:https://jazzbah.es/wp-content/uploads/2024/01/Slide-Jazzbah-3.jpg
END:VEVENT
BEGIN:VEVENT
DTSTART;TZID=Europe/Paris:20240209T230000
DTEND;TZID=Europe/Paris:20240209T230000
DTSTAMP:20260424T103940
CREATED:20240208T144537Z
LAST-MODIFIED:20240208T144855Z
UID:2446-1707519600-1707519600@jazzbah.es
SUMMARY:Festa de Carnaval amb Jukebox Band + Dj's
DESCRIPTION:Els dies 9 i 10 de febrer arriba l’alegria i la bulla del Carnaval al Casino Nou\, no et perdis tot el que us tenim preparat. \nDivendres 9 de febrer\, a partir de les 23h al Teatre. CONCERT i FESTA amb:\nJUKEBOX BAND + Sessió Dj’s: Joshua + Legong \n* ENTRADA GRATUÏTA per a totes les activitats (Aforament limitat) \nOrganitza: Bar des Casino Nou / Jazzbah
URL:https://jazzbah.es/event/festa-de-carnaval-amb-jukebox-band-djs/
CATEGORIES:2024,Concerts,Destacats,Party,Teatre Casino 17 de gener
ATTACH;FMTTYPE=image/jpeg:https://jazzbah.es/wp-content/uploads/2024/02/Slide-Jazzbah-4.jpg
END:VEVENT
BEGIN:VEVENT
DTSTART;TZID=Europe/Paris:20240210T230000
DTEND;TZID=Europe/Paris:20240210T230000
DTSTAMP:20260424T103940
CREATED:20240208T145027Z
LAST-MODIFIED:20240208T145027Z
UID:2450-1707606000-1707606000@jazzbah.es
SUMMARY:Festa de Carnaval amb Wanderlust + Dj's
DESCRIPTION:Dissabte 10 de febrer\, a partir de les 18h al Teatre\, CARNAVAL INFANTIL amb discomania Junior. Música i ball amb coreografies i més sorpreses. \nA partir de les 23h al Teatre\, CONCERT i FESTA amb: WANDERLUST\n+ Sessió Dj: Toni “Motos” \n* ENTRADA GRATUÏTA per a totes les activitats (Aforament limitat) \nOrganitza: Bar des Casino Nou / Jazzbah
URL:https://jazzbah.es/event/festa-de-carnaval-amb-wanderlust-djs/
CATEGORIES:2024,Concerts,Destacats,Party,Teatre Casino 17 de gener
ATTACH;FMTTYPE=image/jpeg:https://jazzbah.es/wp-content/uploads/2024/02/Slide-Jazzbah-4.jpg
END:VEVENT
BEGIN:VEVENT
DTSTART;TZID=Europe/Paris:20240216T210000
DTEND;TZID=Europe/Paris:20240216T210000
DTSTAMP:20260424T103940
CREATED:20240102T151258Z
LAST-MODIFIED:20240102T151534Z
UID:2395-1708117200-1708117200@jazzbah.es
SUMMARY:LES NITS DEL CASINO COMEDY presenta GABRIEL CÓRDOBA amb «Nacido al revés»
DESCRIPTION:LES NITS DEL CASINO COMEDY \nAquest és el nou monòleg del còmic i actor Gabriel Córdoba (Comedy Central. TV3). \n\n“Nacido al revés” És la història d’un jove d’un poble de Múrcia que decideix fer el salt a la gran ciutat de Barcelona\, per convertir-se en una gran estrella. En aquest viatge Gabriel descobreix que hi ha alguna cosa que mai no podrà ser: una gran actriu. \nA més de gravar monòlegs per a ‘Central de Cómicos'(2013)\, de Comedy Central exercir com a col·laborador a TV3\, ha actuat en curtmetratges i ha exercit de director i professor a “Stand Up Academy Barcelona”. \n19 anys fent monòlegs l’avalen. Al banc no\, és autònom. \nPrimeres 15 entrades a preu reduït! \n  \n15 primeres a preu reduït: 7€ (+ despesa de gestió) \nAnticipada: 9€ (+ despesa de gestió)\nhttps://entradas.codetickets.com/entradas/gabriel-cordoba-presenta–nacido-al-reves-/49103/casino-17-de-gener/online\n \n\nTaquilla: 12€ \nUBICACIÓ: Teatre del Casino 17 de Gener. Avinguda Constitució\, 18 (Ciutadella de Menorca)
URL:https://jazzbah.es/event/les-nits-del-casino-comedy-presenta-gabriel-cordoba-amb-nacido-al-reves/
CATEGORIES:2024,Concerts,Destacats,Les nits del Casino Comedy,Teatre Casino 17 de gener
ATTACH;FMTTYPE=image/jpeg:https://jazzbah.es/wp-content/uploads/2024/01/Slide-Jazzbah-1.jpg
END:VEVENT
BEGIN:VEVENT
DTSTART;TZID=Europe/Paris:20240217T190000
DTEND;TZID=Europe/Paris:20240217T190000
DTSTAMP:20260424T103940
CREATED:20231228T152418Z
LAST-MODIFIED:20231228T153445Z
UID:2374-1708196400-1708196400@jazzbah.es
SUMMARY:El Último Tributo (Tribut El Último de la Fila)
DESCRIPTION:PER PRIMERA VEGADA A JAZZBAH\, LA MILLOR BANDA TRIBUT A EL ÚLTIMO DE LA FILA!\n\nEL ÚLTIMO TRIBUTO va ser el nom que van escollir per a la formació\, i des del 2007 que van iniciar la seva exitosa carrera\, els barcelonins no han aturat de recollir èxits a escala nacional\, sent nominats el 2012 als premis ARC de la música com a la millor banda de gira de versions.\n\nEL ÚLTIMO TRIBUTO és catalogat com una de les millors bandes tribut del país. Tots els que van gaudir de la música i les lletres del ÚLTIMO DE LA FILA als anys vuitanta i noranta i ho continuen fent avui dia\, tenen una cita obligada amb EL ÚLTIMO TRIBUTO que ofereixen un repàs a tota la discografía del Último de la fila i ens fa reviure una etapa màgica. El seu repertori ens transporta a través del temps i ens ofereix l’oportunitat de tornar a gaudir dels temes més emblemàtics de la mítica banda de pop-rock estatal.\n\nL’èxit de la formació barcelonina\, resideix en el seu potent directe\, amb un so cuidat al detall i fidel a l’original en tots els seus matisos. La veu arriba a commoure els seguidors de MANOLO GARCÍA per la seva gran semblança. Ningú no es queda igual després de l’experiència d’un concert de EL ÚLTIMO TRIBUTO.\n\nQue no hi falti cap “manoler” i que ningú s’ho perdi\, perquè tampoc no faltarà cap dels èxits de EL ÚLTIMO DE LA FILA!\n \n\nEntrades anticipades: 18€ (+ dg)\n\n\nhttps://entradas.codetickets.com/entradas/el-ultimo-tributo–tribut-el-ultimo-de-la-fila-/48950/jazzbah/online \nObertura portes: 18:00h\n\nConcert: 19:00h \n  \n\n\n\n*Prohibida l’entrada a menors de 18 anys.
URL:https://jazzbah.es/event/el-ultimo-tributo-tribut-el-ultimo-de-la-fila/
CATEGORIES:2024,Concerts,Destacats,Jazzbah
ATTACH;FMTTYPE=image/jpeg:https://jazzbah.es/wp-content/uploads/2023/12/Slide-Jazzbah2-3.jpg
END:VEVENT
BEGIN:VEVENT
DTSTART;TZID=Europe/Paris:20240223T203000
DTEND;TZID=Europe/Paris:20240223T203000
DTSTAMP:20260424T103940
CREATED:20240202T092050Z
LAST-MODIFIED:20240202T092334Z
UID:2419-1708720200-1708720200@jazzbah.es
SUMMARY:Magalí Datzira (Presentació Menorca Jazz Festival)
DESCRIPTION:Magalí Datzira és una jove contrabaixista\, cantant i compositora amb llarga experiència als escenaris. Una proposta amb segell personal que es basa en el jazz però que beu d’influències diverses: del funk al pop electrònic; dels sons més intimistes i mediterranis als ritmes urbans. Presenta el seu primer disc en solitari\, “Des de la cuina” . \nEntrades anticipades a https://entradas.codetickets.com/entradas/magali-datzira/48502/menorcajazzfestival/online \nUBICACIÓ: Teatre del Casino 17 de Gener. Avinguda Constitució\, 18 (Ciutadella de Menorca)
URL:https://jazzbah.es/event/magali-datzira-presentacio-menorca-jazz-festival/
CATEGORIES:2024,Casino Jazz Club,Concerts,Destacats,Teatre Casino 17 de gener
ATTACH;FMTTYPE=image/jpeg:https://jazzbah.es/wp-content/uploads/2024/02/Slide-Jazzbah-1.jpg
END:VEVENT
BEGIN:VEVENT
DTSTART;TZID=Europe/Paris:20240224T190000
DTEND;TZID=Europe/Paris:20240224T190000
DTSTAMP:20260424T103940
CREATED:20240126T152126Z
LAST-MODIFIED:20240218T121741Z
UID:2412-1708801200-1708801200@jazzbah.es
SUMMARY:Billy Goat's
DESCRIPTION:La banda de Ferreries Billy Goat’s arriba al Jazzbah per oferir un concert festiu amb les millors versions de rock espanyol i internacional. La banda va néixer el 2010 fent música de blues i rock. El 2014 es va incorporar un nou vocal i es va obrir el repertori a temes de la Movida madrileña. \nUn repertori enèrgic i alhora festiu basat en les versions dels temes més clàssics de panorama nacional que han marcat a tota una generació i que farà vibrar al públic i reviure bons moments. Loquillo\, Rebeldes\, Rosendo\, Burning\, La Frontera\, Fito\, Ramoncin\, Siniestro Total\, Héroes del Silencio\, Radiofutura\, Sopa de Cabra\, entre d’altres. \nBilly Goat’s són: \nJordi Pons: Veu i guitarra acústica\nJoan Serra: Guitarra i veu\nToni Coll: Baix i veu\nDavid Pons: Bateria\nDani Martí: Guitarra \nEntrada anicipada: 5€ (+dg)\nhttps://entradas.codetickets.com/entradas/billy-goat-s/49688/jazzbah/online \nTaquilla 7€ \nObertura portes: 18h\nInici concert: 19h
URL:https://jazzbah.es/event/billy-goats/
CATEGORIES:2024,Concerts,Destacats,Jazzbah,P-tardeo
ATTACH;FMTTYPE=image/jpeg:https://jazzbah.es/wp-content/uploads/2024/01/Slide-Jazzbah-4.jpg
END:VEVENT
END:VCALENDAR