BEGIN:VCALENDAR
VERSION:2.0
PRODID:-//Jazzbah (Port de Ciutadella) - ECPv6.15.20//NONSGML v1.0//EN
CALSCALE:GREGORIAN
METHOD:PUBLISH
X-ORIGINAL-URL:https://jazzbah.es
X-WR-CALDESC:Esdeveniments per Jazzbah (Port de Ciutadella)
REFRESH-INTERVAL;VALUE=DURATION:PT1H
X-Robots-Tag:noindex
X-PUBLISHED-TTL:PT1H
BEGIN:VTIMEZONE
TZID:Europe/Paris
BEGIN:DAYLIGHT
TZOFFSETFROM:+0100
TZOFFSETTO:+0200
TZNAME:CEST
DTSTART:20220327T010000
END:DAYLIGHT
BEGIN:STANDARD
TZOFFSETFROM:+0200
TZOFFSETTO:+0100
TZNAME:CET
DTSTART:20221030T010000
END:STANDARD
BEGIN:DAYLIGHT
TZOFFSETFROM:+0100
TZOFFSETTO:+0200
TZNAME:CEST
DTSTART:20230326T010000
END:DAYLIGHT
BEGIN:STANDARD
TZOFFSETFROM:+0200
TZOFFSETTO:+0100
TZNAME:CET
DTSTART:20231029T010000
END:STANDARD
BEGIN:DAYLIGHT
TZOFFSETFROM:+0100
TZOFFSETTO:+0200
TZNAME:CEST
DTSTART:20240331T010000
END:DAYLIGHT
BEGIN:STANDARD
TZOFFSETFROM:+0200
TZOFFSETTO:+0100
TZNAME:CET
DTSTART:20241027T010000
END:STANDARD
END:VTIMEZONE
BEGIN:VEVENT
DTSTART;TZID=Europe/Paris:20231021T180000
DTEND;TZID=Europe/Paris:20231021T180000
DTSTAMP:20260424T170436
CREATED:20230703T134325Z
LAST-MODIFIED:20231017T141137Z
UID:2086-1697911200-1697911200@jazzbah.es
SUMMARY:Pèl de Gall (Nou concert fi de gira Menorca)
DESCRIPTION:❗Nota important: Els menors de 16 anys\, hauran d’anar acompanyats dels seus progenitors o tutors legals que també caldrà que disposin d’una entrada. \nDescarregar document d’accés menors de 16 anys aquí \n\nDesprés de la gran acollida pel concert de fi de gira a Menorca i exhaurir les seves entrades en tan sols 3 dies\, PÈL DE GALL oferirà un segon concert al Teatre Casino de Ciutadella\, el dissabte 21 d’octubre\, a les 18 h. \nLa banda menorquina posen fi a la seva gira menorquina en un concert molt especial al Teatre Casino 17 de gener de Ciutadella. \nPèl de Gall\, són exemple de que el rock segueix viu dins les nostres ànimes. Les seves lletres tan fresques com picants; divertides\, properes\, optimistes\, plenes de sentiments\, juntament amb el seu caràcter festiu potent i animat\, busquen establir una complicitat i una connexió amb el públic amb les que qualsevol es pot sentir fàcilment identificat.\nEnguany treuen el seu 5è disc en la seva més pura essència: una explosió d’alegria\, energia\, festa\, i dinamisme. Un crit d’amor i agraïment cap a les persones que els envolten. \n** Un cop adquirida l’entrada\, no es retornarà ni es realitzarà cap canvi i/o devolució. \nEntrada anticipada 15€ / Taquilla 18
URL:https://jazzbah.es/event/pel-de-gall-nou-concert-fi-de-gira-menorca/
CATEGORIES:2023,Concerts,Destacats,Teatre Casino 17 de gener
ATTACH;FMTTYPE=image/png:https://jazzbah.es/wp-content/uploads/2023/06/Sold-Out-_-pel-de-gall.-21h.png
END:VEVENT
BEGIN:VEVENT
DTSTART;TZID=Europe/Paris:20231021T210000
DTEND;TZID=Europe/Paris:20231021T210000
DTSTAMP:20260424T170436
CREATED:20230628T064056Z
LAST-MODIFIED:20231017T140849Z
UID:2050-1697922000-1697922000@jazzbah.es
SUMMARY:Pèl de Gall (fi de gira Menorca)
DESCRIPTION:❗Nota important: Els menors de 16 anys\, hauran d’anar acompanyats dels seus progenitors o tutors legals que també caldrà que disposin d’una entrada. \nDescarregar document d’accés menors de 16 anys aquí\n \n  \n\n\nLa banda menorquina posaran fi a la seva gira menorquina en un concert molt  especial al Teatre Casino 17 de gener de Ciutadella. \n\nPèl de Gall\, són exemple de que el rock segueix viu dins les nostres ànimes. Les seves lletres tan fresques com picants; divertides\, properes\, optimistes\, plenes de sentiments\, juntament amb el seu caràcter festiu potent i animat\, busquen establir una complicitat i una connexió amb el públic amb les que qualsevol es pot sentir fàcilment identificat.\n\nEnguany treuen el seu 5è disc en la seva més pura essència: una explosió d’alegria\, energia\, festa\, i dinamisme. Un crit d’amor i agraïment cap a les persones que els envolten.\n\nEntrada anticipada 15€ / Taquilla 18€
URL:https://jazzbah.es/event/pel-de-gall-fi-de-gira-menorca/
CATEGORIES:2023,Concerts,Destacats,Teatre Casino 17 de gener
ATTACH;FMTTYPE=image/png:https://jazzbah.es/wp-content/uploads/2023/06/Sold-Out-_-pel-de-gall.-21h.png
END:VEVENT
BEGIN:VEVENT
DTSTART;TZID=Europe/Paris:20231027T210000
DTEND;TZID=Europe/Paris:20231027T210000
DTSTAMP:20260424T170436
CREATED:20231024T125315Z
LAST-MODIFIED:20231024T131602Z
UID:2264-1698440400-1698440400@jazzbah.es
SUMMARY:Casino Jazz Club amb The Swing Crusaders
DESCRIPTION:THE SWING CRUSADERS. Clàssics del jazz i el swing dels anys 30 i 40 amb temes de caràcter festiu i ballable\, tal com van ser concebuts als inicis del jazz. Tot per compartir amb els ballarins i públic l’alegria de la música. \nEntrada a taquilla 5€\nEntrades socis Jazz Obert i Casino 17 de Gener 3€ \nUBICACIÓ: Teatre del Casino 17 de Gener. Avinguda Constitució\, 18 (Ciutadella de Menorca)
URL:https://jazzbah.es/event/casino-jazz-club-amb-the-swing-crusaders/
CATEGORIES:2023,Casino Jazz Club,Concerts,Destacats,Teatre Casino 17 de gener
ATTACH;FMTTYPE=image/jpeg:https://jazzbah.es/wp-content/uploads/2023/10/Swing-crusaders.jpeg
END:VEVENT
END:VCALENDAR