BEGIN:VCALENDAR
VERSION:2.0
PRODID:-//Jazzbah (Port de Ciutadella) - ECPv6.15.20//NONSGML v1.0//EN
CALSCALE:GREGORIAN
METHOD:PUBLISH
X-WR-CALNAME:Jazzbah (Port de Ciutadella)
X-ORIGINAL-URL:https://jazzbah.es
X-WR-CALDESC:Esdeveniments per Jazzbah (Port de Ciutadella)
REFRESH-INTERVAL;VALUE=DURATION:PT1H
X-Robots-Tag:noindex
X-PUBLISHED-TTL:PT1H
BEGIN:VTIMEZONE
TZID:Europe/Paris
BEGIN:DAYLIGHT
TZOFFSETFROM:+0100
TZOFFSETTO:+0200
TZNAME:CEST
DTSTART:20210328T010000
END:DAYLIGHT
BEGIN:STANDARD
TZOFFSETFROM:+0200
TZOFFSETTO:+0100
TZNAME:CET
DTSTART:20211031T010000
END:STANDARD
BEGIN:DAYLIGHT
TZOFFSETFROM:+0100
TZOFFSETTO:+0200
TZNAME:CEST
DTSTART:20220327T010000
END:DAYLIGHT
BEGIN:STANDARD
TZOFFSETFROM:+0200
TZOFFSETTO:+0100
TZNAME:CET
DTSTART:20221030T010000
END:STANDARD
BEGIN:DAYLIGHT
TZOFFSETFROM:+0100
TZOFFSETTO:+0200
TZNAME:CEST
DTSTART:20230326T010000
END:DAYLIGHT
BEGIN:STANDARD
TZOFFSETFROM:+0200
TZOFFSETTO:+0100
TZNAME:CET
DTSTART:20231029T010000
END:STANDARD
END:VTIMEZONE
BEGIN:VEVENT
DTSTART;TZID=Europe/Paris:20220908T233000
DTEND;TZID=Europe/Paris:20220908T233000
DTSTAMP:20260425T133728
CREATED:20220831T131537Z
LAST-MODIFIED:20221002T062902Z
UID:1726-1662679800-1662679800@jazzbah.es
SUMMARY:Cherries on top
DESCRIPTION:>> Line Up:\n☆ Violeta Villa @violeta_villa_\n☆ Valerie Jane @vaaleriejane\n☆ Alice Youngling @aliceyoungling\n☆ Andrea Love @andreaaalove_\n☆ Delafoxx @delafoxx\n☆ Brieela @brieeladj \nCherries on Top (@cherries0nt0p) es un colectivo que nació en Barcelona en el 2021. \nConformado por siete dj’s y productoras mujeres de diferentes nacionalidades\, destilan un estilo inigualable y rico en géneros musicales dentro del mundo de la electrónica underground. \n¡Prepárate para vivir una noche memorable!
URL:https://jazzbah.es/event/cherries-on-top/
CATEGORIES:2022,Concerts,Dj,Jazzbah,Party
ATTACH;FMTTYPE=image/jpeg:https://jazzbah.es/wp-content/uploads/2022/08/Slide-cherry.jpg
END:VEVENT
BEGIN:VEVENT
DTSTART;TZID=Europe/Paris:20220910T233000
DTEND;TZID=Europe/Paris:20220910T233000
DTSTAMP:20260425T133728
CREATED:20220829T133310Z
LAST-MODIFIED:20221002T063003Z
UID:1723-1662852600-1662852600@jazzbah.es
SUMMARY:Jazzbah: All Stars
DESCRIPTION:
URL:https://jazzbah.es/event/all-stars/
CATEGORIES:2022,Concerts,Dj,Jazzbah
ATTACH;FMTTYPE=image/jpeg:https://jazzbah.es/wp-content/uploads/2022/08/all-stars-slide.jpg
END:VEVENT
BEGIN:VEVENT
DTSTART;TZID=Europe/Paris:20220917T233000
DTEND;TZID=Europe/Paris:20220917T233000
DTSTAMP:20260425T133728
CREATED:20220511T155305Z
LAST-MODIFIED:20221002T062920Z
UID:1584-1663457400-1663457400@jazzbah.es
SUMMARY:Høuse 152: We Are Back
DESCRIPTION:The UK based\, Electronic Music Label ‘152 Records’ Presents: \nHøuse 152: WE ARE BACK. \nFollowing the success of the label’s showcase in Menorca in 2019\, the show is back on the island! \nFour International DJs will land in Menorca on the 17th of September 2022 and they’ll bring an exclusive audio/visual experience as no other in the neighbourhood. \nGet ready to immerse yourself in the sound of the London music scene. You’ll dance over the upcoming and latest hits from the Techno\, Tech-House and Bass House top releases\, including the 152 Records signatures. \nLINE UP:\nAlex Von Martin (UK)\nHysterism (ITA)\nRinicream (Menorca) \nSpecial Guest:\nEmeye (Nowhere) \nContact:\ninfo@152records.com\nwww.152records.com
URL:https://jazzbah.es/event/house-152/
CATEGORIES:2022,Concerts,Dj,Jazzbah
ATTACH;FMTTYPE=image/jpeg:https://jazzbah.es/wp-content/uploads/2022/05/Slide-Jazzbah-4.jpg
END:VEVENT
BEGIN:VEVENT
DTSTART;TZID=Europe/Paris:20220924T203000
DTEND;TZID=Europe/Paris:20220924T203000
DTSTAMP:20260425T133728
CREATED:20220427T033519Z
LAST-MODIFIED:20221002T062928Z
UID:1551-1664051400-1664051400@jazzbah.es
SUMMARY:StOp\, sToP!
DESCRIPTION:El grup “StOp\, sToP!” farà una aturada a Menorca dins de la gira presentació del seu nou disc “LOW COST LIFE” per un únic concert exclusiu a l’illa. \nUna de les bandes de hard rock internacionals més actives i atrevides del moment\, formada a Barcelona pel menorquí Jacob A.M. al 2009 i residents al Regne Unit des de fa 10 anys\, a on ja s’han fet un lloc per tot el circuit de clubs i festivals. Sense aturar de girar per Anglaterra i la resta d’Europa passant per reconeguts festivals internacionals com el “Monsters Of Rock” (USA)\, el “Stonedead festival” (U.K.) i compartint cartell amb artistes com “Alice Cooper”\, “Buckcherry”\, “Winger” entre d’altres\, “StOp\,sToP!” consoliden el seu seguiment que no deixa de créixer. \n\n\nDesprés d’exhaurir les entrades del seu primer concert a Menorca al 2019\, l’expectativa perque tornin no podria ser més grossa\, no espereu a darrera hora si no voleu quedar sense entrades!! \n\nSi ets amant del rock en estat pur i l’espectacle en directe\, aquesta és la teva cita de l’any!
URL:https://jazzbah.es/event/stop-stop-3/
LOCATION:Teatre Casino 17 de gener\, Avinguda de la Constitució\, 18\, Ciutadella\, ILLES BALEARS\, 07760
CATEGORIES:2022,Concerts,Teatre Casino 17 de gener
ATTACH;FMTTYPE=image/jpeg:https://jazzbah.es/wp-content/uploads/2022/04/Slide1.jpg
END:VEVENT
END:VCALENDAR