BEGIN:VCALENDAR
VERSION:2.0
PRODID:-//Jazzbah (Port de Ciutadella) - ECPv6.15.20//NONSGML v1.0//EN
CALSCALE:GREGORIAN
METHOD:PUBLISH
X-WR-CALNAME:Jazzbah (Port de Ciutadella)
X-ORIGINAL-URL:https://jazzbah.es
X-WR-CALDESC:Esdeveniments per Jazzbah (Port de Ciutadella)
REFRESH-INTERVAL;VALUE=DURATION:PT1H
X-Robots-Tag:noindex
X-PUBLISHED-TTL:PT1H
BEGIN:VTIMEZONE
TZID:Europe/Paris
BEGIN:DAYLIGHT
TZOFFSETFROM:+0100
TZOFFSETTO:+0200
TZNAME:CEST
DTSTART:20250330T010000
END:DAYLIGHT
BEGIN:STANDARD
TZOFFSETFROM:+0200
TZOFFSETTO:+0100
TZNAME:CET
DTSTART:20251026T010000
END:STANDARD
BEGIN:DAYLIGHT
TZOFFSETFROM:+0100
TZOFFSETTO:+0200
TZNAME:CEST
DTSTART:20260329T010000
END:DAYLIGHT
BEGIN:STANDARD
TZOFFSETFROM:+0200
TZOFFSETTO:+0100
TZNAME:CET
DTSTART:20261025T010000
END:STANDARD
BEGIN:DAYLIGHT
TZOFFSETFROM:+0100
TZOFFSETTO:+0200
TZNAME:CEST
DTSTART:20270328T010000
END:DAYLIGHT
BEGIN:STANDARD
TZOFFSETFROM:+0200
TZOFFSETTO:+0100
TZNAME:CET
DTSTART:20271031T010000
END:STANDARD
END:VTIMEZONE
BEGIN:VEVENT
DTSTART;TZID=Europe/Paris:20260402T223000
DTEND;TZID=Europe/Paris:20260402T223000
DTSTAMP:20260419T234657
CREATED:20251222T181326Z
LAST-MODIFIED:20251222T181604Z
UID:3719-1775169000-1775169000@jazzbah.es
SUMMARY:VERLAAT (PRESENTACIÓ DISC "PAAREIDOLIA")
DESCRIPTION:Per primera vegada al Jazzbah\, el quintet menorquí Verlaat arriba per presentar Paareidolia\, un disc que consolida el seu univers sonor més madur i personal. La banda proposa un estil que fusiona l’electrònica\, el funk i elements de pop i neo-funk\, amb un enfocament contemporani i una clara voluntat experimental. \nPaareidolia neix amb la intenció de traslladar l’energia i la continuïtat del directe al format disc\, combinant cançons amb passatges instrumentals que construeixen un paisatge sonor ric i dinàmic. Les lletres exploren temàtiques com el pas del temps\, les relacions personals\, la nostàlgia i la pressió social\, tot plegat dins una proposta sonora que connecta arrels mediterrànies amb influències musicals actuals. Un directe immersiu que convida a una escolta atenta i envoltant. \nAnticipada: 10 € (+dg) \nhttps://entradas.codetickets.com/entradas/verlaat/84754/jazzbah/online\n\nTaquilla: 14 € \n*Prohibida l’entrada a menors de 18 anys. \n\n\nObertura portes: 22:00 h\nConcert: 22:30 h
URL:https://jazzbah.es/event/verlaat/
CATEGORIES:2026,Concerts,Destacats,Jazzbah
ATTACH;FMTTYPE=image/jpeg:https://jazzbah.es/wp-content/uploads/2025/12/slide-VERLAAT.jpg
END:VEVENT
BEGIN:VEVENT
DTSTART;TZID=Europe/Paris:20260403T235900
DTEND;TZID=Europe/Paris:20260403T235900
DTSTAMP:20260419T234657
CREATED:20260323T174229Z
LAST-MODIFIED:20260323T174312Z
UID:3813-1775260740-1775260740@jazzbah.es
SUMMARY:Drastic Grooves 3r ANIVERSARI pres. Bojak (All Night Long)
DESCRIPTION:Drastic Grooves compleix tres anys! \n\n\nI ho celebrarà amb un ‘All Night Long‘ del seu fundador i un dels nostres residents: Bojak \n\n\nUn vespre on el jove Dj s’encarregarà de portarnos en un viatge musical amb la millor música electrònica. Des del silenci de l’inici fins al silenci del final. \n\n\nNo us ho podeu perdre! \n\n\n\nEntrades anticipades 7€\nhttps://entradas.codetickets.com/entradas/drastic-grooves_2267/88501/jazzbah/online\n\nEntrades a taquilla 10€
URL:https://jazzbah.es/event/drastic-grooves-3r-aniversari-pres-bojak-all-night-long/
CATEGORIES:2026,Concerts,Destacats,Dj,Jazzbah,Party
ATTACH;FMTTYPE=image/jpeg:https://jazzbah.es/wp-content/uploads/2026/03/DG_PORTADA-JAZZBAH_2.jpg
END:VEVENT
BEGIN:VEVENT
DTSTART;TZID=Europe/Paris:20260404T200000
DTEND;TZID=Europe/Paris:20260404T200000
DTSTAMP:20260419T234657
CREATED:20260203T181613Z
LAST-MODIFIED:20260203T181727Z
UID:3763-1775332800-1775332800@jazzbah.es
SUMMARY:FANDANGO ALL STARS
DESCRIPTION:Hi ha grups que van més enllà de pujar a un escenari\, creen records. I aquest n’és un exemple claríssim. La banda més festiva de l’illa torna al Jazzbah disposada a convertir la nit en una celebració sense fre\, d’aquelles que no s’obliden fàcilment. \nDurant prop de dues hores\, el públic viurà un viatge carregat d’himnes de sempre\, versions que enganxen a la primera i aquell toc imprevisible de bogeria i sorpreses que ja és marca de la casa. No és només un concert\, és una festa compartida\, intensa i desbordant. \nAl capdavant\, l’infatigable Pedro Sánchez\, referent absolut del rock menorquí\, conduint una banda de primer nivell. Judit Uris a la veu\, Pere Moll a la bateria\, Àngel Gelabert als teclats\, Joan Daben a la guitarra i Cesc Pallisser al baix. Junts formen una maquinària perfecta d’energia\, complicitat i actitud. \nAnticipades: 10 € (+dg)\nhttps://entradas.codetickets.com/entradas/fandango-all-stars_8533/85744/jazzbah/online\n \nObertura portes: 19:00 h\n\nConcert: 20:00 h \n*Prohibida l’entrada a menors de 18 anys.
URL:https://jazzbah.es/event/fandango-all-stars-5/
CATEGORIES:2026,Concerts,Destacats,Jazzbah,P-tardeo
ATTACH;FMTTYPE=image/jpeg:https://jazzbah.es/wp-content/uploads/2026/02/slide-FANDANGO-ALL-STARS-4_4_26.jpg
END:VEVENT
BEGIN:VEVENT
DTSTART;TZID=Europe/Paris:20260404T235900
DTEND;TZID=Europe/Paris:20260404T235900
DTSTAMP:20260419T234657
CREATED:20260401T140255Z
LAST-MODIFIED:20260401T140359Z
UID:3819-1775347140-1775347140@jazzbah.es
SUMMARY:SUGAR
DESCRIPTION:SUGAR és la cita imprescindible del Jazzbah. \nUna festa temàtica amb els hits més ballables del moment: des dels temes que van marcar una època fins a les novetats que estan sonant ara i els clàssics que mai fallen. \nAmb DJ XAPS\, un dels DJs de l’illa amb més trajectòria a nivell estatal i resident de SUGAR. Prepara’t per ballar sense parar amb una selecció explosiva que combina tendències actuals i grans favorits de totes les èpoques. \n  \nVine a gaudir d’una pista plena d’energia i deixa’t portar pels ritmes que no fallen mai. \n00:00 h \nProhibida l’entrada a menors de 18 anys.
URL:https://jazzbah.es/event/sugar/
CATEGORIES:2026,Concerts,Destacats,Dj,Jazzbah
ATTACH;FMTTYPE=image/jpeg:https://jazzbah.es/wp-content/uploads/2026/04/slide-SUGAR.jpeg
END:VEVENT
BEGIN:VEVENT
DTSTART;TZID=Europe/Paris:20260410T200000
DTEND;TZID=Europe/Paris:20260410T200000
DTSTAMP:20260419T234657
CREATED:20251222T182128Z
LAST-MODIFIED:20260213T151431Z
UID:3723-1775851200-1775851200@jazzbah.es
SUMMARY:RUDYMENTARI (PRESENTACIÓ NOU DISC)
DESCRIPTION:El menorquí Rudymentari presentarà el seu nou disc a Menorca el 2026 al Teatre del Casino de Ciutadella\, de la mà del Jazzbah\, tornant a un dels escenaris on la darrera vegada va penjar el cartell de sold out. Una cita especial que reforça la connexió de l’artista amb el públic de l’illa. \nRudymentari construeix el seu univers musical a partir dels ritmes jamaicans\, amb una base de reggae\, roots i rocksteady que dialoga amb l’esperit del sound system i la cultura rude boy. Les seves cançons destaquen per l’energia del directe i per unes lletres carregades de consciència\, reflexió i compromís social. \nAquest nou treball suposa un pas endavant en la seva trajectòria\, mantenint l’essència que defineix el projecte però explorant noves textures i matisos sonors. Un directe intens i proper que converteix cada concert en una experiència compartida amb el públic. \nOrgànic serà l’encarregat d’obrir la nit \n* Aforament limitat.\n** Concert a peu dret.\n*** Servei de bar dins el teatre. \nEls menors de 16 anys hauran d’anar acompanyats del seu pare\, mare o tutor/a legal\, que també haurà de disposar d’una entrada. Descarregar document d’accés menors de 16 anys aquí \nAnticipada: 16 € (+dg) \n\nhttps://woutick.com/es/entradas/rudymentari-a-menorca \n\nObertura portes:19:30 h\nConcert: 20 h
URL:https://jazzbah.es/event/rudymentari-presentacio-nou-disc/
CATEGORIES:2026,Concerts,Destacats,Teatre Casino 17 de gener
ATTACH;FMTTYPE=image/jpeg:https://jazzbah.es/wp-content/uploads/2025/12/slide-RUDYMENTARI.jpg
END:VEVENT
BEGIN:VEVENT
DTSTART;TZID=Europe/Paris:20260411T200000
DTEND;TZID=Europe/Paris:20260411T200000
DTSTAMP:20260419T234657
CREATED:20251217T175302Z
LAST-MODIFIED:20251219T045052Z
UID:3692-1775937600-1775937600@jazzbah.es
SUMMARY:GREEN LAND (EUROPE'S MOST AUTHENTIC GREEN DAY TRIBUTE BAND)
DESCRIPTION:Prepara’t per una nit sense descans on podràs cantar a pulmó obert saltar sense parar i vibrar amb els hits més icònics de la banda des del primer acord fins a l’últim bis serà una descàrrega d’energia punk-rock que et farà sentir com en un autèntic concert de Green Day. \n\n\n\nSi t’agrada Green Day aquest concert no te’l pots perdre! \n \n\n\nAnticipades a partir de 12€ (+dg)\n\nhttps://mutick.com/e/entradas-green-land-ciutadella-menorca \n\n\nObertura portes: 19:00 h\n\nConcert: 20:00 h \n*Prohibida l’entrada a menors de 18 anys.
URL:https://jazzbah.es/event/green-land-europes-most-authentic-green-day-tribute-band/
CATEGORIES:2026,Concerts,Destacats,Jazzbah,P-tardeo
ATTACH;FMTTYPE=image/jpeg:https://jazzbah.es/wp-content/uploads/2025/12/slide-GREEN-LAND.jpeg
END:VEVENT
BEGIN:VEVENT
DTSTART;TZID=Europe/Paris:20260417T210000
DTEND;TZID=Europe/Paris:20260417T210000
DTSTAMP:20260419T234657
CREATED:20251217T181128Z
LAST-MODIFIED:20251217T181128Z
UID:3699-1776459600-1776459600@jazzbah.es
SUMMARY:MARC SARRATS " VAQUES FLAQUES"
DESCRIPTION:Sequera\, inflació\, pandèmia\, ultradreta\, precarietat\, conspiranoia\, periodisme… A la societat se li estan fent bola les crisis i sembla que l’única sortida es troba en l’individualisme o la droga\, o la suma de les dues coses\, és a dir\, fer birra artesana. \n\nEl Marc Sarrats no és el superheroi que el món mereix\, ni potser el que necessita\, però és el que hem trobat i ve a proposar-nos maneres d’encarar l’Apocalipsi\, o\, molt pitjor\, tot el que passi mentre aquest no arriba. \nMarc Sarrats és un guionista i humorista català. És membre de El Soterrani\, màxim exponent de la nova escena catalana d’stand up\, i col·laborador dels programes Matina Codina de RAC 105 i Està passant de TV3.\n\nDurada de l’espectacle: 80 minuts.\n\nAnticipades: 13€ (+dg)\nhttps://entradas.codetickets.com/entradas/marc-sarrats—vaques-flaques-/84678/casino-17-de-gener/online \n\nTeatre del Casino (Ciutadella)
URL:https://jazzbah.es/event/marc-sarrats-vaques-flaques/
CATEGORIES:2026,Concerts,Destacats,Teatre Casino 17 de gener
ATTACH;FMTTYPE=image/jpeg:https://jazzbah.es/wp-content/uploads/2025/12/slide-MARC-SARRATS.jpg
END:VEVENT
BEGIN:VEVENT
DTSTART;TZID=Europe/Paris:20260418T200000
DTEND;TZID=Europe/Paris:20260418T200000
DTSTAMP:20260419T234657
CREATED:20260311T161532Z
LAST-MODIFIED:20260327T101006Z
UID:3802-1776542400-1776542400@jazzbah.es
SUMMARY:LA MOVIDA BAND
DESCRIPTION:La Movida Band és sinònim de festa\, nostàlgia i diversió.\nLa banda mallorquina torna al Jazzbah amb un espectacle vibrant per reviure els grans èxits de la Movida Madrileña\, l’edat daurada del pop espanyol. \nMés que un concert de versions\, La Movida Band ofereix un autèntic tribut\, respectant fidelment l’essència de les cançons originals i recreant tota l’energia d’una època que va marcar una generació. Amb el carisma i la versatilitat del camaleònic Joan Bagur a la veu\, el grup destaca pels constants canvis de registre i una posada en escena que connecta amb el públic des del primer moment. \nDurant dues hores i mitja d’espectacle\, el públic podrà gaudir d’un repàs pels grans himnes de Los Secretos\, El Último de la Fila\, La Unión\, Mecano\, M Clan\, Duncan Dhu\, Los Ronaldos\, Miguel Ríos\, Alaska\, Hombres G\, Loquillo\, Radio Futura\, Tequila\, Ramoncín i molts més. \nUn concert per cantar\, ballar i reviure tota la màgia de la Movida. \nAnticipades 15 € (+dg) https://entradium.com/events/la-movida-band-jazzbah\n\n(20 primeres entrades a 10€) \n*Prohibida l’entrada a menors de 18 anys. \n  \n\n\nObertura portes: 19:00 h\nConcert: 20:00 h
URL:https://jazzbah.es/event/la-movida-band-6/
CATEGORIES:2026,Concerts,Destacats,Jazzbah,P-tardeo
ATTACH;FMTTYPE=image/jpeg:https://jazzbah.es/wp-content/uploads/2026/03/slide-LA-MOVIDA.jpeg
END:VEVENT
BEGIN:VEVENT
DTSTART;TZID=Europe/Paris:20260425T200000
DTEND;TZID=Europe/Paris:20260425T200000
DTSTAMP:20260419T234657
CREATED:20260203T180550Z
LAST-MODIFIED:20260203T180802Z
UID:3754-1777147200-1777147200@jazzbah.es
SUMMARY:LOS BRINDIS (FESTA 60´S)
DESCRIPTION:LOS BRINDIS arriben per primera vegada als Ptardeo del Jazzbah amb un espectacle que ret homenatge al ritme\, l’energia i l’esperit dels anys 60. \nUn projecte únic a les illes que està causant sensació per la seva originalitat\, qualitat i una posada en escena potent i molt cuidada. Un xou trepidant i festiu que recupera les cançons dels grans grups de la dècada: Los Brincos\, Los Bravos\, Los Sírex\, Dúo Dinámico\, pioners del rock & roll a Espanya i imprescindibles en la història de la música nacional. \nLOS BRINDIS revisiten i actualitzen aquests himnes generacionals mantenint-se sempre fidels al so\, les veus\, els instruments\, l’estètica i l’esperit yeyé dels anys 60. \nL’espectacle es completa amb composicions pròpies\, creades amb els mateixos ritmes\, influències i l’energia d’aquella època daurada. \nUna autèntica festa yeyé inspirada en els gloriosos anys seixanta. \n\n\n\nAnticipades desde 10 € (+dg)\nhttps://mutick.com/e/entradas-los-brindis-menorca\n\n \nObertura portes: 19:00 h\n\nConcert: 20:00 h \n\n*Prohibida l’entrada a menors de 18 anys.
URL:https://jazzbah.es/event/los-brindis-festa-60s/
CATEGORIES:2026,Concerts,Destacats,Jazzbah,P-tardeo
ATTACH;FMTTYPE=image/jpeg:https://jazzbah.es/wp-content/uploads/2026/02/slide-LOS-BRINDIS-FESTA-60´S.jpeg
END:VEVENT
BEGIN:VEVENT
DTSTART;TZID=Europe/Paris:20260425T235900
DTEND;TZID=Europe/Paris:20260425T235900
DTSTAMP:20260419T234657
CREATED:20260415T142538Z
LAST-MODIFIED:20260415T142538Z
UID:3832-1777161540-1777161540@jazzbah.es
SUMMARY:FLAMENTRÓNIKA (ESPECIAL FERIA DE ABRIL)
DESCRIPTION:Flamentronika és la fusió del ball flamenc convertit en art amb les bailaoras La Ichi & Elena Barajas\, combinat amb la nova corrent que mescla el flamenc amb l’electrònica\, a càrrec de Byone (er Bione). Aquesta proposta està triomfant arreu del món amb artistes com Mestiza o Aaron Sevilla. \nL’espectacle\, de gairebé dues hores de durada\, començarà a les 00.30 h. El tancament anirà a càrrec d’un B2B entre Byone i Legong\, amb el millor de l’electrònica actual. \nEntrades a taquilla:  Entrada 10€ / Entrada + Consumición 15€ \n*No és permesa l’entrada a menors de 18 anys
URL:https://jazzbah.es/event/flamentronika-especial-feria-de-abril/
CATEGORIES:2026,Concerts,Destacats,Dj,Jazzbah,Party
ATTACH;FMTTYPE=image/jpeg:https://jazzbah.es/wp-content/uploads/2026/04/slide-FLAMENTRONIKA.jpeg
END:VEVENT
BEGIN:VEVENT
DTSTART;TZID=Europe/Paris:20260501T223000
DTEND;TZID=Europe/Paris:20260501T223000
DTSTAMP:20260419T234657
CREATED:20251222T183249Z
LAST-MODIFIED:20260310T184537Z
UID:3729-1777674600-1777674600@jazzbah.es
SUMMARY:TUOMALA + DAHLIA
DESCRIPTION:Per primera vegada al Jazzbah\, comptam amb les bandes emergents menorquines Tuomala i Dahlia\, en una nit dedicada a la nova escena musical de l’illa. \nTuomala és el projecte en solitari de Pedro S. Tuomala que\, després de molts anys participant en diversos projectes musicals\, presenta el seu primer disc en solitari amb una banda de luxe. L’acompanyen músics provinents de formacions com Verlaat\, Dahlia i The Other Side. Les seves cançons\, d’esperit rockero i cantades en català\, alternen moments íntims amb explosions guitarrístiques\, sense renunciar a espais per a l’experimentació. \nDahlia presenta una proposta que es mou entre el pop alternatiu i el rock progressiu\, amb un so cuidat i emotiu. Les seves composicions combinen melodies envoltants\, intensitat instrumental i lletres introspectives\, configurant un univers sonor propi dins l’escena emergent menorquina. \nUna oportunitat per descobrir dues veus noves de la música local en un escenari singular. \n\n\nAnticipada: 10 € (+dg) \n\nhttps://entradas.codetickets.com/entradas/tuomala-+-dahlia/88191/jazzbah/online \n\nConcert: 22:30 h
URL:https://jazzbah.es/event/tuomaladahlia/
CATEGORIES:2026,Concerts,Destacats,Jazzbah
ATTACH;FMTTYPE=image/jpeg:https://jazzbah.es/wp-content/uploads/2025/12/IMG-20260310-WA0005.jpg
END:VEVENT
BEGIN:VEVENT
DTSTART;TZID=Europe/Paris:20260502T200000
DTEND;TZID=Europe/Paris:20260502T200000
DTSTAMP:20260419T234657
CREATED:20260311T161842Z
LAST-MODIFIED:20260311T161941Z
UID:3806-1777752000-1777752000@jazzbah.es
SUMMARY:Y SIN EMBARGO... (TRIBUT A JOAQUÍN SABINA)
DESCRIPTION:Joaquín Sabina és un d’aquells artistes capaços de posar tothom d’acord. Un compositor que ha transcendit generacions amb lletres inconfusibles\, històries plenes de vida i un talent indiscutible que el converteix en una de les grans figures del pop espanyol. \nEl sextet mallorquí Y SIN EMBARGO… (Tributo a Sabina) recrea aquestes cançons amb fidelitat i gran qualitat musical\, oferint un espectacle que respecta l’essència i l’esperit de l’obra del cantautor. \nUn concert per tornar a escoltar els himnes que han marcat la vida de més d’una generació des de finals dels anys 70\, amb cançons que formen part de la banda sonora sentimental de milers de persones. \n\n\nAnticipades 15 € (+dg)\n https://entradium.com/events/tribut-a-sabina-y-sin-embargo-al-jazzbah\n*Prohibida l’entrada a menors de 18 anys. \n\n\nObertura portes: 19:00 h\nConcert: 20:00 h
URL:https://jazzbah.es/event/y-sin-embargo-tribut-a-joaquin-sabina-3/
CATEGORIES:2026,Concerts,Destacats,Jazzbah,P-tardeo
ATTACH;FMTTYPE=image/jpeg:https://jazzbah.es/wp-content/uploads/2026/03/slide-Y-SIN-EMBARGO.jpg
END:VEVENT
BEGIN:VEVENT
DTSTART;TZID=Europe/Paris:20260508T200000
DTEND;TZID=Europe/Paris:20260508T200000
DTSTAMP:20260419T234657
CREATED:20260418T052938Z
LAST-MODIFIED:20260419T072721Z
UID:3858-1778270400-1778270400@jazzbah.es
SUMMARY:CINE-CENA · COLOMBIA
DESCRIPTION:Gastronomía\, cine y música en una noche única \nPrepárate para viajar sin salir de Ciutadella…  \nEn esta nueva edición de Cine&Cena\, nos trasladamos a Colombia para vivir una velada llena de sabor\, ritmo y cine. \n  \n\n La película \n“Virus Tropical” (Santiago Caicedo\, 2017) \nUna historia íntima\, honesta y con mucho carácter que nos sumerge en la vida de una joven en Colombia\, explorando la familia\, la identidad y el crecimiento personal con una mirada única y muy especial. \n  \n La experiencia \nUna auténtica fiesta colombiana que combina: \n Cerveza colombiana\n Picada colombiana de la mano de La Guapa\n Proyección de la película\n Cumbias y ambientazo \nTodo acompañado por la música de Sonido Puñal\, que pondrá ritmo a la noche con una selección de sonidos latinos y festivos. \n  \n Entradas \nEntrada única: 20€\nhttps://entradas.codetickets.com/entradas/cine-cena-colombia/91263/casino-17-de-gener/online\nIncluye experiencia completa: comida + bebida + película + música \nUna noche para descubrir\, disfrutar y dejarse llevar por la cultura colombiana. \n  \n 8 de mayo\n 20 h\n Teatre del Casino – Ciutadella\n \n  \n ¿Te vienes de viaje con nosotros?
URL:https://jazzbah.es/event/cine-cena-%c2%b7-colombia/
CATEGORIES:2026,Cine cena,Concerts,Destacats,Teatre Casino 17 de gener
ATTACH;FMTTYPE=image/jpeg:https://jazzbah.es/wp-content/uploads/2026/04/WhatsApp-Image-2026-04-17-at-18.36.49.jpeg
END:VEVENT
BEGIN:VEVENT
DTSTART;TZID=Europe/Paris:20260509T200000
DTEND;TZID=Europe/Paris:20260509T200000
DTSTAMP:20260419T234657
CREATED:20260211T155213Z
LAST-MODIFIED:20260401T140321Z
UID:3777-1778356800-1778356800@jazzbah.es
SUMMARY:JORDI ÉVOLE Y LOS NIÑOS JESÚS
DESCRIPTION:El darrer Ptardeo de la temporada arriba com s’ho mereix\, amb una festa de dalt de tot amb els amics i ja habituals del Jazzbah\, Jordi Évole y Los Niños Jesús\, en exclusiva a la nostra sala i amb un valor afegit molt especial\, serà el primer concert de la nova gira del grup abans de voltar per tot el país. \nDesprés de fer-nos vibrar en cada visita\, Jordi Évole i els seus amics tornen al Jazzbah amb una nova farra carregada d’energia i bon rotllo. \nA dalt de l’escenari\, tot pot passar. Els seus concerts han comptat amb col·laboracions de luxe com Amaral\, Lori Meyers\, Kiko Veneno\, Albert Pla\, La La Love You\, Elefantes… i una llista que no para de créixer. \nEl seu repertori és una autèntica festa de versions: C. Tangana\, Extremoduro\, Estopa\, Extremoduro\, Kiko Veneno\, Jarabe de Palo i moltes més sorpreses. \nSi vols viure un capvespre irrepetible\, imprevisible i carregat de sorpreses\, aquest és el teu concert. \nAnticipades: 16 € (+dg) \nhttps://entradas.codetickets.com/entradas/jordi-evole-y-los-ninos-jesus/86593/jazzbah/online\n\n\nObertura portes: 19:00 h\n\nConcert: 20:00 h \n*Prohibida l’entrada a menors de 18 anys.
URL:https://jazzbah.es/event/jordi-evole-y-los-ninos-jesus/
CATEGORIES:2026,Concerts,Destacats,Jazzbah,P-tardeo
ATTACH;FMTTYPE=image/jpeg:https://jazzbah.es/wp-content/uploads/2026/02/nou-slide-JORDI-EVOLE-Y-LOS-NINOS-JESUS.jpeg
END:VEVENT
BEGIN:VEVENT
DTSTART;TZID=Europe/Paris:20260516T220000
DTEND;TZID=Europe/Paris:20260516T220000
DTSTAMP:20260419T234657
CREATED:20260415T150941Z
LAST-MODIFIED:20260419T061135Z
UID:3835-1778968800-1778968800@jazzbah.es
SUMMARY:ESPINA + DRAC NEGRE (NIT METAL ROCK)
DESCRIPTION:Nit de Metal i Rock menorquí al Jazzbah. \n  \n\n\nEspina (hard rock)\nArrelats en el rock\, Espina construeix un so intens i emocional\, amb lletres que remouen per dins. El seu directe busca la connexió amb el públic a través d’una proposta tan contundent com honesta. Representen el rock menorquí actual visceral i sincer\, amb cançons que neixen tant de l’ànima com de les entranyes\, i que reflecteixen una realitat illenca allunyada dels tòpics però profundament humana.\n\nDrac Negre\nNova formació menorquina de hard rock / metal que irromp amb un directe contundent\, carregat de riffs potents i una actitud sense concessions. Combinen temes propis amb versions re interpretades amb personalitat\, fusionant essència clàssica i mirada contemporània. \n\n\n\nAnticipada: 7 € (+dg) Taquilla: 10 €\nhttps://entradas.codetickets.com/entradas/espina-+-drac-negre–nit-metal-rock-/91271/jazzbah/online  \n*Prohibida l’entrada a menors de 18 anys.\n\nObertura portes: 21.30 h\nConcert: 22 h
URL:https://jazzbah.es/event/espina-drac-negre-nit-metal-rock/
CATEGORIES:2026,Concerts,Destacats,Jazzbah
ATTACH;FMTTYPE=image/jpeg:https://jazzbah.es/wp-content/uploads/2026/04/slide-ESPINA-DRAC-NEGRE.jpg
END:VEVENT
BEGIN:VEVENT
DTSTART;TZID=Europe/Paris:20260522T235900
DTEND;TZID=Europe/Paris:20260522T235900
DTSTAMP:20260419T234657
CREATED:20260417T143917Z
LAST-MODIFIED:20260417T155858Z
UID:3852-1779494340-1779494340@jazzbah.es
SUMMARY:HOUSE WAVES
DESCRIPTION:House Waves aterra per primera vegada a Jazzbah després del seu recorregut per Granada i Menorca. Per a aquest debut\, la marca presenta una nit amb una atmósfera underground sofisticada\, centrada en el house i el tech house\, pensada especialment per al clubber que busca qualitat i frescor a la pista. \n\n\nDes de Madrid ens acompanya Yannik\, un artista consolidat dins l’escena internacional amb diversos Top 10 a les llistes de vendes. El seu so house i tech house underground compta amb el suport de figures com Marco Carola\, Paco Osuna o Wade. A cabina\, Yannik destaca per sessions d’energia desbordant\, dinàmiques i orientades al 100% al ball. \nCompleten el lineup:\nOMAK | CLOUSE | LEGONG | IBRA P \nPromoció Early Bird 5 € (+dg)\nAnticipada General 7€ (+dg).\nhttps://entradas.codetickets.com/entradas/house-waves/91245/jazzbah/online \n*Prohibida l’entrada a menors de 18 anys
URL:https://jazzbah.es/event/house-waves/
CATEGORIES:2026,Concerts,Destacats,Dj,Jazzbah
ATTACH;FMTTYPE=image/jpeg:https://jazzbah.es/wp-content/uploads/2026/04/slide-HOUSE-WAVES.jpg
END:VEVENT
BEGIN:VEVENT
DTSTART;TZID=Europe/Paris:20260530T223000
DTEND;TZID=Europe/Paris:20260530T223000
DTSTAMP:20260419T234657
CREATED:20260211T155913Z
LAST-MODIFIED:20260211T155913Z
UID:3781-1780180200-1780180200@jazzbah.es
SUMMARY:JUVENTUDE (GPS16)
DESCRIPTION:Arriba al Jazzbah JUVENTUDE\, una autèntica explosió de música i estils sorprenents que no entén d’etiquetes ni de normes. El duet format per Ángel i Nico\, dos joves andalusos amb ganes de sacsejar l’escena indie estatal\, aterra a la nostra sala amb un directe que promet ball\, actitud i sorpresa. \nElls mateixos defineixen la seva proposta com a “pop surrealista pa’ la peña de la pista”: una barreja tan lliure com irresistible de folklore andalús\, pop\, rock\, indie i sons més kinkis\, amb una estètica que no deixa indiferent i un directe que enganxa des del primer minut. \nDesprés de captar l’atenció amb els seus primers singles\, JUVENTUDE es prepara per publicar el seu primer LP a l’octubre de 2025\, editat per Calaverita Records\, i inicia una gira per sales i festivals d’arreu de l’Estat que arrenca al Jazzbah. \nSi t’agrada descobrir propostes noves\, diferents i amb personalitat\, aquest és el teu pla de dissabte. \nA dalt de l’escenari: \nÁngel Barbero Carralero – veu\, teclats i guitarra\nNicolás González Morillo – veu i baix\nCarlos Conradi González – guitarra i cors\nJuan Rodríguez Rengel – bateria i cors \nUn concert molt especial per iniciar els directes al Jazzbah\, amb el suport i la col·laboració de GPS i INAEM. \n \nAnticipades: 10 €   https://feverup.com/m/476486 \n*Prohibida l’entrada a menors de 18 anys.\n\n 
URL:https://jazzbah.es/event/juventude-gps16/
CATEGORIES:2026,Concerts,Destacats,Jazzbah
ATTACH;FMTTYPE=image/jpeg:https://jazzbah.es/wp-content/uploads/2026/02/slide-JUVENTUDE.jpeg
END:VEVENT
BEGIN:VEVENT
DTSTART;TZID=Europe/Paris:20260606T210000
DTEND;TZID=Europe/Paris:20260606T210000
DTSTAMP:20260419T234657
CREATED:20260413T135135Z
LAST-MODIFIED:20260417T142422Z
UID:3826-1780779600-1780779600@jazzbah.es
SUMMARY:SUC I SOPES (CONCERT PRESENTACIÓ NOU DISC)
DESCRIPTION:SUC I SOPES presenten el seu nou disc al Teatre del Casino de Ciutadella. \nEl pròxim 6 de juny\, la banda ciutadellenca Suc i Sopes puja a l’escenari per presentar en directe Lo més clar és s’embull\, el seu tercer treball discogràfic. Després d’un recorregut que va començar amb versions entre amics i que els ha portat a consolidar un so propi —fresc\, proper i amb clara essència menorquina—\, el grup arriba en un moment clau de maduresa artística. \nAmb cançons que connecten des de la quotidianitat\, la ironia i l’emoció\, i amb directes que destaquen per la seva energia i complicitat amb el públic\, Suc i Sopes s’han convertit en una de les propostes més estimades de l’illa. El seu creixement també s’ha vist reflectit en col·laboracions destacades com amb O-ERRA i en el reconeixement com a finalistes als Premis Enderrock Balears a millor cançó. \nUna nova etapa\, noves cançons i el mateix esperit de sempre.  \n* Aforament limitat.\n** Concert a peu dret.\n*** Servei de bar dins el teatre. \nEls menors de 16 anys hauran d’anar acompanyats del seu pare\, mare o tutor/a legal\, que també haurà de disposar d’una entrada. Descarregar document d’accés menors de 16 anys aquí \nAnticipades: 10 € (+dg)\nhttps://entradas.codetickets.com/entradas/suc-i-sopes–concert-presentacio-nou-disc-/91048/casino-17-de-gener/online\n \nObertura portes: 20:30 h / Concert: 21:00 h
URL:https://jazzbah.es/event/suc-i-sopes-concert-presentacio-nou-disc/
CATEGORIES:2026,Concerts,Destacats,Teatre Casino 17 de gener
ATTACH;FMTTYPE=image/jpeg:https://jazzbah.es/wp-content/uploads/2026/04/slide-SUC-I-SOPES.jpeg
END:VEVENT
BEGIN:VEVENT
DTSTART;TZID=Europe/Paris:20260626T223000
DTEND;TZID=Europe/Paris:20260626T223000
DTSTAMP:20260419T234657
CREATED:20260417T142107Z
LAST-MODIFIED:20260417T142134Z
UID:3847-1782513000-1782513000@jazzbah.es
SUMMARY:FERRAN PALAU
DESCRIPTION:Ferran Palau presenta Aniversari feliç al Jazzbah. \nFerran Palau arriba amb un nou treball que marca un punt d’inflexió en la seva trajectòria. Aniversari feliç és un disc íntim i evocador que deixa enrere la bateria per construir un univers sonor aeri i minimalista\, protagonitzat per cordes\, vents i guitarres reverberades. \nAmb el seu imaginari abstracte\, Ferran Palau explora el pas del temps\, la vida\, la mort i l’amor des de la subtilesa i el misteri\, portant la cançó cap a la seva essència més pura. \nCoproduït amb Jordi Matas\, Aniversari feliç depura l’essència de la cançó fins a l’origen\, en un espai sonor gairebé suspès\, ennuvolat i profundament personal. \nDesprés de discos com Kevin o Joia\, presenta una proposta delicada i profundament emocional que convida a escoltar des del silenci. \nUn directe íntim\, proper i preciosista per deixar-se portar. \nFormació:\nFerran Palau: veu\, guitarra\, ukelele i cors\nBruna González: violoncel\nMarcel·lí Bayer: flauta travessera i clarinet \nAnticipada: 12 € (+dg)\nhttps://entradas.codetickets.com/entradas/ferran-palau_7519/91244/jazzbah/online\nTaquilla: 15 €\n\n*Prohibida l’entrada a menors de 18 anys. \n\n\nObertura portes: 22:00 h\nConcert: 22:30 h
URL:https://jazzbah.es/event/ferran-palau/
CATEGORIES:2026,Concerts,Destacats,Jazzbah
ATTACH;FMTTYPE=image/jpeg:https://jazzbah.es/wp-content/uploads/2026/04/slide-FERRAN-PALAU.jpg
END:VEVENT
END:VCALENDAR