BEGIN:VCALENDAR
VERSION:2.0
PRODID:-//Jazzbah (Port de Ciutadella) - ECPv6.15.20//NONSGML v1.0//EN
CALSCALE:GREGORIAN
METHOD:PUBLISH
X-WR-CALNAME:Jazzbah (Port de Ciutadella)
X-ORIGINAL-URL:https://jazzbah.es
X-WR-CALDESC:Esdeveniments per Jazzbah (Port de Ciutadella)
REFRESH-INTERVAL;VALUE=DURATION:PT1H
X-Robots-Tag:noindex
X-PUBLISHED-TTL:PT1H
BEGIN:VTIMEZONE
TZID:Europe/Paris
BEGIN:DAYLIGHT
TZOFFSETFROM:+0100
TZOFFSETTO:+0200
TZNAME:CEST
DTSTART:20240331T010000
END:DAYLIGHT
BEGIN:STANDARD
TZOFFSETFROM:+0200
TZOFFSETTO:+0100
TZNAME:CET
DTSTART:20241027T010000
END:STANDARD
BEGIN:DAYLIGHT
TZOFFSETFROM:+0100
TZOFFSETTO:+0200
TZNAME:CEST
DTSTART:20250330T010000
END:DAYLIGHT
BEGIN:STANDARD
TZOFFSETFROM:+0200
TZOFFSETTO:+0100
TZNAME:CET
DTSTART:20251026T010000
END:STANDARD
BEGIN:DAYLIGHT
TZOFFSETFROM:+0100
TZOFFSETTO:+0200
TZNAME:CEST
DTSTART:20260329T010000
END:DAYLIGHT
BEGIN:STANDARD
TZOFFSETFROM:+0200
TZOFFSETTO:+0100
TZNAME:CET
DTSTART:20261025T010000
END:STANDARD
END:VTIMEZONE
BEGIN:VEVENT
DTSTART;TZID=Europe/Paris:20250412T210000
DTEND;TZID=Europe/Paris:20250412T210000
DTSTAMP:20260425T031908
CREATED:20250327T153959Z
LAST-MODIFIED:20250327T154140Z
UID:3168-1744491600-1744491600@jazzbah.es
SUMMARY:TEATRE / YO SOY UNA FIESTA
DESCRIPTION:Premis: Art Jove 2023 de les Illes Balears \nArran de la mort inesperada de la Yaya\, l’Àngela decideix canviar la lògica del món\, sumergint-se dins del seu dolor organitzant l’aniversari de la seva àvia ausent. Així s’enfrontarà a un altre conflicte que ha estat rebutjant; ara no només ha perdut la seva àvia\, sinó que tambè\, es sent sense mare. En aquesta festa\, l’acompanyarà la seva amiga Cami que a vegades semblarà ser ella mateixa o totes les dones del món. \nYO SOY UNA FIESTA és una obra de teatre físic en la qual s’explora\, entre calamars i confeti\, temes com les àvies\, la identitat\, el dol i el rol de les mares. La proposta és contemporània i no segueix una estructura lineal. A través d’escenes fragmentades\, el públic descobrirà el que s’amaga sota aquest entramat surrealista i\, alhora\, quotidià. \nLa posada en escena presenta cossos en constant moviment\, que ballen\, senten\, parlen\, riuen i ploren. A més\, s’enriqueix amb veus que semblen venir des de lluny. L’obra és un drama disfressat de comèdia: encara que és fàcil riure i empatitzar amb els personatges\, el rerefons és profundament sensible. \nFITXA ARTÍSTICA: \n– Creació i dramatúrgia: Camila Grigera\, Àngela Tortajada i Lola Vera \n– Direcció: Lola Vera \n– Intèrprets: Camila Grigera i Àngela Tortajada \n– Assistència coreogràfica: Mercedes Ferrari \n– Assistència artística: Yandra de la Mano \n– Disseny de vestuari: Cristina Tavano i Emilia Repetto \n– Disseny sonor: Clelia Patrono \n– Disseny d’il·luminació: Soledad Ianni \n– Consultora escenogràfica: Francisca Armando \n– Disseny gràfic: Flor Bembihy \n-Tècnica de llums i so: Gràcia Cardona \n– Material audiovisual: Catalina Golçalves \n– Fotografia: Marina Torres Guerra i Adriana Suárez \n– Producció executiva i distribució: La Resistència Teatre \n– Assistència de producció: Anabella Hernández \n  \nEntrades anticipada 12€ (+dg)\nhttps://entradas.codetickets.com/entradas/yo-soy-una-fiesta/67922/casino-17-de-gener/online\n \n\nUBICACIÓ:\nTeatre del Casino 17 de Gener\nAvinguda Constitució\, 18 (Ciutadella de Menorca)
URL:https://jazzbah.es/event/teatre-yo-soy-una-fiesta/
CATEGORIES:2025,Concerts,Destacats,Teatre,Teatre Casino 17 de gener
ATTACH;FMTTYPE=image/jpeg:https://jazzbah.es/wp-content/uploads/2025/03/slide-YO-SOY-UNA-FIESTA.jpg
END:VEVENT
END:VCALENDAR