BEGIN:VCALENDAR
VERSION:2.0
PRODID:-//Jazzbah (Port de Ciutadella) - ECPv6.15.20//NONSGML v1.0//EN
CALSCALE:GREGORIAN
METHOD:PUBLISH
X-WR-CALNAME:Jazzbah (Port de Ciutadella)
X-ORIGINAL-URL:https://jazzbah.es
X-WR-CALDESC:Esdeveniments per Jazzbah (Port de Ciutadella)
REFRESH-INTERVAL;VALUE=DURATION:PT1H
X-Robots-Tag:noindex
X-PUBLISHED-TTL:PT1H
BEGIN:VTIMEZONE
TZID:Europe/Paris
BEGIN:DAYLIGHT
TZOFFSETFROM:+0100
TZOFFSETTO:+0200
TZNAME:CEST
DTSTART:20220327T010000
END:DAYLIGHT
BEGIN:STANDARD
TZOFFSETFROM:+0200
TZOFFSETTO:+0100
TZNAME:CET
DTSTART:20221030T010000
END:STANDARD
BEGIN:DAYLIGHT
TZOFFSETFROM:+0100
TZOFFSETTO:+0200
TZNAME:CEST
DTSTART:20230326T010000
END:DAYLIGHT
BEGIN:STANDARD
TZOFFSETFROM:+0200
TZOFFSETTO:+0100
TZNAME:CET
DTSTART:20231029T010000
END:STANDARD
BEGIN:DAYLIGHT
TZOFFSETFROM:+0100
TZOFFSETTO:+0200
TZNAME:CEST
DTSTART:20240331T010000
END:DAYLIGHT
BEGIN:STANDARD
TZOFFSETFROM:+0200
TZOFFSETTO:+0100
TZNAME:CET
DTSTART:20241027T010000
END:STANDARD
END:VTIMEZONE
BEGIN:VEVENT
DTSTART;TZID=Europe/Paris:20230809T210000
DTEND;TZID=Europe/Paris:20230809T210000
DTSTAMP:20260423T210629
CREATED:20230602T052724Z
LAST-MODIFIED:20230726T043403Z
UID:1984-1691614800-1691614800@jazzbah.es
SUMMARY:Joan Dausà (concert íntim / veu i piano)
DESCRIPTION:Joan Dausà arriba a Ciutadella de la mà de Jazzbah per oferir un concert especial i íntim\, una oportunitat única per gaudir d’un dels artistes més populars i influents dels darrers temps a Catalunya. Tot una icona. \nEnguany fa deu anys que el Joan Dausà va estrenar una de les cançons més icòniques de la seva carrera musical\, ‘Jo mai mai’. De fet\, formava part del seu disc de debut\, amb el mateix nom\, i que va sortir el 2012. Però cosa de la màgia del boca a boca i sobretot gràcies a la pel·lícula Barcelona nit d’estiu (2013)\, inspirada en la cançó i dirigida pel Dani de la Orden\, que es va torna un fenomen de masses\, la seva obra va aconseguir el trampolí per fer-se conèixer arreu. \nDes d’aleshores\, n’han vingut moltíssimes més\, èxits i discos que l’han fet sumar tota una legió de seguidors a Catalunya i més enllà. \nEntrada 25€ / 30€ / 35€
URL:https://jazzbah.es/event/joan-dausa-concert-intim/
CATEGORIES:2023,Concerts,Destacats,Teatre des Born
ATTACH;FMTTYPE=image/jpeg:https://jazzbah.es/wp-content/uploads/2023/06/Exhaurides.jpeg
END:VEVENT
END:VCALENDAR