BEGIN:VCALENDAR
VERSION:2.0
PRODID:-//Jazzbah (Port de Ciutadella) - ECPv6.15.20//NONSGML v1.0//EN
CALSCALE:GREGORIAN
METHOD:PUBLISH
X-ORIGINAL-URL:https://jazzbah.es
X-WR-CALDESC:Esdeveniments per Jazzbah (Port de Ciutadella)
REFRESH-INTERVAL;VALUE=DURATION:PT1H
X-Robots-Tag:noindex
X-PUBLISHED-TTL:PT1H
BEGIN:VTIMEZONE
TZID:Europe/Paris
BEGIN:DAYLIGHT
TZOFFSETFROM:+0100
TZOFFSETTO:+0200
TZNAME:CEST
DTSTART:20220327T010000
END:DAYLIGHT
BEGIN:STANDARD
TZOFFSETFROM:+0200
TZOFFSETTO:+0100
TZNAME:CET
DTSTART:20221030T010000
END:STANDARD
BEGIN:DAYLIGHT
TZOFFSETFROM:+0100
TZOFFSETTO:+0200
TZNAME:CEST
DTSTART:20230326T010000
END:DAYLIGHT
BEGIN:STANDARD
TZOFFSETFROM:+0200
TZOFFSETTO:+0100
TZNAME:CET
DTSTART:20231029T010000
END:STANDARD
BEGIN:DAYLIGHT
TZOFFSETFROM:+0100
TZOFFSETTO:+0200
TZNAME:CEST
DTSTART:20240331T010000
END:DAYLIGHT
BEGIN:STANDARD
TZOFFSETFROM:+0200
TZOFFSETTO:+0100
TZNAME:CET
DTSTART:20241027T010000
END:STANDARD
END:VTIMEZONE
BEGIN:VEVENT
DTSTART;TZID=Europe/Paris:20230506T200000
DTEND;TZID=Europe/Paris:20230506T200000
DTSTAMP:20260424T020310
CREATED:20230417T161952Z
LAST-MODIFIED:20230417T162117Z
UID:1914-1683403200-1683403200@jazzbah.es
SUMMARY:The Red Hot Experience
DESCRIPTION:The Red Hot Experience és un homenatge espectacular als RED HOT CHILI PEPPERS. Amb un directe aclaparador\, la banda mallorquina arriba a Menorca per oferir un repàs de les millors cançons de la banda californiana. Una bona dosi de funky\, groove\, rock i sobretot\, amb ganes de posar de cap per avall el Jazzbah. \n“Un show al més estil californià en homenatge a una de les bandes més influents del rock alternatiu!” \nAmb una gran posada en escena\, The Red Hot Experience ofereixen un show amb energia aclaparadora. No podràs deixar de ballar\, saltar i cantar amb cançons que han marcat tota una època com: Californication\, Give it away\, Under the bridge\, Otherside\, Scar Tissue\, Can’t stop\, entre moltíssims altres. \nNo t’ho pots perdre! \nObertura portes 19h (sesió dj rock alternatiu 90’s)\nConcert 20h  \nEntrada Anticipadas: 12€ / Taquilla 15€
URL:https://jazzbah.es/event/theredhotexperience/
CATEGORIES:2023,Concerts,Destacats,Jazzbah,P-tardeo,Teatre des Born
ATTACH;FMTTYPE=image/jpeg:https://jazzbah.es/wp-content/uploads/2023/04/Slide-Jazzbah-2.jpg
END:VEVENT
END:VCALENDAR