BEGIN:VCALENDAR
VERSION:2.0
PRODID:-//Jazzbah (Port de Ciutadella) - ECPv6.15.20//NONSGML v1.0//EN
CALSCALE:GREGORIAN
METHOD:PUBLISH
X-WR-CALNAME:Jazzbah (Port de Ciutadella)
X-ORIGINAL-URL:https://jazzbah.es
X-WR-CALDESC:Esdeveniments per Jazzbah (Port de Ciutadella)
REFRESH-INTERVAL;VALUE=DURATION:PT1H
X-Robots-Tag:noindex
X-PUBLISHED-TTL:PT1H
BEGIN:VTIMEZONE
TZID:Europe/Paris
BEGIN:DAYLIGHT
TZOFFSETFROM:+0100
TZOFFSETTO:+0200
TZNAME:CEST
DTSTART:20200329T010000
END:DAYLIGHT
BEGIN:STANDARD
TZOFFSETFROM:+0200
TZOFFSETTO:+0100
TZNAME:CET
DTSTART:20201025T010000
END:STANDARD
BEGIN:DAYLIGHT
TZOFFSETFROM:+0100
TZOFFSETTO:+0200
TZNAME:CEST
DTSTART:20210328T010000
END:DAYLIGHT
BEGIN:STANDARD
TZOFFSETFROM:+0200
TZOFFSETTO:+0100
TZNAME:CET
DTSTART:20211031T010000
END:STANDARD
BEGIN:DAYLIGHT
TZOFFSETFROM:+0100
TZOFFSETTO:+0200
TZNAME:CEST
DTSTART:20220327T010000
END:DAYLIGHT
BEGIN:STANDARD
TZOFFSETFROM:+0200
TZOFFSETTO:+0100
TZNAME:CET
DTSTART:20221030T010000
END:STANDARD
END:VTIMEZONE
BEGIN:VEVENT
DTSTART;TZID=Europe/Paris:20211204T203000
DTEND;TZID=Europe/Paris:20211204T203000
DTSTAMP:20260425T054722
CREATED:20211102T193303Z
LAST-MODIFIED:20221002T063805Z
UID:1489-1638649800-1638649800@jazzbah.es
SUMMARY:El Linares (Teatre des Born)
DESCRIPTION:ENTRADA ANTICIPADA AQUÍ \nEl Linares és un producte nascut de l’evolució natural de José Luís Linares\, qui com a artista\, ha fusionat les seves arrels flamenques i de copla\, les quals el van formar de nen\, amb la seva carrera de pop/rock i cantautor que ha seguit des de la seva adolescència\, per a aconseguir formar aquest nou projecte. \nAquest\, és un punt d’inflexió en el qual ha aconseguit compondre una nova sèrie de cançons de temàtica positivista i festiva\, amb tornades directes i en forma de Pop/Rumba on poden trobar-se matisos de diversos estils com el Blues\, Samba\, Murga\, Disc… conservant fidelment l’essència de la rumba flamenca dels anys 80. Tot això es trasmet en un directe amb passió i energia irresistibles\, que poden veure’s plasmades en la seva guitarra flamenca veloç i contundent i en la banda que l’ acompanya. \nJose Luis Linares: Veu i Guitarra espanyola\nNacho Olivar: Guitarra\nJose Montes: Baix\nPere Moll: Bateria
URL:https://jazzbah.es/event/el-linares-teatre-des-born/
LOCATION:Teatre des Born\, Plaça des Born\, 0 S/N\, CIUTADELLA DE MENORCA\, ILLES BALEARS\, 07760
CATEGORIES:2021,Concerts,Teatre des Born
ATTACH;FMTTYPE=image/jpeg:https://jazzbah.es/wp-content/uploads/2021/11/Slide-Linares.jpg
END:VEVENT
END:VCALENDAR