BEGIN:VCALENDAR
VERSION:2.0
PRODID:-//Jazzbah (Port de Ciutadella) - ECPv6.15.20//NONSGML v1.0//EN
CALSCALE:GREGORIAN
METHOD:PUBLISH
X-WR-CALNAME:Jazzbah (Port de Ciutadella)
X-ORIGINAL-URL:https://jazzbah.es
X-WR-CALDESC:Esdeveniments per Jazzbah (Port de Ciutadella)
REFRESH-INTERVAL;VALUE=DURATION:PT1H
X-Robots-Tag:noindex
X-PUBLISHED-TTL:PT1H
BEGIN:VTIMEZONE
TZID:Europe/Paris
BEGIN:DAYLIGHT
TZOFFSETFROM:+0100
TZOFFSETTO:+0200
TZNAME:CEST
DTSTART:20230326T010000
END:DAYLIGHT
BEGIN:STANDARD
TZOFFSETFROM:+0200
TZOFFSETTO:+0100
TZNAME:CET
DTSTART:20231029T010000
END:STANDARD
BEGIN:DAYLIGHT
TZOFFSETFROM:+0100
TZOFFSETTO:+0200
TZNAME:CEST
DTSTART:20240331T010000
END:DAYLIGHT
BEGIN:STANDARD
TZOFFSETFROM:+0200
TZOFFSETTO:+0100
TZNAME:CET
DTSTART:20241027T010000
END:STANDARD
BEGIN:DAYLIGHT
TZOFFSETFROM:+0100
TZOFFSETTO:+0200
TZNAME:CEST
DTSTART:20250330T010000
END:DAYLIGHT
BEGIN:STANDARD
TZOFFSETFROM:+0200
TZOFFSETTO:+0100
TZNAME:CET
DTSTART:20251026T010000
END:STANDARD
END:VTIMEZONE
BEGIN:VEVENT
DTSTART;TZID=Europe/Paris:20240815T190000
DTEND;TZID=Europe/Paris:20240815T190000
DTSTAMP:20260425T193413
CREATED:20240814T135306Z
LAST-MODIFIED:20240814T135429Z
UID:2963-1723748400-1723748400@jazzbah.es
SUMMARY:Joan Dausà
DESCRIPTION:NOU CONCERT A LES 19H \nConcert amb Pedra Viva \nJoan Dausà viu un dels moments més dolços de la seva carrera musical després de convertir-se en un dels pocs solistes que\, cantant en català\, ha aconseguit en pocs mesos omplir amb milers de persones el Palau Sant Jordi de Barcelona i el Palacio Vista Alegre de Madrid. Aquesta fita històrica\, anteriorment només assolida per grans noms de la cançó com Joan Manuel Serrat o Lluís Llach\, consolida Joan Dausà com un dels artistes referents de l’actual escena musical del país. Aquest 2024\, el santfeliuenc oferirà un nombre molt reduït de concerts per poder preparar noves cançons de cara l’any vinent. Molt contents que Pedra Viva en col·laboració amb Jazzbah sigui una d’aquestes poques oportunitats de veure’l en directe. \nEntrades anticipades: https://pedravivamenorca.koobin.com/joandausa \nNova Ubicació: Sala Multifuncional de Ciutadella
URL:https://jazzbah.es/event/joan-dausa-3/
CATEGORIES:2024,25è Aniversari,Concerts,Destacats,Sala Polivalent Canal Salat
ATTACH;FMTTYPE=image/jpeg:https://jazzbah.es/wp-content/uploads/2024/08/Nou-concert.jpeg
END:VEVENT
BEGIN:VEVENT
DTSTART;TZID=Europe/Paris:20240815T220000
DTEND;TZID=Europe/Paris:20240815T220000
DTSTAMP:20260425T193413
CREATED:20240418T141314Z
LAST-MODIFIED:20240814T135512Z
UID:2549-1723759200-1723759200@jazzbah.es
SUMMARY:Joan Dausà
DESCRIPTION:Concert amb Pedra Viva \nJoan Dausà viu un dels moments més dolços de la seva carrera musical després de convertir-se en un dels pocs solistes que\, cantant en català\, ha aconseguit en pocs mesos omplir amb milers de persones el Palau Sant Jordi de Barcelona i el Palacio Vista Alegre de Madrid. Aquesta fita històrica\, anteriorment només assolida per grans noms de la cançó com Joan Manuel Serrat o Lluís Llach\, consolida Joan Dausà com un dels artistes referents de l’actual escena musical del país. Aquest 2024\, el santfeliuenc oferirà un nombre molt reduït de concerts per poder preparar noves cançons de cara l’any vinent. Molt contents que Pedra Viva en col·laboració amb Jazzbah sigui una d’aquestes poques oportunitats de veure’l en directe. \nEntrades exhaurides \nNova Ubicació: Sala Multifuncional de Ciutadella
URL:https://jazzbah.es/event/joan-dausa-2/
LOCATION:Torre Saura\, Ciutadella de Menorca\, Islas Baleares\, 07760
CATEGORIES:2024,25è Aniversari,Concerts,Destacats,Sala Polivalent Canal Salat
ATTACH;FMTTYPE=image/jpeg:https://jazzbah.es/wp-content/uploads/2024/04/Nova-ubicacio.jpeg
END:VEVENT
END:VCALENDAR