BEGIN:VCALENDAR
VERSION:2.0
PRODID:-//Jazzbah (Port de Ciutadella) - ECPv6.15.20//NONSGML v1.0//EN
CALSCALE:GREGORIAN
METHOD:PUBLISH
X-ORIGINAL-URL:https://jazzbah.es
X-WR-CALDESC:Esdeveniments per Jazzbah (Port de Ciutadella)
REFRESH-INTERVAL;VALUE=DURATION:PT1H
X-Robots-Tag:noindex
X-PUBLISHED-TTL:PT1H
BEGIN:VTIMEZONE
TZID:Europe/Paris
BEGIN:DAYLIGHT
TZOFFSETFROM:+0100
TZOFFSETTO:+0200
TZNAME:CEST
DTSTART:20250330T010000
END:DAYLIGHT
BEGIN:STANDARD
TZOFFSETFROM:+0200
TZOFFSETTO:+0100
TZNAME:CET
DTSTART:20251026T010000
END:STANDARD
BEGIN:DAYLIGHT
TZOFFSETFROM:+0100
TZOFFSETTO:+0200
TZNAME:CEST
DTSTART:20260329T010000
END:DAYLIGHT
BEGIN:STANDARD
TZOFFSETFROM:+0200
TZOFFSETTO:+0100
TZNAME:CET
DTSTART:20261025T010000
END:STANDARD
BEGIN:DAYLIGHT
TZOFFSETFROM:+0100
TZOFFSETTO:+0200
TZNAME:CEST
DTSTART:20270328T010000
END:DAYLIGHT
BEGIN:STANDARD
TZOFFSETFROM:+0200
TZOFFSETTO:+0100
TZNAME:CET
DTSTART:20271031T010000
END:STANDARD
END:VTIMEZONE
BEGIN:VEVENT
DTSTART;TZID=Europe/Paris:20260425T235900
DTEND;TZID=Europe/Paris:20260425T235900
DTSTAMP:20260421T125718
CREATED:20260415T142538Z
LAST-MODIFIED:20260415T142538Z
UID:3832-1777161540-1777161540@jazzbah.es
SUMMARY:FLAMENTRÓNIKA (ESPECIAL FERIA DE ABRIL)
DESCRIPTION:Flamentronika és la fusió del ball flamenc convertit en art amb les bailaoras La Ichi & Elena Barajas\, combinat amb la nova corrent que mescla el flamenc amb l’electrònica\, a càrrec de Byone (er Bione). Aquesta proposta està triomfant arreu del món amb artistes com Mestiza o Aaron Sevilla. \nL’espectacle\, de gairebé dues hores de durada\, començarà a les 00.30 h. El tancament anirà a càrrec d’un B2B entre Byone i Legong\, amb el millor de l’electrònica actual. \nEntrades a taquilla:  Entrada 10€ / Entrada + Consumición 15€ \n*No és permesa l’entrada a menors de 18 anys
URL:https://jazzbah.es/event/flamentronika-especial-feria-de-abril/
CATEGORIES:2026,Concerts,Destacats,Dj,Jazzbah,Party
ATTACH;FMTTYPE=image/jpeg:https://jazzbah.es/wp-content/uploads/2026/04/slide-FLAMENTRONIKA.jpeg
END:VEVENT
END:VCALENDAR