BEGIN:VCALENDAR
VERSION:2.0
PRODID:-//Jazzbah (Port de Ciutadella) - ECPv6.15.20//NONSGML v1.0//EN
CALSCALE:GREGORIAN
METHOD:PUBLISH
X-ORIGINAL-URL:https://jazzbah.es
X-WR-CALDESC:Esdeveniments per Jazzbah (Port de Ciutadella)
REFRESH-INTERVAL;VALUE=DURATION:PT1H
X-Robots-Tag:noindex
X-PUBLISHED-TTL:PT1H
BEGIN:VTIMEZONE
TZID:Europe/Paris
BEGIN:DAYLIGHT
TZOFFSETFROM:+0100
TZOFFSETTO:+0200
TZNAME:CEST
DTSTART:20240331T010000
END:DAYLIGHT
BEGIN:STANDARD
TZOFFSETFROM:+0200
TZOFFSETTO:+0100
TZNAME:CET
DTSTART:20241027T010000
END:STANDARD
BEGIN:DAYLIGHT
TZOFFSETFROM:+0100
TZOFFSETTO:+0200
TZNAME:CEST
DTSTART:20250330T010000
END:DAYLIGHT
BEGIN:STANDARD
TZOFFSETFROM:+0200
TZOFFSETTO:+0100
TZNAME:CET
DTSTART:20251026T010000
END:STANDARD
BEGIN:DAYLIGHT
TZOFFSETFROM:+0100
TZOFFSETTO:+0200
TZNAME:CEST
DTSTART:20260329T010000
END:DAYLIGHT
BEGIN:STANDARD
TZOFFSETFROM:+0200
TZOFFSETTO:+0100
TZNAME:CET
DTSTART:20261025T010000
END:STANDARD
END:VTIMEZONE
BEGIN:VEVENT
DTSTART;TZID=Europe/Paris:20251219T235900
DTEND;TZID=Europe/Paris:20251219T235900
DTSTAMP:20260421T193229
CREATED:20251202T172731Z
LAST-MODIFIED:20251202T172822Z
UID:3662-1766188740-1766188740@jazzbah.es
SUMMARY:REMEMBER REGGAETON (by SUGAR)
DESCRIPTION:REMEMBER REGGAETON és la cita imprescindible del Jazzbah.\nUna festa temàtica que repassa els grans èxits del reggaeton: des dels hits que van marcar l’era del 2015 fins als temassos més actuals i els clàssics atemporals. \nAmb DJ XAPS\, un dels DJs de l’illa amb més trajectòria a nivell estatal i resident del Sugar.\nPrepara’t per ballar sense parar al ritme del reggaeton old school\, les noves tendències i els grans favorits de totes les èpoques. \nVine a gaudir d’una pista plena d’energia i reviu les teves cançons preferides. \n*Prohibida l’entrada a menors de 18 anys.
URL:https://jazzbah.es/event/remember-reggaeton-by-sugar-2/
CATEGORIES:2025,Concerts,Destacats,Dj,Jazzbah,Party
ATTACH;FMTTYPE=image/jpeg:https://jazzbah.es/wp-content/uploads/2025/12/slide-SUGAR.jpeg
END:VEVENT
END:VCALENDAR