BEGIN:VCALENDAR
VERSION:2.0
PRODID:-//Jazzbah (Port de Ciutadella) - ECPv6.15.20//NONSGML v1.0//EN
CALSCALE:GREGORIAN
METHOD:PUBLISH
X-ORIGINAL-URL:https://jazzbah.es
X-WR-CALDESC:Esdeveniments per Jazzbah (Port de Ciutadella)
REFRESH-INTERVAL;VALUE=DURATION:PT1H
X-Robots-Tag:noindex
X-PUBLISHED-TTL:PT1H
BEGIN:VTIMEZONE
TZID:Europe/Paris
BEGIN:DAYLIGHT
TZOFFSETFROM:+0100
TZOFFSETTO:+0200
TZNAME:CEST
DTSTART:20240331T010000
END:DAYLIGHT
BEGIN:STANDARD
TZOFFSETFROM:+0200
TZOFFSETTO:+0100
TZNAME:CET
DTSTART:20241027T010000
END:STANDARD
BEGIN:DAYLIGHT
TZOFFSETFROM:+0100
TZOFFSETTO:+0200
TZNAME:CEST
DTSTART:20250330T010000
END:DAYLIGHT
BEGIN:STANDARD
TZOFFSETFROM:+0200
TZOFFSETTO:+0100
TZNAME:CET
DTSTART:20251026T010000
END:STANDARD
BEGIN:DAYLIGHT
TZOFFSETFROM:+0100
TZOFFSETTO:+0200
TZNAME:CEST
DTSTART:20260329T010000
END:DAYLIGHT
BEGIN:STANDARD
TZOFFSETFROM:+0200
TZOFFSETTO:+0100
TZNAME:CET
DTSTART:20261025T010000
END:STANDARD
END:VTIMEZONE
BEGIN:VEVENT
DTSTART;TZID=Europe/Paris:20250516T235900
DTEND;TZID=Europe/Paris:20250516T235900
DTSTAMP:20260422T092226
CREATED:20250430T144724Z
LAST-MODIFIED:20250510T065014Z
UID:3215-1747439940-1747439940@jazzbah.es
SUMMARY:FISH & BEATS
DESCRIPTION:Uncle Frankie i Diana Groove van unir forces l’any 2023 per crear la festa Fish & Beats i oferir sessions elegants i divertides on els sons electrònics de qualitat passen per davant de tot. \nLes seves punxades són molt eclèctiques\, i per a la festa d’obertura del cranc ens delectaran amb ritmes d’indie\, house\, disco funk i electrònica. \nL’energia i el bon rotllo d’aquest combo\, juntament amb la seva exquisida selecció musical\, faran que no puguis deixar de ballar. \n\nUncle Frankie y Diana Groove unieron fuerzas en 2023 para crear la fiesta Fish & Beats y ofrecer sesiones elegantes y divertidas donde los sonidos electrónicos de calidad están por encima de todo. \nSus pinchadas son muy eclécticas\, y para la fiesta de apertura del Cranc nos deleitarán con ritmos de indie\, house\, disco funk y electrónica. \nLa energía y el buen rollo de este combo\, junto con su exquisita selección musical\, harán que no puedas dejar de bailar. \n 
URL:https://jazzbah.es/event/fish-beats-2/
CATEGORIES:2025,Concerts,Destacats,Dj,Jazzbah,Party
ATTACH;FMTTYPE=image/jpeg:https://jazzbah.es/wp-content/uploads/2025/04/slide-web-FISH-BEATS.jpeg
END:VEVENT
END:VCALENDAR