BEGIN:VCALENDAR
VERSION:2.0
PRODID:-//Jazzbah (Port de Ciutadella) - ECPv6.15.20//NONSGML v1.0//EN
CALSCALE:GREGORIAN
METHOD:PUBLISH
X-WR-CALNAME:Jazzbah (Port de Ciutadella)
X-ORIGINAL-URL:https://jazzbah.es
X-WR-CALDESC:Esdeveniments per Jazzbah (Port de Ciutadella)
REFRESH-INTERVAL;VALUE=DURATION:PT1H
X-Robots-Tag:noindex
X-PUBLISHED-TTL:PT1H
BEGIN:VTIMEZONE
TZID:Europe/Paris
BEGIN:DAYLIGHT
TZOFFSETFROM:+0100
TZOFFSETTO:+0200
TZNAME:CEST
DTSTART:20230326T010000
END:DAYLIGHT
BEGIN:STANDARD
TZOFFSETFROM:+0200
TZOFFSETTO:+0100
TZNAME:CET
DTSTART:20231029T010000
END:STANDARD
BEGIN:DAYLIGHT
TZOFFSETFROM:+0100
TZOFFSETTO:+0200
TZNAME:CEST
DTSTART:20240331T010000
END:DAYLIGHT
BEGIN:STANDARD
TZOFFSETFROM:+0200
TZOFFSETTO:+0100
TZNAME:CET
DTSTART:20241027T010000
END:STANDARD
BEGIN:DAYLIGHT
TZOFFSETFROM:+0100
TZOFFSETTO:+0200
TZNAME:CEST
DTSTART:20250330T010000
END:DAYLIGHT
BEGIN:STANDARD
TZOFFSETFROM:+0200
TZOFFSETTO:+0100
TZNAME:CET
DTSTART:20251026T010000
END:STANDARD
END:VTIMEZONE
BEGIN:VEVENT
DTSTART;TZID=Europe/Paris:20240628T213000
DTEND;TZID=Europe/Paris:20240628T213000
DTSTAMP:20260425T013933
CREATED:20240319T152205Z
LAST-MODIFIED:20240514T165247Z
UID:2526-1719610200-1719610200@jazzbah.es
SUMMARY:PRIDE "ORGULLO" PARTY
DESCRIPTION:Live / Concierto (22:30 h)\nROCIO SAIZ\n\nCantante de Monterrosa y Las Chillers\, Rocío Saiz lleva años defendiendo un discurso a favor de la diversidad que la han hecho convertirse en uno de los referentes LGTBIQ+ con más carácter y fuerza de España.  \nSu gran talento para convertir\, a golpe de pop\, la experiencia y vivencias en ideario universal con el que todos podemos sentirnos identificados\, acogidos y abrazados. Como si Tino Casal\, La Oreja de Van Gogh\, Abba\, Astrud\, Cecilia y Vengaboys se fundiesen en un solo proyecto para fabricar himnos generacionales.\n \nLa pista de baile es política\, la diversión nunca es tan inocente como la pintan y los dramas amorosos raramente son una experiencia intransferible. Rocío habla sobre todo lo que pasa antes\, durante y después del baile: los desengaños\, el sexo con y sin amor\, las relaciones tóxicas\, la plenitud de ser dueña de tu destino durante el máximo de horas posibles… pero también el insomnio fruto del estrés laboral y la falta de dinero y la necesidad de cierto hedonismo para olvidarse de todo de vez en cuando.  \nY esto último es lo que Rocío transmite en su máxima expresión en sus directos. Llenos de sorpresas e invitados\, se convierten en verdaderas celebraciones de la individualidad que equivalen a soltarse la coleta frente al espejo\, despeinarse y salir de cualquier sitio con aire nuevo. Rocío nos invita a cambiar lo que tengamos que cambiar para poder fluir y celebrar nuestra esencia\, para reconocernos\, respetarnos y celebrarnos. Abracemos esta invitación.  \n\n Party / Line up\nLEY DJ\nKASI\n\nTRANCE MAFIA (Bojak b2b Vic504) \n  \n\n\nTERRAZZA\nMARIBINGO by Las Vedettes de Usera\n \n\n(Travela Vargas y La Mujer Vaquero) nos presentan en primicia MARIBINGO. El Bingo travesti más trash de la capital llega a Menorca para repartir premios\, travestimo y mucho show a las calles de la Ciudadella. Estamos tan contentas de poder compartir con nuestras hermanas menorquinas este bingo trashvesti y desfachatado que nos vamos a orinar encima. \nHagan hueco en sus agendas porque…. ¡¡tenemos MARIBINGO el 28J en Menorca!\n¡Os esperamos y evidentemente\, traed tacones\, bigotes\, jockstraps\, plugs\, arneses\, maquillaje y todo el brilli brilli de vuestro ropero. Lo que sea\, pero ¡venid bien fistras!\n¡Ala guapes\, que ganas de comeros los morros! \n\n\n\n \nPERFORMANCES + MAQUILLAJE + ¡MUCHAS SORPRESAS!\n\n \nEntrada anticipada: 15€ (+gg) incluye concierto + party\nhttps://entradas.codetickets.com/entradas/pride–orgullo–party/52569/jazzbah/online?lang=ca_ES\n \nApertura puertas: 21:30 h \nConcierto Rocío Saiz: 22:30 h
URL:https://jazzbah.es/event/pride-orgullo-party/
CATEGORIES:2024,25è Aniversari,Concerts,Destacats,Dj,Jazzbah,Party
ATTACH;FMTTYPE=image/png:https://jazzbah.es/wp-content/uploads/2024/03/Copia-de-Copia-de-Copia-de-TRIBUTO-M-CLAN_20240514_181118_0000.png
END:VEVENT
END:VCALENDAR