BEGIN:VCALENDAR
VERSION:2.0
PRODID:-//Jazzbah (Port de Ciutadella) - ECPv6.15.20//NONSGML v1.0//EN
CALSCALE:GREGORIAN
METHOD:PUBLISH
X-WR-CALNAME:Jazzbah (Port de Ciutadella)
X-ORIGINAL-URL:https://jazzbah.es
X-WR-CALDESC:Esdeveniments per Jazzbah (Port de Ciutadella)
REFRESH-INTERVAL;VALUE=DURATION:PT1H
X-Robots-Tag:noindex
X-PUBLISHED-TTL:PT1H
BEGIN:VTIMEZONE
TZID:Europe/Paris
BEGIN:DAYLIGHT
TZOFFSETFROM:+0100
TZOFFSETTO:+0200
TZNAME:CEST
DTSTART:20220327T010000
END:DAYLIGHT
BEGIN:STANDARD
TZOFFSETFROM:+0200
TZOFFSETTO:+0100
TZNAME:CET
DTSTART:20221030T010000
END:STANDARD
BEGIN:DAYLIGHT
TZOFFSETFROM:+0100
TZOFFSETTO:+0200
TZNAME:CEST
DTSTART:20230326T010000
END:DAYLIGHT
BEGIN:STANDARD
TZOFFSETFROM:+0200
TZOFFSETTO:+0100
TZNAME:CET
DTSTART:20231029T010000
END:STANDARD
BEGIN:DAYLIGHT
TZOFFSETFROM:+0100
TZOFFSETTO:+0200
TZNAME:CEST
DTSTART:20240331T010000
END:DAYLIGHT
BEGIN:STANDARD
TZOFFSETFROM:+0200
TZOFFSETTO:+0100
TZNAME:CET
DTSTART:20241027T010000
END:STANDARD
END:VTIMEZONE
BEGIN:VEVENT
DTSTART;TZID=Europe/Paris:20230803T000000
DTEND;TZID=Europe/Paris:20230803T050000
DTSTAMP:20260425T181716
CREATED:20230602T044922Z
LAST-MODIFIED:20230605T143359Z
UID:1975-1691020800-1691038800@jazzbah.es
SUMMARY:Flower Power Party
DESCRIPTION:Allibera la teva ment\, treu el teu millor somriure i sent el invencible poder de l’amor: Això és el Flower Power de Jazzbah una de les festes més estimades de la programació d’estiu. Us convidem a omplir la sala de color amb les vostres millors gales hippies. \n 
URL:https://jazzbah.es/event/flower-power-party-3/
CATEGORIES:2023,Concerts,Destacats,Dj,Jazzbah,Party
ATTACH;FMTTYPE=image/jpeg:https://jazzbah.es/wp-content/uploads/2023/06/FLOWER-POWER-PARTY-V2-OK-1.jpeg
END:VEVENT
BEGIN:VEVENT
DTSTART;TZID=Europe/Paris:20230809T235900
DTEND;TZID=Europe/Paris:20230809T235900
DTSTAMP:20260425T181716
CREATED:20230807T133509Z
LAST-MODIFIED:20230807T134357Z
UID:2184-1691625540-1691625540@jazzbah.es
SUMMARY:Mambow
DESCRIPTION:MAMBOW\n>>Lineup \nNATX\nNEWJOSS \nEstamos de vuelta!! \n¡No te lo pierdas! Marca la fecha y prepárate para una experiencia única en Jazzbah. Desde rock hasta funky\, pop… ¡lo mejor de cada género en una sola fiesta!
URL:https://jazzbah.es/event/mambow-2/
CATEGORIES:2023,Concerts,Destacats,Dj,Jazzbah,Party
ATTACH;FMTTYPE=image/png:https://jazzbah.es/wp-content/uploads/2023/08/MAMBOW-9_8.png
END:VEVENT
BEGIN:VEVENT
DTSTART;TZID=Europe/Paris:20230813T233000
DTEND;TZID=Europe/Paris:20230813T233000
DTSTAMP:20260425T181716
CREATED:20230724T152253Z
LAST-MODIFIED:20230813T163439Z
UID:2135-1691969400-1691969400@jazzbah.es
SUMMARY:WE LOVE 80'S PARTY amb Jukebox Band i Dj's
DESCRIPTION:Jazzbah es convertirà en un túnel del temps amb un homenatge als grans temes dels anys 80 a la festa We love 80s del proper 13 d’agost. \nPot ser que les cançons més divertides s’hagin escrit als 80? Ho descobrirem a We Love 80’s Party. Jukebox Band oferiran un repertori amb cançons que han marcat tota una època\, des de la Movida madrilenya fins als hits internacionals més festius. Un repàs a l’edat daurada del pop\, rock i funk nacional i internacional que no us podeu perdre. \n……………………………………………………………………………………………………………………………………………… \n¡Festeja el verano a lo grande! \nJazzbah se convertirá en un túnel del tiempo con un homenaje a los grandes temazos de los años 80 en la fiesta We love 80s del próximo 13 de agosto. \n¿Puede ser que las canciones más divertidas se hayan escrito en los 80? Lo descubriremos en We Love 80’s Party. Jukebox Band ofrecerá un repertorio con canciones que han marcado toda una época\, desde la Movida madrileña hasta los hits internacionales más festivos. Un repaso a la edad dorada del pop\, rock y funk nacional e internacional que no te puedes perder \n 
URL:https://jazzbah.es/event/we-love-80s-party-amb-jukebox-band-i-djs/
CATEGORIES:2023,Concerts,Destacats,Dj,Jazzbah,Party
ATTACH;FMTTYPE=image/png:https://jazzbah.es/wp-content/uploads/2023/07/80s-party-web.png
END:VEVENT
END:VCALENDAR