BEGIN:VCALENDAR
VERSION:2.0
PRODID:-//Jazzbah (Port de Ciutadella) - ECPv6.15.20//NONSGML v1.0//EN
CALSCALE:GREGORIAN
METHOD:PUBLISH
X-WR-CALNAME:Jazzbah (Port de Ciutadella)
X-ORIGINAL-URL:https://jazzbah.es
X-WR-CALDESC:Esdeveniments per Jazzbah (Port de Ciutadella)
REFRESH-INTERVAL;VALUE=DURATION:PT1H
X-Robots-Tag:noindex
X-PUBLISHED-TTL:PT1H
BEGIN:VTIMEZONE
TZID:Europe/Paris
BEGIN:DAYLIGHT
TZOFFSETFROM:+0100
TZOFFSETTO:+0200
TZNAME:CEST
DTSTART:20220327T010000
END:DAYLIGHT
BEGIN:STANDARD
TZOFFSETFROM:+0200
TZOFFSETTO:+0100
TZNAME:CET
DTSTART:20221030T010000
END:STANDARD
BEGIN:DAYLIGHT
TZOFFSETFROM:+0100
TZOFFSETTO:+0200
TZNAME:CEST
DTSTART:20230326T010000
END:DAYLIGHT
BEGIN:STANDARD
TZOFFSETFROM:+0200
TZOFFSETTO:+0100
TZNAME:CET
DTSTART:20231029T010000
END:STANDARD
BEGIN:DAYLIGHT
TZOFFSETFROM:+0100
TZOFFSETTO:+0200
TZNAME:CEST
DTSTART:20240331T010000
END:DAYLIGHT
BEGIN:STANDARD
TZOFFSETFROM:+0200
TZOFFSETTO:+0100
TZNAME:CET
DTSTART:20241027T010000
END:STANDARD
END:VTIMEZONE
BEGIN:VEVENT
DTSTART;TZID=Europe/Paris:20230714T000000
DTEND;TZID=Europe/Paris:20230714T053000
DTSTAMP:20260425T200014
CREATED:20230710T192506Z
LAST-MODIFIED:20230710T192506Z
UID:2114-1689292800-1689312600@jazzbah.es
SUMMARY:Mambow
DESCRIPTION:Prepara’t per tornar a rebre una de les festes més explosives de l’estiu! Uneix-te a nosaltres al Jazzbah\, on t’espera una nit plena de música inoblidable. Balla com sempre al ritme dels millors hits de tots els temps\, des de rock fins a funky i pop. No et perdis el millor de cada gènere en una sola festa. T’esperem a Mambow! \n\n\n\n\n\n>> Lineup\n@newjossh @natxomoll
URL:https://jazzbah.es/event/mambow/
CATEGORIES:2023,Concerts,Destacats,Dj,Jazzbah,Party
ATTACH;FMTTYPE=image/jpeg:https://jazzbah.es/wp-content/uploads/2023/07/Slide-Jazzbah-1.jpg
END:VEVENT
END:VCALENDAR