BEGIN:VCALENDAR
VERSION:2.0
PRODID:-//Jazzbah (Port de Ciutadella) - ECPv6.15.20//NONSGML v1.0//EN
CALSCALE:GREGORIAN
METHOD:PUBLISH
X-ORIGINAL-URL:https://jazzbah.es
X-WR-CALDESC:Esdeveniments per Jazzbah (Port de Ciutadella)
REFRESH-INTERVAL;VALUE=DURATION:PT1H
X-Robots-Tag:noindex
X-PUBLISHED-TTL:PT1H
BEGIN:VTIMEZONE
TZID:Europe/Paris
BEGIN:DAYLIGHT
TZOFFSETFROM:+0100
TZOFFSETTO:+0200
TZNAME:CEST
DTSTART:20240331T010000
END:DAYLIGHT
BEGIN:STANDARD
TZOFFSETFROM:+0200
TZOFFSETTO:+0100
TZNAME:CET
DTSTART:20241027T010000
END:STANDARD
BEGIN:DAYLIGHT
TZOFFSETFROM:+0100
TZOFFSETTO:+0200
TZNAME:CEST
DTSTART:20250330T010000
END:DAYLIGHT
BEGIN:STANDARD
TZOFFSETFROM:+0200
TZOFFSETTO:+0100
TZNAME:CET
DTSTART:20251026T010000
END:STANDARD
BEGIN:DAYLIGHT
TZOFFSETFROM:+0100
TZOFFSETTO:+0200
TZNAME:CEST
DTSTART:20260329T010000
END:DAYLIGHT
BEGIN:STANDARD
TZOFFSETFROM:+0200
TZOFFSETTO:+0100
TZNAME:CET
DTSTART:20261025T010000
END:STANDARD
END:VTIMEZONE
BEGIN:VEVENT
DTSTART;TZID=Europe/Paris:20250503T200000
DTEND;TZID=Europe/Paris:20250503T200000
DTSTAMP:20260422T064026
CREATED:20250403T161252Z
LAST-MODIFIED:20250403T162115Z
UID:3188-1746302400-1746302400@jazzbah.es
SUMMARY:OLD NOISE (Tributo a los himnos del Rock'n Roll)
DESCRIPTION:Old Noise és una de les grans bandes de l’escena rock mallorquina\, formada per músics de primer nivell amb una passió indomable pel gènere. Especialitzats en tributs de rock\, reten homenatge a les bandes més icòniques de la història amb una precisió i una energia que converteixen cada concert en una experiència única. \nLa banda mallorquina s’ha consolidat com a referent gràcies a la seva impecable execució i a la seva capacitat de transmetre l’essència dels grans clàssics del rock. Amb una posada en escena potent i autèntica\, Old Noise connecta amb el públic de manera magnètica\, transportant-lo als millors temps del rock i fent vibrar cada nota com si fos la primera vegada. \nAnticipada: 15€ (+dg)  \nhttps://entradium.com/events/old-noise-en-jazzbah \nObertura portes: 19:00 h / Inici concert: 20:00h. Prohibida l’entrada a menors de 18 anys.
URL:https://jazzbah.es/event/old-noise-tributo-a-los-himnos-del-rockn-roll/
CATEGORIES:2025,Concerts,Destacats,Jazzbah,P-tardeo
ATTACH;FMTTYPE=image/jpeg:https://jazzbah.es/wp-content/uploads/2025/04/slide-OLD-NOISE.jpg
END:VEVENT
BEGIN:VEVENT
DTSTART;TZID=Europe/Paris:20250510T203000
DTEND;TZID=Europe/Paris:20250510T203000
DTSTAMP:20260422T064026
CREATED:20250311T191120Z
LAST-MODIFIED:20250311T191120Z
UID:3134-1746909000-1746909000@jazzbah.es
SUMMARY:ME COLÉ (Tributo a Mecano)
DESCRIPTION:Me Colé\, el reconegut tribut a Mecano\, torna al Jazzbah per tancar la temporada de Ptardeos de la millor manera. Amb la poderosa veu de Verónica Rodríguez (Ellas) al capdavant\, cinc músics en rigorós directe et faran viatjar pels èxits més grans de la banda més icònica del pop espanyol\, Mecano. Una posada en escena acurada i un espectacle vibrant de gairebé dues hores que et farà viure la màgia de cada cançó. \nEntrades anticipades: 18€ (+dg)\nhttps://entradium.com/events/me-cole-tributo-a-mecano-en-jazzbah-ciutadella\n \nObertura portes: 19:00 h / Inici concert: 20:00 h \nProhibida l’entrada a menors de 18 anys. \n 
URL:https://jazzbah.es/event/me-cole-tributo-a-mecano/
CATEGORIES:2025,Concerts,Destacats,Jazzbah,P-tardeo
ATTACH;FMTTYPE=image/png:https://jazzbah.es/wp-content/uploads/2025/03/slide-ME-COLE.png
END:VEVENT
END:VCALENDAR