BEGIN:VCALENDAR
VERSION:2.0
PRODID:-//Jazzbah (Port de Ciutadella) - ECPv6.15.20//NONSGML v1.0//EN
CALSCALE:GREGORIAN
METHOD:PUBLISH
X-WR-CALNAME:Jazzbah (Port de Ciutadella)
X-ORIGINAL-URL:https://jazzbah.es
X-WR-CALDESC:Esdeveniments per Jazzbah (Port de Ciutadella)
REFRESH-INTERVAL;VALUE=DURATION:PT1H
X-Robots-Tag:noindex
X-PUBLISHED-TTL:PT1H
BEGIN:VTIMEZONE
TZID:Europe/Paris
BEGIN:DAYLIGHT
TZOFFSETFROM:+0100
TZOFFSETTO:+0200
TZNAME:CEST
DTSTART:20220327T010000
END:DAYLIGHT
BEGIN:STANDARD
TZOFFSETFROM:+0200
TZOFFSETTO:+0100
TZNAME:CET
DTSTART:20221030T010000
END:STANDARD
BEGIN:DAYLIGHT
TZOFFSETFROM:+0100
TZOFFSETTO:+0200
TZNAME:CEST
DTSTART:20230326T010000
END:DAYLIGHT
BEGIN:STANDARD
TZOFFSETFROM:+0200
TZOFFSETTO:+0100
TZNAME:CET
DTSTART:20231029T010000
END:STANDARD
BEGIN:DAYLIGHT
TZOFFSETFROM:+0100
TZOFFSETTO:+0200
TZNAME:CEST
DTSTART:20240331T010000
END:DAYLIGHT
BEGIN:STANDARD
TZOFFSETFROM:+0200
TZOFFSETTO:+0100
TZNAME:CET
DTSTART:20241027T010000
END:STANDARD
END:VTIMEZONE
BEGIN:VEVENT
DTSTART;TZID=Europe/Paris:20230401T190000
DTEND;TZID=Europe/Paris:20230401T190000
DTSTAMP:20260424T030401
CREATED:20230307T054117Z
LAST-MODIFIED:20230329T153115Z
UID:1878-1680375600-1680375600@jazzbah.es
SUMMARY:Vivos para cantarlo (Tribut a Fito & Fitipaldis)
DESCRIPTION:Vivos para cantarlo és un tribut al ja mític Fito Cabrales i al seu grup. El grup menorquí pretén emular el famós primer àlbum en directe de la formació. \nMés de dues hores de música del repertori de l’àlbum en directe “Vivo… para contarlo”. També sonaran els grans èxits de la formació. \nEntrada anticipada 10 € / Taquilla 12€
URL:https://jazzbah.es/event/vivos-para-cantarlo-tribut-a-fito-fitipaldis-2/
CATEGORIES:2023,Concerts,Destacats,Jazzbah,P-tardeo
ATTACH;FMTTYPE=image/jpeg:https://jazzbah.es/wp-content/uploads/2023/03/sold-out.jpeg
END:VEVENT
BEGIN:VEVENT
DTSTART;TZID=Europe/Paris:20230408T190000
DTEND;TZID=Europe/Paris:20230408T190000
DTSTAMP:20260424T030401
CREATED:20230322T071523Z
LAST-MODIFIED:20230322T071555Z
UID:1893-1680980400-1680980400@jazzbah.es
SUMMARY:La Movida Band (Festa Tribut a la movida Madrileña)
DESCRIPTION:La Movida Band és sinònim de diversió! \nLa banda mallorquina neix el 2015 amb l’objectiu de tornar a recrear els èxits que van marcar l’edat daurada del Pop Espanyol: La movida madrilenya. Ells no es limiten a realitzar versions\, sinó que realitzen un autèntic tribut\, respectant fidelment les cançons originals\, destacant els canvis de registres amb el camaleònic Joan Bagur a la veu. La resta de la formació la componen Matías Tortella i Víctor Vidal a la guitarra\, David Trillo al baix i Leo Villar a la bateria. Una formació que ha anat creixent des del primer dia i que segueix regalant viatges en el temps a través dels concerts! \nDues hores i mitja de concert amb un repàs dels grans èxits de Los Secretos\, El Último de la Fila\, La Unión\, Mecano\, M Clan\, Duncan Dhu\, Los Ronaldos\, Miguel Ríos\, Alaska\, Hombres G\, Loquillo\, Radio Futura\, Tequila\, Ramoncín\, entre d’altres… \nEntrada anticipada 12€ / Taquilla 15€
URL:https://jazzbah.es/event/la-movida-band-festa-tribut-a-la-movida-madrilena/
CATEGORIES:2023,Concerts,Destacats,Jazzbah,P-tardeo
ATTACH;FMTTYPE=image/jpeg:https://jazzbah.es/wp-content/uploads/2018/06/FOTO-OFICIAL-LMB-copia.jpg
END:VEVENT
BEGIN:VEVENT
DTSTART;TZID=Europe/Paris:20230429T200000
DTEND;TZID=Europe/Paris:20230429T200000
DTSTAMP:20260424T030401
CREATED:20230418T142234Z
LAST-MODIFIED:20230418T142325Z
UID:1921-1682798400-1682798400@jazzbah.es
SUMMARY:Hummus (Rock progressiu 70's)
DESCRIPTION:HUMMUS és un grup de música especialitzat en el hard rock i rock progressiu dels anys 70. \nLa banda ciutadellenca realitza un extens repertori de covers de grans grups com Deep Purple\, The Beatles\, Jimi Hendrix\, Taste\, Jethro Tull\, Camel\, King Crimson\, Genesis\, etc… \nUn show que et transportarà al rock progressiu i psicodèlic dels anys 70’s\, HUMMUS donen el seu toc personal als covers que realitzen\, aportant arranjaments propis. La premisa de la banda és oferir una selecció de covers que no s’hagin interpretat mai a Menorca\, causant sorpresa entre el públic amant de la música setentera. \nHUMMUS està integrat per: \nSergi Cleofé (cantant)\, Borja Moll (flauta travessera\, teclats i coros)\, Pedro Gelabert (baix elèctric i coros)\, Pere Gelabert (bateria)\, Damià Gelabert (teclats)\, Pacífic Camps (guitarra i coros). \nEntrada Lliure 
URL:https://jazzbah.es/event/hummus-rock-progressiu-70s/
CATEGORIES:2023,Concerts,Destacats,Jazzbah,P-tardeo
ATTACH;FMTTYPE=image/jpeg:https://jazzbah.es/wp-content/uploads/2023/04/Slide-Jazzbah-3.jpg
END:VEVENT
END:VCALENDAR