BEGIN:VCALENDAR
VERSION:2.0
PRODID:-//Jazzbah (Port de Ciutadella) - ECPv6.15.20//NONSGML v1.0//EN
CALSCALE:GREGORIAN
METHOD:PUBLISH
X-ORIGINAL-URL:https://jazzbah.es
X-WR-CALDESC:Esdeveniments per Jazzbah (Port de Ciutadella)
REFRESH-INTERVAL;VALUE=DURATION:PT1H
X-Robots-Tag:noindex
X-PUBLISHED-TTL:PT1H
BEGIN:VTIMEZONE
TZID:Europe/Paris
BEGIN:DAYLIGHT
TZOFFSETFROM:+0100
TZOFFSETTO:+0200
TZNAME:CEST
DTSTART:20240331T010000
END:DAYLIGHT
BEGIN:STANDARD
TZOFFSETFROM:+0200
TZOFFSETTO:+0100
TZNAME:CET
DTSTART:20241027T010000
END:STANDARD
BEGIN:DAYLIGHT
TZOFFSETFROM:+0100
TZOFFSETTO:+0200
TZNAME:CEST
DTSTART:20250330T010000
END:DAYLIGHT
BEGIN:STANDARD
TZOFFSETFROM:+0200
TZOFFSETTO:+0100
TZNAME:CET
DTSTART:20251026T010000
END:STANDARD
BEGIN:DAYLIGHT
TZOFFSETFROM:+0100
TZOFFSETTO:+0200
TZNAME:CEST
DTSTART:20260329T010000
END:DAYLIGHT
BEGIN:STANDARD
TZOFFSETFROM:+0200
TZOFFSETTO:+0100
TZNAME:CET
DTSTART:20261025T010000
END:STANDARD
END:VTIMEZONE
BEGIN:VEVENT
DTSTART;TZID=Europe/Paris:20251010T235900
DTEND;TZID=Europe/Paris:20251010T235900
DTSTAMP:20260419T202509
CREATED:20251005T114521Z
LAST-MODIFIED:20251005T114736Z
UID:3586-1760140740-1760140740@jazzbah.es
SUMMARY:DEEPDIVE
DESCRIPTION:Arriba un nou Deepdive Immersion in Sound al Jazzbah. El projecte nascut a Menorca amb la vocació de transformar la pista en una experiència sonora profunda i hipnòtica. En aquesta edició comptarem amb el bo i millor de l’escena local. \n\n\nLineup: BOJAK + BUBBA + IVANFG + TAS&JOW\n\n\nUna nova manera de viure la música electrònica\, des de Menorca i sense filtres.\n\n\nEntrades a taquilla. \n\n*Prohibida l’entrada a menors de 18 anys. 
URL:https://jazzbah.es/event/deepdive-3/
CATEGORIES:2025,Concerts,Destacats,Jazzbah
ATTACH;FMTTYPE=image/jpeg:https://jazzbah.es/wp-content/uploads/2025/10/slide-DEEPDIVE-_20251004_083022_0000.jpeg
END:VEVENT
END:VCALENDAR