BEGIN:VCALENDAR
VERSION:2.0
PRODID:-//Jazzbah (Port de Ciutadella) - ECPv6.15.20//NONSGML v1.0//EN
CALSCALE:GREGORIAN
METHOD:PUBLISH
X-ORIGINAL-URL:https://jazzbah.es
X-WR-CALDESC:Esdeveniments per Jazzbah (Port de Ciutadella)
REFRESH-INTERVAL;VALUE=DURATION:PT1H
X-Robots-Tag:noindex
X-PUBLISHED-TTL:PT1H
BEGIN:VTIMEZONE
TZID:Europe/Paris
BEGIN:DAYLIGHT
TZOFFSETFROM:+0100
TZOFFSETTO:+0200
TZNAME:CEST
DTSTART:20240331T010000
END:DAYLIGHT
BEGIN:STANDARD
TZOFFSETFROM:+0200
TZOFFSETTO:+0100
TZNAME:CET
DTSTART:20241027T010000
END:STANDARD
BEGIN:DAYLIGHT
TZOFFSETFROM:+0100
TZOFFSETTO:+0200
TZNAME:CEST
DTSTART:20250330T010000
END:DAYLIGHT
BEGIN:STANDARD
TZOFFSETFROM:+0200
TZOFFSETTO:+0100
TZNAME:CET
DTSTART:20251026T010000
END:STANDARD
BEGIN:DAYLIGHT
TZOFFSETFROM:+0100
TZOFFSETTO:+0200
TZNAME:CEST
DTSTART:20260329T010000
END:DAYLIGHT
BEGIN:STANDARD
TZOFFSETFROM:+0200
TZOFFSETTO:+0100
TZNAME:CET
DTSTART:20261025T010000
END:STANDARD
END:VTIMEZONE
BEGIN:VEVENT
DTSTART;TZID=Europe/Paris:20250607T235900
DTEND;TZID=Europe/Paris:20250607T235900
DTSTAMP:20260419T202509
CREATED:20250516T141604Z
LAST-MODIFIED:20250516T141640Z
UID:3314-1749340740-1749340740@jazzbah.es
SUMMARY:BAH! Opening "COYU"
DESCRIPTION:Iván Ramos\, aka COYU\, no és només un dels DJ i productors espanyols més reconeguts a nivell internacional. A més\, és l’ànima al capdavant del seu propi segell\, Suara\, un dels grans referents actuals de l’escena techno i hardgroove a escala mundial. \nL’any passat ens va regalar una de les millors sessions que es recorden a BAH!\, així que no podríem començar millor la temporada electrònica que amb ell. \nNit carregada de ritmes frenètics i divertits\, acompanyada dels residents Byone i Nic Riviera\, i amb warm-up especial de Toni G (Horse House). \nÚnica nit per poder comprar l’abonament de temporada a taquilla. \n———————————————————————————————————————————————————— \nIván Ramos\, aka COYU\, no es solo uno de los DJs y productores españoles más reconocidos a nivel internacional. Además\, es el alma al frente de su propio sello\, Suara\, uno de los grandes referentes actuales de la escena techno y hardgroove a escala mundial. \nEl año pasado nos regaló una de las mejores sesiones que se recuerdan en BAH!\, así que no podríamos empezar mejor la temporada electrónica que con él. \nNoche cargada de ritmos frenéticos y divertidos\, acompañada por los residentes Byone y Nic Riviera\, y con warm-up especial de Toni G (Horse House). \nÚnica noche para poder comprar el abono de temporada en taquilla. \nEntrada anticipada: 15€ (+dg)\nhttps://entradas.codetickets.com/entradas/los-santos-presentan-bah–opening–coyu–-t-jazzbah-/69144/lossantos/online
URL:https://jazzbah.es/event/bah-opening-coyu/
CATEGORIES:2025,Bah!,Concerts,Destacats,Dj,Jazzbah
ATTACH;FMTTYPE=image/jpeg:https://jazzbah.es/wp-content/uploads/2025/05/slide-BAH-COYU.jpeg
END:VEVENT
BEGIN:VEVENT
DTSTART;TZID=Europe/Paris:20250611T200000
DTEND;TZID=Europe/Paris:20250611T200000
DTSTAMP:20260419T202509
CREATED:20250524T044938Z
LAST-MODIFIED:20250524T044938Z
UID:3378-1749672000-1749672000@jazzbah.es
SUMMARY:Cine Cena · TAILÀNDIA
DESCRIPTION:Cinemes Moix Negre i Jazzbah presenten Cine Cena\, una experiència sensorial que combina cinema\, gastronomia i música per fer-te viatjar a través dels sentits. Cada edició s’inspira en un país diferent. Aquesta vegada\, la destinació és Tailàndia. \nLa vetllada començarà a les 20 h amb una tapa tailandesa i cervesa Singha\, seguida de la projecció de Com fer-se milionari abans no mori l’àvia\, una comèdia dramàtica contemporània tailandesa. \nDesprés\, les persones que reservin l’experiència completa podran gaudir d’un sopar a l’aire lliure elaborat pel restaurant Thai Menorca\, reconegut per l’Ambaixada Reial de Tailàndia com un dels 18 millors restaurants tailandesos d’Espanya. \nL’espai estarà ambientat amb decoració típica\, i la nit acabarà amb una festa a càrrec de Sonido Puñal\, amb música tailandesa i asiàtica. \nEntrades:\nCine Tapa (15 €): tapa\, rotllet\, cervesa i pel·lícula.\nCine Cena (45 €): menú complet tailandès\, cervesa i pel·lícula. \nAforament limitat a 100 persones. Entrades a\n https://cinesmoixnegre.sacatuentrada.es/es/productos/descripcion/segundo-cine-cena-i-tailandia
URL:https://jazzbah.es/event/cine-cena-%c2%b7-tailandia/
CATEGORIES:2025,Cine cena,Cinemes Moix Negre,Concerts,Destacats,Jazzbah
ATTACH;FMTTYPE=image/jpeg:https://jazzbah.es/wp-content/uploads/2025/05/slide-CINE-CENA-TAILANDIA.jpeg
END:VEVENT
BEGIN:VEVENT
DTSTART;TZID=Europe/Paris:20250621T235900
DTEND;TZID=Europe/Paris:20250621T235900
DTSTAMP:20260419T202509
CREATED:20250502T141421Z
LAST-MODIFIED:20250515T043017Z
UID:3253-1750550340-1750550340@jazzbah.es
SUMMARY:MAMBOW
DESCRIPTION:El duet Natx i Newjoss torna a la sala amb la seva aclamada festa!\nUna nit carregada de dance\, rock\, pop i els grans hits de sempre\, pensada per fer-te ballar sense parar des del primer tema fins a l’últim. \nNATX \nNEWJOSS \n—————————————————————————————————————————————————————– \n¡El dúo Natx y Newjoss vuelve a la sala con su aclamada fiesta!\nUna noche cargada de dance\, rock\, pop y los grandes hits de siempre\, pensada para hacerte bailar sin parar desde el primer tema hasta el último. \nNATX\nNEWJOSS
URL:https://jazzbah.es/event/mambo-2/
CATEGORIES:2025,Concerts,Destacats,Dj,Jazzbah,Party
ATTACH;FMTTYPE=image/jpeg:https://jazzbah.es/wp-content/uploads/2025/04/slide-web-MAMBO.jpeg
END:VEVENT
BEGIN:VEVENT
DTSTART;TZID=Europe/Paris:20250627T223000
DTEND;TZID=Europe/Paris:20250627T223000
DTSTAMP:20260419T202509
CREATED:20250502T135856Z
LAST-MODIFIED:20250502T135939Z
UID:3234-1751063400-1751063400@jazzbah.es
SUMMARY:JUKEBOX BAND
DESCRIPTION:Jazzbah es convertirà en un autèntic túnel del temps amb un concert festiu que ret homenatge als grans himnes dels anys 80. \nJukebox Band es un viatge sonor des de la Movida madrileña fins als hits internacionals més icònics\, amb un repertori carregat de cançons que han marcat tota una generació. Una nit per reviure l’edat daurada del pop\, el rock i el funk\, tant d’aquí com de fora. \n——————————————————————————————————————————————————————– \nJazzbah se convertirá en un auténtico túnel del tiempo con un concierto festivo que rinde homenaje a los grandes himnos de los años 80. \nJukebox Band es un viaje sonoro desde la Movida madrileña hasta los hits internacionales más icónicos\, con un repertorio cargado de canciones que marcaron a toda una generación. Una noche para revivir la edad dorada del pop\, el rock y el funk\, tanto nacional como internacional. \nEntrada lliure / Entrada libre
URL:https://jazzbah.es/event/jukebox-band-6/
CATEGORIES:2025,Concerts,Destacats,Jazzbah
ATTACH;FMTTYPE=image/jpeg:https://jazzbah.es/wp-content/uploads/2025/05/slide-web-JUKEBOX.jpeg
END:VEVENT
BEGIN:VEVENT
DTSTART;TZID=Europe/Paris:20250628T235900
DTEND;TZID=Europe/Paris:20250628T235900
DTSTAMP:20260419T202509
CREATED:20250502T135535Z
LAST-MODIFIED:20250502T135535Z
UID:3231-1751155140-1751155140@jazzbah.es
SUMMARY:LEY DJ
DESCRIPTION:Ley DJ\, una de les grans referents de l’escena indie espanyola\, torna a l’illa per reprendre les seves esperades sessions d’estiu al Jazzbah. Amb una inconfusible fusió de pop i electrònica\, els seus sets són una explosió de carisma i energia capaços d’encendre qualsevol pista. \nAmb una trajectòria que l’ha portat als principals festivals de la península\, la seva sessió promet convertir la sala en un autèntic volcà sonor. Una cita imperdible per als amants de la música que es viu amb el cos i l’ànima. Festa assegurada! \n———————————————————————————————————————————————————— \nLey DJ\, una de las grandes referentes de la escena indie española\, regresa a la isla para retomar sus esperadas sesiones de verano en Jazzbah. Con una inconfundible fusión de pop y electrónica\, sus sets son una explosión de carisma y energía capaces de encender cualquier pista. \nCon una trayectoria que la ha llevado a los principales festivales de la península\, su sesión promete convertir la sala en un auténtico volcán sonoro. Una cita imprescindible para quienes viven la música con el cuerpo y el alma. Fiesta asegurada!
URL:https://jazzbah.es/event/ley-dj-10/
CATEGORIES:2025,Concerts,Destacats,Dj,Jazzbah
ATTACH;FMTTYPE=image/jpeg:https://jazzbah.es/wp-content/uploads/2025/05/slide-Ley-DJ.jpeg
END:VEVENT
BEGIN:VEVENT
DTSTART;TZID=Europe/Paris:20250629T235900
DTEND;TZID=Europe/Paris:20250629T235900
DTSTAMP:20260419T202509
CREATED:20250618T140917Z
LAST-MODIFIED:20250618T140917Z
UID:3434-1751241540-1751241540@jazzbah.es
SUMMARY:DEEPDIVE
DESCRIPTION:DEEPDIVE · Immersion in Sound  · LUKEA (fr) · TÂS & JÖW · ÁNGEL MOSTEIRO B2B CARLA MARTÍNEZ \nPresentam DeepDive – Immersion in Sound\, un nou projecte creat a Menorca amb vocació de transformar la pista en una experiència sonora profunda i hipnòtica. En aquesta primera edició\, ens visita una part de la família Bohrium Records i un convidat destacat: LUKEA\, talent emergent de l’escena electrònica francesa. \nLa nit començarà amb el warm-up a càrrec dels fundadors Tâs & Jöw\, que s’encarregaran de crear l’atmosfera perfecta. I per tancar\, Angel Mosteiro B2B Carla Martínez (Bohrium / Madrid) posaran el colofó amb un set intens i carregat de groove. \nUna nova manera de viure la música electrònica\, des de Menorca i sense filtres. \n———————————————————————————————————————————————————— \nPresentamos DeepDive – Immersion in Sound\, un nuevo proyecto creado en Menorca con la vocación de transformar la pista en una experiencia sonora profunda e hipnótica.\nEn esta primera edición\, nos acompaña parte de la familia Bohrium Records y un invitado destacado: LUKEA\, talento emergente de la escena electrónica francesa. \nLa noche comenzará con el warm-up a cargo de los fundadores Tâs & Jöw\, encargados de crear la atmósfera perfecta.\nY para cerrar\, Angel Mosteiro B2B Carla Martínez (Bohrium / Madrid) pondrán el broche final con un set intenso y cargado de groove. \nUna nueva forma de vivir la música electrónica\, desde Menorca y sin filtros. \nEntrada anticipada: 15€ (+dg)\nhttps://entradas.codetickets.com/entradas/deepdive/70108/jazzbah/online
URL:https://jazzbah.es/event/deepdive/
CATEGORIES:2025,Concerts,Destacats,Dj,Jazzbah,Party
ATTACH;FMTTYPE=image/jpeg:https://jazzbah.es/wp-content/uploads/2025/06/slide-DEEPDIVE.jpg
END:VEVENT
END:VCALENDAR