BEGIN:VCALENDAR
VERSION:2.0
PRODID:-//Jazzbah (Port de Ciutadella) - ECPv6.15.20//NONSGML v1.0//EN
CALSCALE:GREGORIAN
METHOD:PUBLISH
X-ORIGINAL-URL:https://jazzbah.es
X-WR-CALDESC:Esdeveniments per Jazzbah (Port de Ciutadella)
REFRESH-INTERVAL;VALUE=DURATION:PT1H
X-Robots-Tag:noindex
X-PUBLISHED-TTL:PT1H
BEGIN:VTIMEZONE
TZID:Europe/Paris
BEGIN:DAYLIGHT
TZOFFSETFROM:+0100
TZOFFSETTO:+0200
TZNAME:CEST
DTSTART:20240331T010000
END:DAYLIGHT
BEGIN:STANDARD
TZOFFSETFROM:+0200
TZOFFSETTO:+0100
TZNAME:CET
DTSTART:20241027T010000
END:STANDARD
BEGIN:DAYLIGHT
TZOFFSETFROM:+0100
TZOFFSETTO:+0200
TZNAME:CEST
DTSTART:20250330T010000
END:DAYLIGHT
BEGIN:STANDARD
TZOFFSETFROM:+0200
TZOFFSETTO:+0100
TZNAME:CET
DTSTART:20251026T010000
END:STANDARD
BEGIN:DAYLIGHT
TZOFFSETFROM:+0100
TZOFFSETTO:+0200
TZNAME:CEST
DTSTART:20260329T010000
END:DAYLIGHT
BEGIN:STANDARD
TZOFFSETFROM:+0200
TZOFFSETTO:+0100
TZNAME:CET
DTSTART:20261025T010000
END:STANDARD
END:VTIMEZONE
BEGIN:VEVENT
DTSTART;TZID=Europe/Paris:20250405T190000
DTEND;TZID=Europe/Paris:20250405T190000
DTSTAMP:20260419T234605
CREATED:20250212T150329Z
LAST-MODIFIED:20250324T190340Z
UID:3103-1743879600-1743879600@jazzbah.es
SUMMARY:AURA "Creedence Clearwater Revival Experience"
DESCRIPTION:AURA porta a l’escenari l’essència de Creedence Clearwater Revival. \nEl grup menorquí AURA ofereix un homenatge vibrant als grans clàssics de Creedence Clearwater Revival\, la llegendària banda nord-americana que va marcar una època entre finals dels anys 60 i inicis dels 70. Amb una combinació enèrgica de rock\, country\, folk i blues\, AURA recrea l’autenticitat i la força d’un repertori que ha deixat empremta en la història de la música. \nJesús Melià (bateria i cors)\nAntoni Carreras (baix i cors)\nMiquel Pol (guitarra i cors)\nLlorenç Vidal (guitarra) \nObertura portes: 18:00h\nConcert: 19:00h \nENTRADA LLIURE \nProhibida l’entrada a menors de 18 anys. \n  \n 
URL:https://jazzbah.es/event/aura-creedence-clearwater-revival-experience/
CATEGORIES:2025,Concerts,Destacats,Jazzbah,P-tardeo
ATTACH;FMTTYPE=image/png:https://jazzbah.es/wp-content/uploads/2025/02/slide-web-aura-2025.png
END:VEVENT
BEGIN:VEVENT
DTSTART;TZID=Europe/Paris:20250412T190000
DTEND;TZID=Europe/Paris:20250412T190000
DTSTAMP:20260419T234605
CREATED:20241223T170312Z
LAST-MODIFIED:20250324T190240Z
UID:3085-1744484400-1744484400@jazzbah.es
SUMMARY:La Hoguera - Tribut a Extremoduro
DESCRIPTION:La millor banda tribut a Extremoduro\, torna aL Jazzbah! \nAmb un directe renovat i enèrgic\, La Hoguera – Tributo a Extremoduro t’impressionarà i et deixarà sense paraules. Aquest tribut ofereix un viatge pels grans èxits d’una de les bandes més emblemàtiques i influents del rock nacional. \nFormada a Felanitx (Mallorca) el 2009\, La Hoguera destaca per un directe impecable\, un so fidel a l’original i una interpretació vocal capaç d’emocionar fins i tot els seguidors més apassionats de la banda placentina. Una experiència que no deixa ningú indiferent. \nEntrada anticipada: 15€ (+dg)\nhttps://entradium.com/events/tributo-a-extremoduro-la-hoguera \nTaquilla: 18€ \nObertura portes: 18h\nLa Hoguera: 19h \nAforament limitat. \nProhibida l’entrada a menors de 18 anys. \n 
URL:https://jazzbah.es/event/la-hoguera-tribut-a-extremoduro-4/
CATEGORIES:2025,Concerts,Destacats,Jazzbah,P-tardeo
ATTACH;FMTTYPE=image/png:https://jazzbah.es/wp-content/uploads/2024/12/slide-web-LA-HOGUERA.png
END:VEVENT
BEGIN:VEVENT
DTSTART;TZID=Europe/Paris:20250418T235500
DTEND;TZID=Europe/Paris:20250418T235500
DTSTAMP:20260419T234605
CREATED:20250327T155319Z
LAST-MODIFIED:20250331T143826Z
UID:3173-1745020500-1745020500@jazzbah.es
SUMMARY:DRASTIC GROOVES 2n ANIVERSARI
DESCRIPTION:Drastic Grooves celebra el seu segon aniversari! La marca i segell discogràfic torna a l’illa per festejar el seu segon any de recorregut. \nEn aquesta edició especial Bojak\, fundador de la marca\, estrena un nou format Hybrid Live\, mentre l’acompanyen els millors exponents de l’illa i actual resident VIC504\, que per primera vegada farà un set de clausura. IVANFG torna després de l’èxit del seu debut i contarem per primera vegada amb el dúo tâs&jöw\, que arriben al Jazzbah en exclusiva. Un vespre únic que no us podeu perdre! \nLine up complet: Bojak (HYBRID LIVE SET)\, IvanFG\, VIC504 + tâs&jow. \nEntrades anticipades 10€+gg\nhttps://entradas.codetickets.com/entradas/drastic-grooves_2408/67923/jazzbah/online\nEntrades a taquilla comprades abans de la 1am 10€\nEntrades a taquilla 12€ \nProhibida l’entrada a menors de 18 anys.
URL:https://jazzbah.es/event/drastic-grooves-4/
CATEGORIES:2025,Concerts,Destacats,Dj,Jazzbah
ATTACH;FMTTYPE=image/jpeg:https://jazzbah.es/wp-content/uploads/2025/03/DG_PORTADA_HORIZONTALJAZZBAH.jpg
END:VEVENT
BEGIN:VEVENT
DTSTART;TZID=Europe/Paris:20250419T190000
DTEND;TZID=Europe/Paris:20250419T190000
DTSTAMP:20260419T234605
CREATED:20241220T152040Z
LAST-MODIFIED:20250324T190214Z
UID:3081-1745089200-1745089200@jazzbah.es
SUMMARY:FANDANGO ALL STARS
DESCRIPTION:La banda més festiva i amb més solera de l’illa\, torna al Jazzbah! \nSi tens ganes de viure una festa èpica\, aquesta és la teva oportunitat!\, amb un recull de covers i grans temes atemporals\, a cop de “temazos” i un grapat de sorpreses i «frikades varies» que no faltaran en el seu xou de gairebé dues hores de concert. \nCapitanejat per un dels músics rockers més consagrats de Menorca\, Pedro Sánchez\, el grup el formen Judit Uris (veu)\, Pere Moll (bateria)\, Angel Gelabert (teclats)\, Joan Daben (guitarra) i Cesc Pallisser (baix). \nPoques són les festes que s’ha perdut aquest grup des dels seus inicis. Així que\, no podien fer altra cosa que aterrar al Jazzbah per posar-ho potes amunt. La festa està servida. No badis i compra ja la teva anticipada a preu reduït. \nAnticipada: 10€ (+dg)\nhttps://entradas.codetickets.com/entradas/fandango-all-stars_3623/65520/jazzbah/online\nEntrada a taquilla: 12€ \nObertura portes: 18h\nConcert : 19h \nAforament limitat. \nProhibida l’entrada a menors de 18 anys. \n 
URL:https://jazzbah.es/event/fandango-all-stars-3/
CATEGORIES:2025,Concerts,Destacats,Jazzbah,P-tardeo
ATTACH;FMTTYPE=image/png:https://jazzbah.es/wp-content/uploads/2024/12/slide-web-FANDANGO-ALL-STARS.png
END:VEVENT
BEGIN:VEVENT
DTSTART;TZID=Europe/Paris:20250426T200000
DTEND;TZID=Europe/Paris:20250426T200000
DTSTAMP:20260419T234605
CREATED:20250212T151341Z
LAST-MODIFIED:20250324T190147Z
UID:3106-1745697600-1745697600@jazzbah.es
SUMMARY:LA MOVIDA BAND "El millor homenatge a la Movida Madrileña"
DESCRIPTION:La Movida Band torna al Jazzbah per fer-te viatjar als anys daurats del pop espanyol! \nLa banda mallorquina La Movida Band és sinònim de diversió i bon rotllo. Amb un homenatge de primer nivell a La Movida Madrileña\, aquest grup nascut el 2015 porta a l’escenari un tribut autèntic als grans clàssics que van marcar tota una generació. \nAmb el camaleònic Joan Bagur a la veu i una posada en escena fidel a l’essència de l’època\, la banda recrea amb passió els himnes de Los Secretos\, El Último de la Fila\, La Unión\, Mecano\, M Clan\, Duncan Dhu\, Los Ronaldos\, Miguel Ríos\, Alaska\, Hombres G\, Loquillo\, Radio Futura\, Tequila\, Ramoncín\, i molts més. \nDues hores i mitja de viatge en el temps\, plenes d’energia\, nostàlgia i els himnes que encara ens fan cantar i ballar! \nEntrada anticipada: 15€ (+ dg)\nhttps://entradium.com/events/la-movida-band-ciutadella \nObertura portes: 19:00h\nConcert: 20:00h \nProhibida l’entrada a menors de 18 anys.
URL:https://jazzbah.es/event/la-movida-band-el-millor-homenatge-a-la-movida-madrilena/
CATEGORIES:2025,25è Aniversari,Concerts,Destacats,Jazzbah,P-tardeo
ATTACH;FMTTYPE=image/png:https://jazzbah.es/wp-content/uploads/2025/02/slide-web-LA-MOVIDA-BAND.png
END:VEVENT
END:VCALENDAR