BEGIN:VCALENDAR
VERSION:2.0
PRODID:-//Jazzbah (Port de Ciutadella) - ECPv6.15.20//NONSGML v1.0//EN
CALSCALE:GREGORIAN
METHOD:PUBLISH
X-ORIGINAL-URL:https://jazzbah.es
X-WR-CALDESC:Esdeveniments per Jazzbah (Port de Ciutadella)
REFRESH-INTERVAL;VALUE=DURATION:PT1H
X-Robots-Tag:noindex
X-PUBLISHED-TTL:PT1H
BEGIN:VTIMEZONE
TZID:Europe/Paris
BEGIN:DAYLIGHT
TZOFFSETFROM:+0100
TZOFFSETTO:+0200
TZNAME:CEST
DTSTART:20240331T010000
END:DAYLIGHT
BEGIN:STANDARD
TZOFFSETFROM:+0200
TZOFFSETTO:+0100
TZNAME:CET
DTSTART:20241027T010000
END:STANDARD
BEGIN:DAYLIGHT
TZOFFSETFROM:+0100
TZOFFSETTO:+0200
TZNAME:CEST
DTSTART:20250330T010000
END:DAYLIGHT
BEGIN:STANDARD
TZOFFSETFROM:+0200
TZOFFSETTO:+0100
TZNAME:CET
DTSTART:20251026T010000
END:STANDARD
BEGIN:DAYLIGHT
TZOFFSETFROM:+0100
TZOFFSETTO:+0200
TZNAME:CEST
DTSTART:20260329T010000
END:DAYLIGHT
BEGIN:STANDARD
TZOFFSETFROM:+0200
TZOFFSETTO:+0100
TZNAME:CET
DTSTART:20261025T010000
END:STANDARD
END:VTIMEZONE
BEGIN:VEVENT
DTSTART;TZID=Europe/Paris:20250308T190000
DTEND;TZID=Europe/Paris:20250308T190000
DTSTAMP:20260420T012731
CREATED:20250206T191146Z
LAST-MODIFIED:20250212T161139Z
UID:3097-1741460400-1741460400@jazzbah.es
SUMMARY:ELLAS (Homenaje al Pop Rock femenino)
DESCRIPTION:Per primera vegada al Jazzbah\, celebram el Dia de la Dona amb un tardeo únic i carregat d’energia! ELLAS és molt més que un concert: és un tribut a les artistes que han marcat generacions i han trencat barreres amb la seva veu i el seu talent. \nUn espectacle vibrant amb els himnes de Mecano\, Alaska\, Amaral\, Rigoberta Bandini\, Lady Gaga\, Shakira\, Adele\, Whitney Houston\, Cyndi Lauper\, The Cranberries\, Bebe\, i moltes més! \nEntrades anticipades: 18€ (+dg) \nhttps://entradium.com/events/ellas-homenaje-al-pop-rock-espanol \nObertura portes: 18:00 h / Inici concert: 19:00 h \nProhibida l’entrada a menors de 18 anys.
URL:https://jazzbah.es/event/ellas-homenaje-al-pop-rock-femenino/
CATEGORIES:2025,Concerts,Destacats,Jazzbah,P-tardeo
ATTACH;FMTTYPE=image/png:https://jazzbah.es/wp-content/uploads/2025/02/slide-ELLAS2.png
END:VEVENT
BEGIN:VEVENT
DTSTART;TZID=Europe/Paris:20250315T190000
DTEND;TZID=Europe/Paris:20250315T190000
DTSTAMP:20260420T012731
CREATED:20241219T053358Z
LAST-MODIFIED:20241219T053358Z
UID:3077-1742065200-1742065200@jazzbah.es
SUMMARY:SMOKING STONES (El millor tribut a The Rolling Stones)
DESCRIPTION:SMOKING STONES arriben per primera vegada al Jazzbah\, en una data inclosa dins la seva gira de celebració dels 30 anys. \nDes de 1995\, SMOKING STONES rendeixen homenatge als THE ROLLING STONES des de la ciutat de Barcelona\, recorrent amb gran èxit tot Espanya i delectant tant els fans dels Stones com els amants del rock en general. \nEls SMOKING són una banda forjada en mil i una actuacions. Uns veterans del rock & roll que coneixen tots els trucs d’aquest art\, però amb l’energia suficient per connectar amb les noves generacions rockeres. Els seus directes són autèntics espectacles on la festa\, en la seva màxima expressió\, està més que garantida. A més\, ofereixen un plaer per als sentits gràcies al seu domini instrumental d’alt nivell i al fet de gaudir plenament de cada actuació. \nPerò el que realment els diferència de moltes altres bandes és el poder vocal inconfusible de Sergio Ortiz\, cantant i líder natural del projecte. En un país on sempre han faltat grans cantants de rock\, trobar un talent de la seva talla ja és motiu de celebració. \nLADIES & GENTLEMEN… SMOKING STONES! \nEntrades anticipades: 18€ +dg)\nhttps://entradium.com/events/smoking-stones-tribut-a-rolling-stones-jazzbah-ciutadella \nObertura portes: 18:00 h / Inici concert: 19:00 h \nProhibida l’entrada a menors de 18 anys. \n 
URL:https://jazzbah.es/event/smoking-stones-el-millor-tribut-a-the-rolling-stones/
CATEGORIES:2025,Concerts,Destacats,Jazzbah,P-tardeo
ATTACH;FMTTYPE=image/png:https://jazzbah.es/wp-content/uploads/2024/12/slide-web-SMOKING-STONES.png
END:VEVENT
BEGIN:VEVENT
DTSTART;TZID=Europe/Paris:20250322T190000
DTEND;TZID=Europe/Paris:20250322T190000
DTSTAMP:20260420T012731
CREATED:20250221T153200Z
LAST-MODIFIED:20250225T173043Z
UID:3122-1742670000-1742670000@jazzbah.es
SUMMARY:Mil Rosas Para Ti (TRIBUT A LA OREJA DE VAN GOGH)
DESCRIPTION:Els ptardeos del Jazzbah acull un dels millors tributs a La Oreja de Van Gogh! \nEls mallorquins Mil Rosas Para Ti porten tota l’essència i l’autenticitat de la mítica banda donostiarra\, aquesta vegada amb la veu única de Verónica Rodríguez (Me Colé\, Ellas). \nUn concert ple d’energia\, emoció i records\, on no faltaran himnes com La Playa\, Rosas\, Cuídate o Puedes Contar Conmigo\, entre molts altres. Una ptardeo que promet inoblidable\, amb una posada en escena cuidada fins al més mínim detall. \nEntrades anticipades: 15€ (+dg) \nhttps://entradium.com/events/tribut-a-la-oreja-de-van-gogh-mil-rosas-para-ti \nObertura portes: 18:00 h / Inici concert: 19:00 h \nProhibida l’entrada a menors de 18 anys.
URL:https://jazzbah.es/event/tribut-a-la-oreja-de-van-gogh/
CATEGORIES:2025,Concerts,Destacats,Jazzbah,P-tardeo
ATTACH;FMTTYPE=image/png:https://jazzbah.es/wp-content/uploads/2025/02/slide-MIL-ROSAS-PARA-TI-LODVG.png
END:VEVENT
BEGIN:VEVENT
DTSTART;TZID=Europe/Paris:20250329T190000
DTEND;TZID=Europe/Paris:20250329T190000
DTSTAMP:20260420T012731
CREATED:20250103T153546Z
LAST-MODIFIED:20250323T071753Z
UID:3092-1743274800-1743274800@jazzbah.es
SUMMARY:APPETITE FOR ILLUSION (Tribut a Guns & Roses)
DESCRIPTION:Appetite for Illusion ret homenatge de manera fidel i apassionada a Guns N’ Roses\, una de les bandes més icòniques de Los Angeles\, coneguda per haver venut milions de discos i omplir estadis amb himnes 100% rock and roll com “Sweet Child o’ Mine”\, “Welcome to the Jungle”\, “Paradise City”\, “November Rain” o “You Could Be Mine”\, entre molts altres. \nAquesta banda tribut ofereix una interpretació que no deixa fora cap dels grans clàssics de Guns N’ Roses\, capturant a la perfecció l’essència i l’energia que els defineix. \n\nEntrades anticipades: 15€ (+dg)\nhttps://entradium.com/events/tributo-a-guns-and-roses \nEntrades a taquilla: 18€ \nObertura portes: 18:00 h \nInici concert: 19:00 h \nProhibida l’entrada a menors de 18 anys.
URL:https://jazzbah.es/event/appetite-for-illusion-tribut-a-guns-roses/
CATEGORIES:2025,Concerts,Destacats,Jazzbah,P-tardeo
ATTACH;FMTTYPE=image/png:https://jazzbah.es/wp-content/uploads/2025/01/APETTITE-FOR-ILLUSIONS-TRIBUT-GUNS-ROSES.png
END:VEVENT
END:VCALENDAR