BEGIN:VCALENDAR
VERSION:2.0
PRODID:-//Jazzbah (Port de Ciutadella) - ECPv6.15.20//NONSGML v1.0//EN
CALSCALE:GREGORIAN
METHOD:PUBLISH
X-ORIGINAL-URL:https://jazzbah.es
X-WR-CALDESC:Esdeveniments per Jazzbah (Port de Ciutadella)
REFRESH-INTERVAL;VALUE=DURATION:PT1H
X-Robots-Tag:noindex
X-PUBLISHED-TTL:PT1H
BEGIN:VTIMEZONE
TZID:Europe/Paris
BEGIN:DAYLIGHT
TZOFFSETFROM:+0100
TZOFFSETTO:+0200
TZNAME:CEST
DTSTART:20240331T010000
END:DAYLIGHT
BEGIN:STANDARD
TZOFFSETFROM:+0200
TZOFFSETTO:+0100
TZNAME:CET
DTSTART:20241027T010000
END:STANDARD
BEGIN:DAYLIGHT
TZOFFSETFROM:+0100
TZOFFSETTO:+0200
TZNAME:CEST
DTSTART:20250330T010000
END:DAYLIGHT
BEGIN:STANDARD
TZOFFSETFROM:+0200
TZOFFSETTO:+0100
TZNAME:CET
DTSTART:20251026T010000
END:STANDARD
BEGIN:DAYLIGHT
TZOFFSETFROM:+0100
TZOFFSETTO:+0200
TZNAME:CEST
DTSTART:20260329T010000
END:DAYLIGHT
BEGIN:STANDARD
TZOFFSETFROM:+0200
TZOFFSETTO:+0100
TZNAME:CET
DTSTART:20261025T010000
END:STANDARD
END:VTIMEZONE
BEGIN:VEVENT
DTSTART;TZID=Europe/Paris:20250208T190000
DTEND;TZID=Europe/Paris:20250208T190000
DTSTAMP:20260420T030040
CREATED:20241217T181008Z
LAST-MODIFIED:20250131T050229Z
UID:3068-1739041200-1739041200@jazzbah.es
SUMMARY:COLDDAY "4EVER WORLD TOUR"
DESCRIPTION:Després de la seva exitosa gira “Viva la Vida Anniversary Tour”\, que celebra el 10è aniversari del disc més icònic de Coldplay\, el tribut internacional Coldday va tornar amb la gira “Music of the Spheres Tour” per replicar els directes de la banda britànica presentant el seu aleshores darrer treball. \nL’octubre de 2024 Coldplay edita el seu desè disc “Moon Music”\, considerat una segona part de l’anterior treball “Music of the Spheres”\, i “Coldplay 4ever Tour” és la gira de Coldday que fa un viatge al llarg de tota la seva carrera musical\, incloent aquest darrer treball\, portant al directe tots els grans clàssics de Coldplay\, molts d’ells ja convertits en autèntics himnes generacionals. \nFormats el 2012\, Coldday porta anys girant per multitud de països com Espanya\, Andorra\, Portugal\, Bèlgica\, França\, Regne Unit\, Austria\, Alemanya\, Luxemburg\, Romania\, Indonèsia o Malàisia. \nAclamada per la crítica\, la banda es distingeix per una posada en escena enèrgica i vital\, fidel a l’essència de Coldplay i treballada fins al més petit detall\, amb instruments customitzats\, vestuari replicat\, projeccions dedicades en perfecta sincronització\, el repertori de Coldday en directe està especialment dissenyat per connectar amb un públic molt ampli\, interpretant tots els primers clàssics com “Yellow”\, “The Scientist”\, “Fix you” o “Viva la vida” fins als èxits dels darrers temps com “Adventure of a lifetime”\, “A sky full of stars”\, “My universe” o els més recents “FeelslikeImfallinginlove” o “We pray”. \nUn espectacle únic que transporta el públic a l’experiència més propera d’un autèntic directe de Coldplay. \nAnticipada: 15€ (+dg)\nhttps://entradas.codetickets.com/entradas/coldday–4ever-world-tour-/65279/jazzbah/online\nTaquilla: 18€
URL:https://jazzbah.es/event/coldday-4ever-world-tour/
CATEGORIES:2025,Concerts,Destacats,Jazzbah,P-tardeo
ATTACH;FMTTYPE=image/jpeg:https://jazzbah.es/wp-content/uploads/2024/12/IMG-20250130-WA0030.jpg
END:VEVENT
BEGIN:VEVENT
DTSTART;TZID=Europe/Paris:20250215T190000
DTEND;TZID=Europe/Paris:20250215T190000
DTSTAMP:20260420T030040
CREATED:20241219T052853Z
LAST-MODIFIED:20241219T052853Z
UID:3074-1739646000-1739646000@jazzbah.es
SUMMARY:SECRET SONS - Tribut als millors clàssics del Rock
DESCRIPTION:“DEEP PURPLE\, LED ZEPPELIN\, ZZ TOP\, GUNS N ROSES\, AC/DC i MÉS” \nSecret Sons és una “súper banda” composta per cinc músics de gran talent i trajectòria residents a Mallorca. Cadascun d’ells aporta l’experiència acumulada en nombrosos projectes i actuacions arreu de l’illa\, consolidant-se com una de les bandes més potents del panorama rocker local. \nEl líder de la banda és Nicolas Soto (veu)\, una figura clau de l’escena rockera mallorquina amb una veu inconfusible. Amb una carrera sòlida al capdavant de grups com Skyline\, Smoke i Purple Head\, el 2023 ha debutat amb Flor de Rocka\, un projecte de temes propis en què també participen tres membres més de Secret Sons: Pedro González\, Pablo Martín i Cristian Ibarra. Tots ells són músics d’una qualitat indiscutible\, amb un llarg recorregut de concerts. \nAquesta alineació es completa amb Ramón Barceló\, un dels guitarristes més destacats de la nova generació a Mallorca. Ha passat de ser una promesa del rock mallorquí a convertir-se en un dels músics més sol·licitats\, gràcies a la seva tècnica i energia excepcionals. \nEntrada anticipada: 15€ (+dg)\nhttps://entradium.com/events/secret-sons \nEntrada a taquilla: 18€ \nObertura portes: 18:00 h / Inici concert: 19:00 h \nProhibida l’entrada a menors de 18 anys. \n 
URL:https://jazzbah.es/event/secret-sons-tribut-als-millors-classics-del-rock-2/
CATEGORIES:2025,Concerts,Destacats,Jazzbah,P-tardeo
ATTACH;FMTTYPE=image/png:https://jazzbah.es/wp-content/uploads/2024/12/slide-web-SECRET-SONS.png
END:VEVENT
BEGIN:VEVENT
DTSTART;TZID=Europe/Paris:20250222T190000
DTEND;TZID=Europe/Paris:20250222T190000
DTSTAMP:20260420T030040
CREATED:20241219T052247Z
LAST-MODIFIED:20241219T052247Z
UID:3071-1740250800-1740250800@jazzbah.es
SUMMARY:HÉROES TRIBUT BAND
DESCRIPTION:El millor tribut a Héroes del Silencio arriba al Jazzbah. \nLa banda mallorquina Héroes Tribut Band porta a l’escenari del Jazzbah les emocions\, els sentiments\, la força i qualitat del millor grup de rock estatal de tots els temps\, Héroes del Silencio. Amb una extensa trajectòria de concerts per tot l’estat\, recollint molt bones crítiques i en la majoria dels seus shows penjant el cartell de “Sold Out” Héroes Tribut Band capitanejada per la veu de Joan Bagur\, desplegaran el seu poderós directe. \nEntrades anticipades: 15€ (+dg)\nhttps://entradium.com/events/heroes-tribut-band-jazzbah  \nEntrades a taquilla: 18€ \nObertura portes: 18:00 h / Inici concert: 19:00 h \nProhibida l’entrada a menors de 18 anys.
URL:https://jazzbah.es/event/heroes-tribut-band-2/
CATEGORIES:2025,Concerts,Destacats,Jazzbah,P-tardeo
ATTACH;FMTTYPE=image/png:https://jazzbah.es/wp-content/uploads/2024/12/slide-web-HEROES-TRIBUT-BAND.png
END:VEVENT
END:VCALENDAR