BEGIN:VCALENDAR
VERSION:2.0
PRODID:-//Jazzbah (Port de Ciutadella) - ECPv6.15.20//NONSGML v1.0//EN
CALSCALE:GREGORIAN
METHOD:PUBLISH
X-WR-CALNAME:Jazzbah (Port de Ciutadella)
X-ORIGINAL-URL:https://jazzbah.es
X-WR-CALDESC:Esdeveniments per Jazzbah (Port de Ciutadella)
REFRESH-INTERVAL;VALUE=DURATION:PT1H
X-Robots-Tag:noindex
X-PUBLISHED-TTL:PT1H
BEGIN:VTIMEZONE
TZID:Europe/Paris
BEGIN:DAYLIGHT
TZOFFSETFROM:+0100
TZOFFSETTO:+0200
TZNAME:CEST
DTSTART:20230326T010000
END:DAYLIGHT
BEGIN:STANDARD
TZOFFSETFROM:+0200
TZOFFSETTO:+0100
TZNAME:CET
DTSTART:20231029T010000
END:STANDARD
BEGIN:DAYLIGHT
TZOFFSETFROM:+0100
TZOFFSETTO:+0200
TZNAME:CEST
DTSTART:20240331T010000
END:DAYLIGHT
BEGIN:STANDARD
TZOFFSETFROM:+0200
TZOFFSETTO:+0100
TZNAME:CET
DTSTART:20241027T010000
END:STANDARD
BEGIN:DAYLIGHT
TZOFFSETFROM:+0100
TZOFFSETTO:+0200
TZNAME:CEST
DTSTART:20250330T010000
END:DAYLIGHT
BEGIN:STANDARD
TZOFFSETFROM:+0200
TZOFFSETTO:+0100
TZNAME:CET
DTSTART:20251026T010000
END:STANDARD
END:VTIMEZONE
BEGIN:VEVENT
DTSTART;TZID=Europe/Paris:20240801T233000
DTEND;TZID=Europe/Paris:20240801T233000
DTSTAMP:20260420T132425
CREATED:20240529T133259Z
LAST-MODIFIED:20240702T171807Z
UID:2671-1722555000-1722555000@jazzbah.es
SUMMARY:Vic Mirallas
DESCRIPTION:Vic Mirallas és un jove multiinstrumentista amb una brillant i extensa carrera professional. Les seves cançons barregen diversos estils musicals com el pop\, el R&B\, el jazz o la música urbana\, entre d’altres\, acumulant milions de reproduccions i comptant amb col·laboracions d’artistes com Camilo\, Carlos Ares\, Don Patricio\, Juancho Marqués\, MARO o Carriel\, entre d’altres. \nAmb una llarga trajectòria com a músic\, treballant en gires com la de Alejandro Sanz\, exercint de saxofonista i corista a la banda i més recentment com a professor de l’acadèmia d’OT ja té dos àlbums de estudi al mercat i un LP en viu. \nAquest 2024 ens presenta “Dudas”. Un còctel dolç alhora que amarg\, que barreja sabors propis de l’indie-pop amb matisos del jazz i de la música urbana. \n“Dudas” es transforma en el diari personal de l’artista per fer-nos testimonis de les seves reflexions més profundes i per parlar-nos de quines són les principals preocupacions a través de cançons com a “Relevante” o “Con los pies”\, a més d’exposar-nos alguns dels seus desitjos més fantàstics\, com a “Vampirs”. \nAmb un directe electritzant i acompanyat d’una impressionant banda de músics\, dubtes cobra encara més vida interpretat en viu\, una experiència que ja han viscut els assistents del concert de presentació\, sold out\, a la sala Villanos de Madrid. \nEntrada lliure \nUBICACIÓ: Jazzbah Port de Ciutadella
URL:https://jazzbah.es/event/vic-mirallas-2/
CATEGORIES:2024,25è Aniversari,Concerts,Destacats,Jazzbah
ATTACH;FMTTYPE=image/png:https://jazzbah.es/wp-content/uploads/2024/05/slide-web-vic-mirallas-ok.png
END:VEVENT
BEGIN:VEVENT
DTSTART;TZID=Europe/Paris:20240801T235900
DTEND;TZID=Europe/Paris:20240801T235900
DTSTAMP:20260420T132425
CREATED:20240529T154259Z
LAST-MODIFIED:20240605T085515Z
UID:2699-1722556740-1722556740@jazzbah.es
SUMMARY:Ángel Carmona DJ SET (RNE / Mañana más)
DESCRIPTION:Les sessions del locutor Ángel Carmona (RNE\, “Mañana más”)\, són conegudes pels assistents a les sales i festivals nacionals més importants. El carismàtic periodista musical\, promet una nit festiva a Jazzbah i ens delectarà amb una selecció musical a mida per a l’ocasió. \nUBICACIÓ: Jazzbah Port de Ciutadella
URL:https://jazzbah.es/event/angel-carmona-dj-set-rne-manana-mas/
CATEGORIES:2024,25è Aniversari,Concerts,Destacats,Dj,Jazzbah
ATTACH;FMTTYPE=image/png:https://jazzbah.es/wp-content/uploads/2024/05/slide-Angel-Carmona-dj-set.png
END:VEVENT
BEGIN:VEVENT
DTSTART;TZID=Europe/Paris:20240806T233000
DTEND;TZID=Europe/Paris:20240806T233000
DTSTAMP:20260420T132425
CREATED:20240731T144135Z
LAST-MODIFIED:20240804T161600Z
UID:2915-1722987000-1722987000@jazzbah.es
SUMMARY:Remember Reggaeton
DESCRIPTION:Aquest estiu arriba al Jazzbah de la ma de SUGAR MENORCA la primera festa de Reggaeton Remember! \nUn vespre dedicat als millors himnes del gènere de principis dels 2000 fins avui. \nEn cabina els dj’s XAPS i ERIXEN\, residents en exclusiva que posaran la pista a temperatura d’ebullició. \nPer tots els amanst de la música urbana… No us o podeu perdre! \nUna nova edició cada dimarts \nEntrada lliure
URL:https://jazzbah.es/event/2915/
CATEGORIES:2024,25è Aniversari,Concerts,Destacats,Dj,Jazzbah
ATTACH;FMTTYPE=image/jpeg:https://jazzbah.es/wp-content/uploads/2024/07/Slide-Jazzbah-11.jpg
END:VEVENT
BEGIN:VEVENT
DTSTART;TZID=Europe/Paris:20240807T234500
DTEND;TZID=Europe/Paris:20240807T234500
DTSTAMP:20260420T132425
CREATED:20240727T063716Z
LAST-MODIFIED:20240727T063759Z
UID:2895-1723074300-1723074300@jazzbah.es
SUMMARY:Technasia
DESCRIPTION:El dj francés nos vuelve a visitar después de la legendaria sesión que hizo hace un par de años donde coincidió con una tormenta impresionante durante su set\, haciendo que Jazzbah se llenará como pocas veces se ha visto. \nEl mejor tech house se fundira con el techno mas selecto de la mano de Technasia. \nEntradas anticipadas con precio reducido ya disponibles!\nhttps://entradas.codetickets.com/entradas/los-santos-presentan-bah–technasia–t-jazzbah-/58984/lossantos/online
URL:https://jazzbah.es/event/technasia/
CATEGORIES:2024,25è Aniversari,Bah!,Concerts,Destacats,Dj,Jazzbah
ATTACH;FMTTYPE=image/jpeg:https://jazzbah.es/wp-content/uploads/2024/07/Slide-Jazzbah-8.jpg
END:VEVENT
BEGIN:VEVENT
DTSTART;TZID=Europe/Paris:20240808T233000
DTEND;TZID=Europe/Paris:20240808T233000
DTSTAMP:20260420T132425
CREATED:20240529T140537Z
LAST-MODIFIED:20240605T085416Z
UID:2692-1723159800-1723159800@jazzbah.es
SUMMARY:The Flaming Shakers (Flower Power Party)
DESCRIPTION:Allibera la teva ment\, treu el teu millor somriure i sent el invencible poder de l’amor: Això és el Flower Power de Jazzbah una de les festes més estimades de la programació d’estiu. Us convidem a omplir la sala de color amb les vostres millors gales hippies. \nThe Flaming Shakers són segons la crítica especialitzada la millor banda tribut a The Beatles d’Europa. \nUn viatge en el temps\, recreant aquella meravellosa música i imatge\, que impactaria fulminantment en una societat àvida de canvis i experimentació. The Flaming Shakers donen l’oportunitat de reviure els records als més grans\, i permetre a les noves generacions descobrir com era la música de The Beatles en directe. En aquest tribut es cuida meticulosament la imatge\, i gestos dels Fab Four\, utilitzant els mateixos instruments\, i lluint els mateixos vestits a més del famós pentinat Beatle\, també anomenat Top Mod. Musicalment The Flaming Shakers ofereixen el millor xou-espectacle amb un extens catàleg de cançons i èxits del quartet de Liverpool. \n“Nomenats banda revelació a la International Beatle Week Liverpool 2015 i seleccionats novament a l’edició 2017″ \n” L’única banda tribut als Fab Four del món que ha tocat amb dos EX BEATLES(Pete Best+The Quarrymen)” \n“Reeixida gira per Bèlgica\, França i el Regne Unit amb més d’una trentena de concerts\, a les sales més emblemàtiques i famoses d’Europa”. \nPreu: 15 € (+dg) \nhttps://entradas.codetickets.com/entradas/the-flaming-shakers_6791/57193/jazzbah/online \nUBICACIÓ: Jazzbah Port de Ciutadella
URL:https://jazzbah.es/event/the-flaming-shakers-flower-power-party/
CATEGORIES:2024,25è Aniversari,Concerts,Destacats,Jazzbah,Party
ATTACH;FMTTYPE=image/png:https://jazzbah.es/wp-content/uploads/2024/05/slide-The-Flaming-Shakers.png
END:VEVENT
BEGIN:VEVENT
DTSTART;TZID=Europe/Paris:20240812T233000
DTEND;TZID=Europe/Paris:20240812T233000
DTSTAMP:20260420T132425
CREATED:20240529T161245Z
LAST-MODIFIED:20240812T134045Z
UID:2705-1723505400-1723505400@jazzbah.es
SUMMARY:Cris Juanico (20 anys Memòria)
DESCRIPTION:L’any 2004 es publicà el disc MEMÒRIA de Cris Juanico\, un recull de cançons populars menorquines en clau de pop-rock. El de Ciutadella el va presentar al Jazzbah i aquell any va visitar la sala de concerts fins a 4 vegades amb aquell magnífic projecte. Ara\, després de 20 anys\, Cris Juanico hi torna fer aturada per repassar-ne algunes de les cançons del disc\, i amb versions renovades de cançons pròpies i de Ja T’Ho Diré. \nHo fa acompanyat dels músics Shanti Gordi\, Quim Ribó\, Lluís Gener i Pere Moll. \nEntrada a taquilla 12€ + dg\nhttps://entradas.codetickets.com/entradas/cris-juanico_9705/58260/jazzbah/online\n \nEntrada a taquilla: 15 € \nUBICACIÓ: Jazzbah Port de Ciutadella
URL:https://jazzbah.es/event/cris-juanico-20-anys-memoria/
CATEGORIES:2024,25è Aniversari,Concerts,Destacats,Jazzbah
ATTACH;FMTTYPE=image/jpeg:https://jazzbah.es/wp-content/uploads/2024/05/Slide-Jazzbah-sold-out-1.jpg
END:VEVENT
BEGIN:VEVENT
DTSTART;TZID=Europe/Paris:20240813T233000
DTEND;TZID=Europe/Paris:20240813T233000
DTSTAMP:20260420T132425
CREATED:20240731T144412Z
LAST-MODIFIED:20240808T170913Z
UID:2917-1723591800-1723591800@jazzbah.es
SUMMARY:Remember Reggaeton
DESCRIPTION:Aquest estiu arriba al Jazzbah de la ma de SUGAR MENORCA la primera festa de Reggaeton Remember! \nUn vespre dedicat als millors himnes del gènere de principis dels 2000 fins avui. \nEn cabina els dj’s XAPS i ERIXEN\, residents en exclusiva que posaran la pista a temperatura d’ebullició. \nPer tots els amanst de la música urbana… No us o podeu perdre! \nUna nova edició cada dimarts \nEntrada lliure
URL:https://jazzbah.es/event/remember-reggaeton/
CATEGORIES:2024,25è Aniversari,Concerts,Destacats,Dj,Jazzbah
ATTACH;FMTTYPE=image/jpeg:https://jazzbah.es/wp-content/uploads/2024/07/Slide-Jazzbah13.jpg
END:VEVENT
BEGIN:VEVENT
DTSTART;TZID=Europe/Paris:20240814T234500
DTEND;TZID=Europe/Paris:20240814T234500
DTSTAMP:20260420T132425
CREATED:20240810T072537Z
LAST-MODIFIED:20240810T072537Z
UID:2951-1723679100-1723679100@jazzbah.es
SUMMARY:Bah! Coyu
DESCRIPTION:Por primera vez nos visita COYU\, artista catalán dueño del sello Suara. Una de las discográficas más representativas a nivel español y mas importantes de la escena electrónica. \nCon años de experiencia y una carrera que acumula actuaciones en todo el mundo\, Coyu se da a conocer por su estilo único basado en grooves y ritmos percusivos\, mezclados con vocales y melodías muy pegadizas. Estilo que ha ideo evolucionando hasta convertirse en uno de los artistas mas emblemáticos de la escena Hard Groove del país. \nNo os perdáis esta oportunidad de disfrutar de un artista de tal calibre en una noche de puro baile! \nEntradas anticipadas a precio reducido ya disponibles.\nhttps://entradas.codetickets.com/entradas/los-santos-presentan-bah–coyu–t-jazzbah-/59331/lossantos/online
URL:https://jazzbah.es/event/bah-coyu/
CATEGORIES:2024,25è Aniversari,Bah!,Concerts,Destacats,Dj,Jazzbah
ATTACH;FMTTYPE=image/jpeg:https://jazzbah.es/wp-content/uploads/2024/08/Slide-Jazzbah-3.jpg
END:VEVENT
BEGIN:VEVENT
DTSTART;TZID=Europe/Paris:20240815T233000
DTEND;TZID=Europe/Paris:20240815T233000
DTSTAMP:20260420T132425
CREATED:20240529T153454Z
LAST-MODIFIED:20240605T085314Z
UID:2696-1723764600-1723764600@jazzbah.es
SUMMARY:JULIETA (DJ SET)
DESCRIPTION:Intèrpret\, compositora i productora\, JULIETA s’ha consagrat com a un dels màxims referents de la nova escena pop catalana. Després de l’èxit del seu àlbum 5 AM i una gira que va recopilar més de trenta concerts a tot Espanya\, l’artista es va acomiadar del 2023 traspassant fronteres en un increïble sold out a Londres i amb la venda total en 24 hores del final de gira a la Sala Apolo de Barcelona. Fent el primer Gallery Sessions en català\, “LOKURA”\, el “catalan dream” es lliura ara a un prometedor 2024 ple d’estrenes amb el seu nou projecte TU JURU LA JU TOUR. En aquesta ocasió\, Julieta fa una selecció personal dels millors temes del pop i l’urban\, increïbles cançons que han influenciat la seva carrera musical. \nUna nit especial al costat de l’artista en format DJ set\, on també l’acompanyarà el productor Moed. \nPreu: 10 € (+dg) \nhttps://entradas.codetickets.com/entradas/julieta–dj-set-/57194/jazzbah/online \nUBICACIÓ: Jazzbah Port de Ciutadella
URL:https://jazzbah.es/event/julieta-dj-set/
CATEGORIES:2024,25è Aniversari,Concerts,Destacats,Dj,Jazzbah
ATTACH;FMTTYPE=image/png:https://jazzbah.es/wp-content/uploads/2024/05/slide-Julieta-Dj-set.png
END:VEVENT
BEGIN:VEVENT
DTSTART;TZID=Europe/Paris:20240818T233000
DTEND;TZID=Europe/Paris:20240818T233000
DTSTAMP:20260420T132425
CREATED:20240610T185519Z
LAST-MODIFIED:20240810T071531Z
UID:2758-1724023800-1724023800@jazzbah.es
SUMMARY:Juligan DJ (Love of Lesbian)
DESCRIPTION:La versió dj de Julián Saldarriga (Love of Lesbian) arriba per primer cop al Jazzbah!\nUn músic altament polifacètic i carregat d’influències musical ens presenta la seva versió com a artista de club\, on ens farà ballar a ritme de dance\, funky\, sala y pop. Convertint el proper diumenge 18 d’Agost en una vetllada única. \nNo us perdeu aquesta gran oportunitat per conéixer la nova faceta del mebre d’un dels grups més carismàtics del país\, i per tornar a ballar amb les nostres Indie Nights!
URL:https://jazzbah.es/event/juligan-dj-love-of-lesbian/
CATEGORIES:2024,25è Aniversari,Concerts,Destacats,Dj,Indie Nights,Jazzbah
ATTACH;FMTTYPE=image/png:https://jazzbah.es/wp-content/uploads/2024/06/JULIGAN-DJ-LOVE-OF-LESBIAN.png
END:VEVENT
BEGIN:VEVENT
DTSTART;TZID=Europe/Paris:20240819T234500
DTEND;TZID=Europe/Paris:20240819T234500
DTSTAMP:20260420T132425
CREATED:20240728T070944Z
LAST-MODIFIED:20240728T101136Z
UID:2902-1724111100-1724111100@jazzbah.es
SUMMARY:Discursiva
DESCRIPTION:El pròxim DILLUNS 19 d’AGOST la crew de la Discursiva viatja per primer cop al Jazzbah per portar a l’illa l’esdeveniment benèfic amb més màgia de l’estiu. \nPassió per la música i les persones s’uneixen per portar un vespre únic. \nHOUSE – HITS – TECHHOUSE – EUROTRANCE – HARDHOUSE – TECHNO \nAmb un Line up excepcional format per:\nCYGALA\nROOMI\nMIPA\n+\nSYNTHETIC FLOWER \nBeneficis destinats a l’organització ALBA de Menorca\, dedicada a les dones afectades per càncer de mama. \nNo us ho perdeu! \nEntrades anticipades\nhttps://www.fourvenues.com/ca/discursiva/events/discursiva-pres-jazzbah-menorca-benefic-19-08-2024-AOP2
URL:https://jazzbah.es/event/discursiva/
CATEGORIES:2024,25è Aniversari,Concerts,Destacats,Dj,Jazzbah
ATTACH;FMTTYPE=image/jpeg:https://jazzbah.es/wp-content/uploads/2024/07/Slide-Jazzbah-9.jpg
END:VEVENT
BEGIN:VEVENT
DTSTART;TZID=Europe/Paris:20240820T233000
DTEND;TZID=Europe/Paris:20240820T233000
DTSTAMP:20260420T132425
CREATED:20240604T081659Z
LAST-MODIFIED:20240729T153256Z
UID:2743-1724196600-1724196600@jazzbah.es
SUMMARY:SIDONIE
DESCRIPTION:La relació d’amor entre Sidonie i el Jazzbah ve de lluny i és que la banda barcelonina és assídua a la sala del Port de Ciutadella des dels seus inicis. Per en Marc\, n’Axel i Jes és com actuar a casa. Per aquest motiu\, els Sidonie\, no podien faltar a la festa de celebració dels 25 anys del Jazzbah. \nAddictes al disc concepte\, a l’energia del directe i a la col·laboració constant amb artistes de diferents gèneres\, trajectòries i abast\, Sidonie ha marcat la música pop-rock nacional de forma indiscutible: Fascinados\, Carreteras Infinitas\, Incendio\, Maravilloso\, Cedé o El peor grupo del mundo són ja imprescindibles de la seva banda sonora. \nSidonie pujaran al nostre escenari per presentar el seu darrer disc «MARC\, AXEL Y JES» sense deixar de fer un repàs als seus grans HITS. \n\n\n\n\n\nPreu: 25 € (+dg)  \nhttps://entradas.codetickets.com/entradas/sidonie/57310/jazzbah/online \n\n\n\nUBICACIÓ: Jazzbah Port de Ciutadella
URL:https://jazzbah.es/event/sidonie/
CATEGORIES:2024,25è Aniversari,Concerts,Destacats,Jazzbah
ATTACH;FMTTYPE=image/jpeg:https://jazzbah.es/wp-content/uploads/2024/06/Slide-Jazzbahsold.jpg
END:VEVENT
BEGIN:VEVENT
DTSTART;TZID=Europe/Paris:20240822T233000
DTEND;TZID=Europe/Paris:20240822T233000
DTSTAMP:20260420T132425
CREATED:20240801T165848Z
LAST-MODIFIED:20240810T103339Z
UID:2927-1724369400-1724369400@jazzbah.es
SUMMARY:Backyaad
DESCRIPTION:BACKYAAD\, el col·lectiu de música reggae i dancehall més important de l’illa torna al Jazzbah el proper 22 d’Agost!\nEn aquesta edició amb convidats d’alt nivell com son SINKYBEATZ\, 3STRIPES i DJ MERKA. Que s’encarregaràn de fer tremolar la pista amb produccions en directe i amb les millors sel·leccions de música jamaicana. \nUn vespre on la discoteca es transforma en un soundsystem que vibra al so de jungle\, new roots\, dub i reggae. No us perdeu aquesta gran oportunitat per als amants del gènere. \nEntrades anticipades ja disponibles\nhttps://entradium.com/events/back-yaad-invites-sinky-beatz
URL:https://jazzbah.es/event/backyaad/
CATEGORIES:2024,25è Aniversari,Concerts,Destacats,Dj,Jazzbah
ATTACH;FMTTYPE=image/jpeg:https://jazzbah.es/wp-content/uploads/2024/08/Slide-Jazzbah-1.jpg
END:VEVENT
BEGIN:VEVENT
DTSTART;TZID=Europe/Paris:20240823T233000
DTEND;TZID=Europe/Paris:20240823T233000
DTSTAMP:20260420T132425
CREATED:20240801T165500Z
LAST-MODIFIED:20240808T170335Z
UID:2923-1724455800-1724455800@jazzbah.es
SUMMARY:Mambow
DESCRIPTION:MAMBOW presenta The Last Dance! \nEl dúo Natx i Newjoss tornen a la sala per celebrar la darrera edició de la seva aclamada festa.\nUn vespre carregat de dance\, rock\, pop i els millors hits de sempre que et farà no poder deixar de ballar. \nVine a celebrar les darreres setmanes d’estiu amb un dels nostres event estrella. No t’ho pots perdre! \nEntrada lliure
URL:https://jazzbah.es/event/mambow-3/
CATEGORIES:2024,25è Aniversari,Concerts,Destacats,Dj,Jazzbah
ATTACH;FMTTYPE=image/jpeg:https://jazzbah.es/wp-content/uploads/2024/08/Slide-Jazzbah2.jpg
END:VEVENT
BEGIN:VEVENT
DTSTART;TZID=Europe/Paris:20240824T235900
DTEND;TZID=Europe/Paris:20240824T235900
DTSTAMP:20260420T132425
CREATED:20240811T085508Z
LAST-MODIFIED:20240811T085508Z
UID:2956-1724543940-1724543940@jazzbah.es
SUMMARY:Ley Dj
DESCRIPTION:Torna Ley DJ al seu darrer vespre d’aquest estiu! \nQuan xerrem de Ley DJ xerrem d’energía\, versatilitat\, carisma i sobretot molt gust musical!\nAmb anys d’experiència i una carrera que acumula actuacions als millors festivals\, Ley és coneguda per mesclar el millor del pop\, l’indie i l’electrònica en sessiones altament electrificants. \nEl proper dissabte fará la darrera aparició de l’estiu com una de les nostres residents juntament amb el nostre dj de confiança @legong.music. Segur que us ho voleu perdre? \nUs esperem!
URL:https://jazzbah.es/event/ley-dj-9/
CATEGORIES:2024,25è Aniversari,Concerts,Destacats,Dj,Indie Nights,Jazzbah
ATTACH;FMTTYPE=image/jpeg:https://jazzbah.es/wp-content/uploads/2024/08/Slide-Jazzbah-4.jpg
END:VEVENT
BEGIN:VEVENT
DTSTART;TZID=Europe/Paris:20240826T213000
DTEND;TZID=Europe/Paris:20240826T213000
DTSTAMP:20260420T132425
CREATED:20240530T141545Z
LAST-MODIFIED:20240826T111746Z
UID:2712-1724707800-1724707800@jazzbah.es
SUMMARY:SHOWCASE amb JOAN (ERIL)\, FERRAN PALAU\, JOAN COLOMO\, LEONMANSO + ARTISTES CONVIDATS
DESCRIPTION:Els millors artistes de l’escena independent en llengua catalana es reuneixen en un concert únic i molt especial. Serà una nit màgica per a commemorar els 25 anys de la sala amb uns quants dels músics que han format part de la història i la família del Jazzbah. \nUn recull de les seves millors cançons en format acústic que es completarà amb la participació d’altres artistes top de l’actualitat que de ben segur us faran brillar els ulls i endolcir l’oïda. \nUn concert íntim i desenfadat amb i per tots els amics del Jazzbah.\nNo t’ho pots perdre! \nPreu: 10 € (+dg)\nhttps://entradas.codetickets.com/entradas/showcase-amb-el-petit-de-cal-eril–ferran-palau–joan-colom/57216/jazzbah/online \nUBICACIÓ: Jazzbah Port de Ciutadella
URL:https://jazzbah.es/event/showcase-amb-el-petit-de-cal-eril-ferran-palau-joan-colomo-leonmanso-artistes-convidats/
CATEGORIES:2024,25è Aniversari,Concerts,Destacats,Jazzbah
ATTACH;FMTTYPE=image/jpeg:https://jazzbah.es/wp-content/uploads/2024/05/IMG-20240826-WA0022.jpg
END:VEVENT
BEGIN:VEVENT
DTSTART;TZID=Europe/Paris:20240828T234500
DTEND;TZID=Europe/Paris:20240828T234500
DTSTAMP:20260420T132425
CREATED:20240802T152310Z
LAST-MODIFIED:20240819T131701Z
UID:2932-1724888700-1724888700@jazzbah.es
SUMMARY:Bah! Nakadia
DESCRIPTION:Cierre de temporada con Nakadia una de las reinas del techno que ya en su debut con nosotros dejó una sesión brutal hace 2 años\, y que esta vez viene hacer el closing por todo lo alto. Tailandesa afincada en Berlin nos dejará patidifusos con technazo. Prepárate. \nEntradas anticipadas\nhttps://entradas.codetickets.com/entradas/los-santos-presenta–bah–closing–con-nakadia–t-jazzbah-/59438/lossantos/online
URL:https://jazzbah.es/event/bah-9/
CATEGORIES:2024,25è Aniversari,Bah!,Concerts,Destacats,Dj,Jazzbah
ATTACH;FMTTYPE=image/jpeg:https://jazzbah.es/wp-content/uploads/2024/08/Slide-Jazzbah-5.jpg
END:VEVENT
BEGIN:VEVENT
DTSTART;TZID=Europe/Paris:20240829T233000
DTEND;TZID=Europe/Paris:20240829T233000
DTSTAMP:20260420T132425
CREATED:20240529T154644Z
LAST-MODIFIED:20240811T085645Z
UID:2702-1724974200-1724974200@jazzbah.es
SUMMARY:Serial Killerz DJ & Drums
DESCRIPTION:El dúo SERIAL KILLERZ torna a Jazzbah! \nConsiderats un dels grups més populars i sorprenents del l’underground estatal\, el conformen un DJ i un bateria que amb les seves mescles impossibles de rock\, indie rock i electrònica\, són capaços d’aixecar i fer ballar a milers de persones en clubs i festivals de tot el país. Energia en estat pur! \nEl pròxim dijous 29 d’Agost\, no us perdeu aquest nous concepte que us farà posar la pell de gallina! \nAmb el patrocini de: Jack Daniel’s \nUBICACIÓ: Jazzbah Port de Ciutadella
URL:https://jazzbah.es/event/serial-killerz-dj-drums/
CATEGORIES:2024,25è Aniversari,Concerts,Destacats,Dj,Jazzbah
ATTACH;FMTTYPE=image/png:https://jazzbah.es/wp-content/uploads/2024/05/slide-Serial-Killerz.png
END:VEVENT
BEGIN:VEVENT
DTSTART;TZID=Europe/Paris:20240830T233000
DTEND;TZID=Europe/Paris:20240830T233000
DTSTAMP:20260420T132425
CREATED:20240731T144555Z
LAST-MODIFIED:20240827T151746Z
UID:2921-1725060600-1725060600@jazzbah.es
SUMMARY:Remember Reggaeton
DESCRIPTION:Aquest estiu arriba al Jazzbah de la ma de SUGAR MENORCA la primera festa de Reggaeton Remember! \nUn vespre dedicat als millors himnes del gènere de principis dels 2000 fins avui. \nEn cabina els dj’s XAPS i ERIXEN\, residents en exclusiva que posaran la pista a temperatura d’ebullició. \nPer tots els amanst de la música urbana… No us o podeu perdre! \nUna nova edició cada dimarts \nEntrada lliure
URL:https://jazzbah.es/event/remember-reggaeton-2/
CATEGORIES:2024,25è Aniversari,Concerts,Destacats,Dj,Jazzbah
ATTACH;FMTTYPE=image/jpeg:https://jazzbah.es/wp-content/uploads/2024/07/Slide-Jazzbah-30.jpg
END:VEVENT
BEGIN:VEVENT
DTSTART;TZID=Europe/Paris:20240831T223000
DTEND;TZID=Europe/Paris:20240831T223000
DTSTAMP:20260420T132425
CREATED:20240819T192223Z
LAST-MODIFIED:20240819T192223Z
UID:2971-1725143400-1725143400@jazzbah.es
SUMMARY:Miss Loopita. Pedra en Viu (Pedra Viva)
DESCRIPTION:“Freaks és el nou espectacle del guitarrista i productor Miss Loopita\, que basa el seu setè treball en la pel·lícula homònima de 1932\, del director Tod Browning\, que és un al·legat a favor de la diferenciació i les minories. Acompanyen a Miss Loopita en l’espectacle les imatges visuals en directe a càrrec de Dani Kumm i la versàtil veu de la cantant Verónica Pisano.Una proposta única\, elegant i potent que fusiona cinema\, art visual i música en directe.” \nEntrada lliure
URL:https://jazzbah.es/event/miss-loopita-pedra-en-viu-pedra-viva/
CATEGORIES:2024,25è Aniversari,Concerts,Destacats,Jazzbah
ATTACH;FMTTYPE=image/jpeg:https://jazzbah.es/wp-content/uploads/2024/08/Slide-Jazzbah-6.jpg
END:VEVENT
END:VCALENDAR