BEGIN:VCALENDAR
VERSION:2.0
PRODID:-//Jazzbah (Port de Ciutadella) - ECPv6.15.20//NONSGML v1.0//EN
CALSCALE:GREGORIAN
METHOD:PUBLISH
X-WR-CALNAME:Jazzbah (Port de Ciutadella)
X-ORIGINAL-URL:https://jazzbah.es
X-WR-CALDESC:Esdeveniments per Jazzbah (Port de Ciutadella)
REFRESH-INTERVAL;VALUE=DURATION:PT1H
X-Robots-Tag:noindex
X-PUBLISHED-TTL:PT1H
BEGIN:VTIMEZONE
TZID:Europe/Paris
BEGIN:DAYLIGHT
TZOFFSETFROM:+0100
TZOFFSETTO:+0200
TZNAME:CEST
DTSTART:20230326T010000
END:DAYLIGHT
BEGIN:STANDARD
TZOFFSETFROM:+0200
TZOFFSETTO:+0100
TZNAME:CET
DTSTART:20231029T010000
END:STANDARD
BEGIN:DAYLIGHT
TZOFFSETFROM:+0100
TZOFFSETTO:+0200
TZNAME:CEST
DTSTART:20240331T010000
END:DAYLIGHT
BEGIN:STANDARD
TZOFFSETFROM:+0200
TZOFFSETTO:+0100
TZNAME:CET
DTSTART:20241027T010000
END:STANDARD
BEGIN:DAYLIGHT
TZOFFSETFROM:+0100
TZOFFSETTO:+0200
TZNAME:CEST
DTSTART:20250330T010000
END:DAYLIGHT
BEGIN:STANDARD
TZOFFSETFROM:+0200
TZOFFSETTO:+0100
TZNAME:CET
DTSTART:20251026T010000
END:STANDARD
END:VTIMEZONE
BEGIN:VEVENT
DTSTART;TZID=Europe/Paris:20240504T200000
DTEND;TZID=Europe/Paris:20240504T200000
DTSTAMP:20260420T184740
CREATED:20240202T100841Z
LAST-MODIFIED:20240425T171146Z
UID:2434-1714852800-1714852800@jazzbah.es
SUMMARY:TRIBUT M-CLAN (ANTIHÉROES) + LA MOVIDA BAND
DESCRIPTION:ARRIBA EL SÚPER PTARDEO DEL JAZZBAH! \nTRIBUTO M-CLAN (ANTIHÉROES) + LA MOVIDA BAND \n  \nTRIBUTO M-CLAN (ANTIHÉROES). El millor homenatge a la banda espanyola M-clan ja és aquí. Aquesta banda està formada per grans músics consagrats i reconeguts del panorama musical a Mallorca\, tractaran amb cura i respecte\, tots i cadascun dels temes de la banda Murciana M-clan. No faltaran temes com Carolina\, Trucant a la Terra\, Maggie\, Queda’t a Dormir…i molts més. \nLA MOVIDA BAND. EL MILLOR HOMENATGE A LA MOVIDA MADRILEÑA! La Movida Band és sinònim de diversió\, la banda mallorquina torna al Jazzbah per oferir un homenatge de dalt de tot a una època que va marcar a tota una generació. Ells no es limiten a realitzar versions\, sinó que realitzen un autèntic tribut\, respectant fidelment les cançons originals\, destacant els canvis de registres amb el camaleònic Joan Bagur a la veu. Una formació que ha anat creixent des del primer dia i que continua regalant viatges en el temps a través dels concerts! \n4 hores de festa amb dos concerts que et deixaran sense alè. No t’ho perdis! \nObertura portes: 19h\nConcerts: 20h \n\nEntrada anticipada: 15€ (+dg)\nhttps://entradium.com/es/events/tributo-a-mclan-por-antiheroes-ciutadella-de-menorca \nTaquilla: 18€ \n 
URL:https://jazzbah.es/event/tribut-a-m-clan-antiheroes/
CATEGORIES:2024,Concerts,Destacats,Jazzbah,P-tardeo
ATTACH;FMTTYPE=image/jpeg:https://jazzbah.es/wp-content/uploads/2024/02/IMG-20240425-WA0001.jpg
END:VEVENT
BEGIN:VEVENT
DTSTART;TZID=Europe/Paris:20240510T235900
DTEND;TZID=Europe/Paris:20240510T235900
DTSTAMP:20260420T184740
CREATED:20240430T134731Z
LAST-MODIFIED:20240430T134731Z
UID:2576-1715385540-1715385540@jazzbah.es
SUMMARY:FISH & BEATS
DESCRIPTION:Uncle Frankie i Diana Groove presenten Fish&Beats! \nEl combo magnífic torna al Jazzbah en la segona edició del seu projecte per fer-vos gaudir d’un vespre carregat de ritme i ganes de ballar. \n\nEl dúo d’artistes reconeguts dins l’escena de l’illa es fusionen per portar la millor selecció musical des del disco-house fins al funky passant per tota la llista de classics que no poden faltar.\n\nSi ja t’agraden els cap de setmana\, fes que començin de la millor manera amb la nova programació d’aquest mes. Tots els divendres!
URL:https://jazzbah.es/event/fish-beats/
CATEGORIES:2024,25è Aniversari,Concerts,Dj,Jazzbah,Party
ATTACH;FMTTYPE=image/jpeg:https://jazzbah.es/wp-content/uploads/2024/04/Slide-Jazzbah-3.jpg
END:VEVENT
BEGIN:VEVENT
DTSTART;TZID=Europe/Paris:20240511T200000
DTEND;TZID=Europe/Paris:20240511T200000
DTSTAMP:20260420T184740
CREATED:20240209T085605Z
LAST-MODIFIED:20240209T085605Z
UID:2469-1715457600-1715457600@jazzbah.es
SUMMARY:LOS NIÑOS JESÚS amb JORDI ÉVOLE
DESCRIPTION:La banda de Jordi Évole i amics\, que ja ha passat per llocs com el Bilbao BBK Live\, Sonorama\, Acústica Figueres\, Apolo (Barcelona)\, Inverfest (Madrid) i altres ciutats arriba al darrer ptardeo de la temporada que formarà part de la programació especial dels 25 anys del Jazzbah. \nAls seus concerts han pujat a cantar convidats com Amaral\, Lori Meyers\, Kiko Veneno\, Albert Pla\, La La Love You\, Lichis\, Elefants\, etc. \n“El público de la sala acaba pegando botes\, interactuando con la\nbanda y hasta cantando una canción en catalán.” El Periódico de España \nJordi Évole li va preguntar un bon dia al seu amic Pau Donés\, que com era això de tenir un grup i pujar-s’hi a l’escenari a cantar-lo al públic. I el bo de Pau li va contestar\, somrient-se\, el mateix que contesta algú en ser pare per primera vegada: que era una cosa inexplicable\, i que calia viure-ho i sentir-ho per entendre-ho. \nAixí que el Jordi\, de professió\, curiós\, va decidir un altre bon dia que ho volia entendre. Va cridar Jesús\, Jacob\, Óscar\, Javi i Juan Carlos\, i els va proposar formar una banda. A hores d’ara\, sí. D’aquí van sorgir Los Niños Jesús\, el repertori del qual revisa en clau festiva clàssics d’ahir\, avui i sempre\, dels nostres festivals i\, per descomptat\, de les nostres festes majors. No se salven ni C. Tangana\, ni Extremoduro\, ni Estopa\, ni Lori Meyers\, ni Kiko Veneno… I\, per descomptat\, tampoc se salven Jarabe de Palo d’un repertori que és com si estiguéssim veient l’encarnació de la segona vinguda de\nCachitos de Hierro y Cromo. \nSense subtítols\, això sí\, però amb aplaudiments en directe.\n \nEntrada anticipada: 15€ + dg\nhttps://entradas.codetickets.com/entradas/los-ninos-jesus-amb-jordi-evole/50664/jazzbah/online \nTaquilla: 18€ \nAforament limitat. \nObertura portes: 19h\nLos Niños Jesús: 20h \n 
URL:https://jazzbah.es/event/los-ninos-jesus-amb-jordi-evole/
CATEGORIES:2024,25è Aniversari,Concerts,Destacats,Jazzbah,P-tardeo
ATTACH;FMTTYPE=image/jpeg:https://jazzbah.es/wp-content/uploads/2024/02/Slide-Jazzbah-7.jpg
END:VEVENT
BEGIN:VEVENT
DTSTART;TZID=Europe/Paris:20240517T235900
DTEND;TZID=Europe/Paris:20240517T235900
DTSTAMP:20260420T184740
CREATED:20240430T141412Z
LAST-MODIFIED:20240430T141537Z
UID:2589-1715990340-1715990340@jazzbah.es
SUMMARY:ORGANICA
DESCRIPTION:El proper divendres arriba la primera proposta electrònica del mes amb Organica! \n\nUna festa salvatge capitanejada per Ricard Triay\, enfocada als ritmes més selvàtics i sensitius.  \nEn aquesta edició contarem amb la companyía de Layton Ferrero\, un artista ferotge que s’encarregarà d’obrir el vespre i posar-lo a temperatura d’ebullició. I amb l’actuació d’un dels nostre residents\, Legong\, que presenta per primer cop i en primicia un dj set juntament amb un percusionista en directe! \nNo us podeu perdre aquest vespre únic de pur Afro House que segur ens deixa a tots la pell ben eriçada. Us esperem!
URL:https://jazzbah.es/event/organica-2/
CATEGORIES:2024,25è Aniversari,Concerts,Destacats,Dj,Jazzbah,Party
ATTACH;FMTTYPE=image/jpeg:https://jazzbah.es/wp-content/uploads/2024/04/Slide-Jazzbah-6.jpg
END:VEVENT
BEGIN:VEVENT
DTSTART;TZID=Europe/Paris:20240518T235900
DTEND;TZID=Europe/Paris:20240518T235900
DTSTAMP:20260420T184740
CREATED:20240430T135952Z
LAST-MODIFIED:20240430T140328Z
UID:2579-1716076740-1716076740@jazzbah.es
SUMMARY:LEY DJ
DESCRIPTION:Torna a casa una de les djs més carismàtiques del païs. LEY DJ! En aquesta edició per tornar a portar la seva potència musical a l’illa i fer-vos ballar a tots sense aturar \nFamosa per la seva mescla entre l’indie i l’electrònica\, LEY DJ es una de les poques artistes a nivell nacional que ha actuat juntament amb grans noms com 2Manydj’s o Digitalism i per obrir a increïbles bandes com Coldplay\, U2 o Amaral. I després d’un hivern ple d’èxits en solitari i amb la seva marca ‘House Of Ley’ passarà un altre vegada per Jazzbah per donar un vespre màgic on cada cançó es convertirà en un hit. \nNo us la perdeu ell pròxim dissabte 18 de maig juntament amb els nostres dj’s residents. On la nostra sala tornarà a brillar i esclatar d’energía.
URL:https://jazzbah.es/event/ley-dj-7/
CATEGORIES:2024,25è Aniversari,Concerts,Destacats,Dj,Jazzbah
ATTACH;FMTTYPE=image/jpeg:https://jazzbah.es/wp-content/uploads/2024/04/Slide-Jazzbah-5.jpg
END:VEVENT
BEGIN:VEVENT
DTSTART;TZID=Europe/Paris:20240531T235900
DTEND;TZID=Europe/Paris:20240531T235900
DTSTAMP:20260420T184740
CREATED:20240508T134224Z
LAST-MODIFIED:20240527T141415Z
UID:2605-1717199940-1717199940@jazzbah.es
SUMMARY:DÔME Electronic
DESCRIPTION:Eber nos trae por primera vez a Jazzbah vez su fiesta DÔME Electronic!\nUna nueva apuesta para una noche de ritmos frescos acompañada de dos invitados de lo más exepcionales. \nDaniel Aguilar \, dj y productor proveniente de Barcelona que ha dejado impreso su estilo en grandes sellos discográficos de música Tech House como Tolroom\, Be One o Material Music entre otros.\nY David Prim\, un nombre ya reconocido en toda la isla y actual residente de lo que era el antiguo Bora Bora en Ibiza\, que vuelve para hacernos bailar en esta primera edición de DÔME. \nNuestro último evento de viernes antes de que empiece el verano con nuestra nueva programación! No os lo perdáis. \nEntrada anticipada 10€ (+ gg)\nhttps://entradas.codetickets.com/entradas/dome-electronic/54700/jazzbah/online \nEntrada a taquilla 12€ \n 
URL:https://jazzbah.es/event/dome-electronic/
CATEGORIES:2024,Concerts,Destacats,Dj,Jazzbah,Party
ATTACH;FMTTYPE=image/jpeg:https://jazzbah.es/wp-content/uploads/2024/05/dome.jpeg
END:VEVENT
END:VCALENDAR