BEGIN:VCALENDAR
VERSION:2.0
PRODID:-//Jazzbah (Port de Ciutadella) - ECPv6.15.20//NONSGML v1.0//EN
CALSCALE:GREGORIAN
METHOD:PUBLISH
X-ORIGINAL-URL:https://jazzbah.es
X-WR-CALDESC:Esdeveniments per Jazzbah (Port de Ciutadella)
REFRESH-INTERVAL;VALUE=DURATION:PT1H
X-Robots-Tag:noindex
X-PUBLISHED-TTL:PT1H
BEGIN:VTIMEZONE
TZID:Europe/Paris
BEGIN:DAYLIGHT
TZOFFSETFROM:+0100
TZOFFSETTO:+0200
TZNAME:CEST
DTSTART:20230326T010000
END:DAYLIGHT
BEGIN:STANDARD
TZOFFSETFROM:+0200
TZOFFSETTO:+0100
TZNAME:CET
DTSTART:20231029T010000
END:STANDARD
BEGIN:DAYLIGHT
TZOFFSETFROM:+0100
TZOFFSETTO:+0200
TZNAME:CEST
DTSTART:20240331T010000
END:DAYLIGHT
BEGIN:STANDARD
TZOFFSETFROM:+0200
TZOFFSETTO:+0100
TZNAME:CET
DTSTART:20241027T010000
END:STANDARD
BEGIN:DAYLIGHT
TZOFFSETFROM:+0100
TZOFFSETTO:+0200
TZNAME:CEST
DTSTART:20250330T010000
END:DAYLIGHT
BEGIN:STANDARD
TZOFFSETFROM:+0200
TZOFFSETTO:+0100
TZNAME:CET
DTSTART:20251026T010000
END:STANDARD
END:VTIMEZONE
BEGIN:VEVENT
DTSTART;TZID=Europe/Paris:20240120T190000
DTEND;TZID=Europe/Paris:20240120T190000
DTSTAMP:20260421T024138
CREATED:20231220T145226Z
LAST-MODIFIED:20231220T150006Z
UID:2357-1705777200-1705777200@jazzbah.es
SUMMARY:Jukebox Band
DESCRIPTION:Jukebox Band celebra el seu 10è aniversari fent música dels 80’s. \nJazzbah es convertirà en un túnel del temps amb un concert homenatge als grans temes dels anys 80’s oferint un repertori amb cançons que han marcat a tota una generació. Des de la Movida madrilenya fins als hits internacionals més festius. Un repàs a l’edat daurada del pop\, rock i funk nacional i internacional. \nEntrades anticipades: 10€ (+ dg) / Entrades a taquilla: 13€\nhttps://entradas.codetickets.com/entradas/jukebox-band_6320/48882/jazzbah/online \nObertura portes: 18:00 h / Inici concert: 19:00 h \nProhibida l’entrada a menors de 18 anys. \n 
URL:https://jazzbah.es/event/jukebox-band-4/
CATEGORIES:2024,Concerts,Destacats,Jazzbah,P-tardeo
ATTACH;FMTTYPE=image/jpeg:https://jazzbah.es/wp-content/uploads/2023/12/Slide-Jazzbah-5.jpg
END:VEVENT
BEGIN:VEVENT
DTSTART;TZID=Europe/Paris:20240127T190000
DTEND;TZID=Europe/Paris:20240127T190000
DTSTAMP:20260421T024138
CREATED:20231220T145922Z
LAST-MODIFIED:20231220T145922Z
UID:2362-1706382000-1706382000@jazzbah.es
SUMMARY:Héroes Tribut Band
DESCRIPTION:Héroes Tribut Band celebra el seu 10è aniversari (2014-2024) al Jazzbah amb un concert en exclusiva. El millor tribut a Héroes del Silencio. \nLa banda mallorquina Héroes Tribut Band porta a l’escenari del Jazzbah les emocions\, els sentiments\, la força i qualitat del millor grup de rock estatal de tots els temps\, Héroes del Silencio. Amb una extensa trajectòria de concerts per tot l’estat\, recollint molt bones crítiques i en la majoria dels seus shows penjant el cartell de “Sold Out” Héroes Tribut Band capitanejada per la veu de Joan Bagur\, desplegaran el seu poderós directe. \nEntrades anticipades: 15€ (+ dg) / Entrades a taquilla: 18€\nhttps://entradium.com/events/heroes-tribut-band-ciutadella-de-menorca \nObertura portes: 18:00 h / Inici concert: 19:00 h \nProhibida l’entrada a menors de 18 anys. \n 
URL:https://jazzbah.es/event/heroes-tribut-band/
CATEGORIES:2024,Concerts,Destacats,Jazzbah,P-tardeo
ATTACH;FMTTYPE=image/jpeg:https://jazzbah.es/wp-content/uploads/2023/12/Slide-Jazzbah-6.jpg
END:VEVENT
END:VCALENDAR