BEGIN:VCALENDAR
VERSION:2.0
PRODID:-//Jazzbah (Port de Ciutadella) - ECPv6.15.20//NONSGML v1.0//EN
CALSCALE:GREGORIAN
METHOD:PUBLISH
X-WR-CALNAME:Jazzbah (Port de Ciutadella)
X-ORIGINAL-URL:https://jazzbah.es
X-WR-CALDESC:Esdeveniments per Jazzbah (Port de Ciutadella)
REFRESH-INTERVAL;VALUE=DURATION:PT1H
X-Robots-Tag:noindex
X-PUBLISHED-TTL:PT1H
BEGIN:VTIMEZONE
TZID:Europe/Paris
BEGIN:DAYLIGHT
TZOFFSETFROM:+0100
TZOFFSETTO:+0200
TZNAME:CEST
DTSTART:20220327T010000
END:DAYLIGHT
BEGIN:STANDARD
TZOFFSETFROM:+0200
TZOFFSETTO:+0100
TZNAME:CET
DTSTART:20221030T010000
END:STANDARD
BEGIN:DAYLIGHT
TZOFFSETFROM:+0100
TZOFFSETTO:+0200
TZNAME:CEST
DTSTART:20230326T010000
END:DAYLIGHT
BEGIN:STANDARD
TZOFFSETFROM:+0200
TZOFFSETTO:+0100
TZNAME:CET
DTSTART:20231029T010000
END:STANDARD
BEGIN:DAYLIGHT
TZOFFSETFROM:+0100
TZOFFSETTO:+0200
TZNAME:CEST
DTSTART:20240331T010000
END:DAYLIGHT
BEGIN:STANDARD
TZOFFSETFROM:+0200
TZOFFSETTO:+0100
TZNAME:CET
DTSTART:20241027T010000
END:STANDARD
END:VTIMEZONE
BEGIN:VEVENT
DTSTART;TZID=Europe/Paris:20230401T190000
DTEND;TZID=Europe/Paris:20230401T190000
DTSTAMP:20260421T195524
CREATED:20230307T054117Z
LAST-MODIFIED:20230329T153115Z
UID:1878-1680375600-1680375600@jazzbah.es
SUMMARY:Vivos para cantarlo (Tribut a Fito & Fitipaldis)
DESCRIPTION:Vivos para cantarlo és un tribut al ja mític Fito Cabrales i al seu grup. El grup menorquí pretén emular el famós primer àlbum en directe de la formació. \nMés de dues hores de música del repertori de l’àlbum en directe “Vivo… para contarlo”. També sonaran els grans èxits de la formació. \nEntrada anticipada 10 € / Taquilla 12€
URL:https://jazzbah.es/event/vivos-para-cantarlo-tribut-a-fito-fitipaldis-2/
CATEGORIES:2023,Concerts,Destacats,Jazzbah,P-tardeo
ATTACH;FMTTYPE=image/jpeg:https://jazzbah.es/wp-content/uploads/2023/03/sold-out.jpeg
END:VEVENT
BEGIN:VEVENT
DTSTART;TZID=Europe/Paris:20230406T233000
DTEND;TZID=Europe/Paris:20230406T234500
DTSTAMP:20260421T195524
CREATED:20230327T180652Z
LAST-MODIFIED:20230327T180823Z
UID:1900-1680823800-1680824700@jazzbah.es
SUMMARY:Drastic Grooves
DESCRIPTION:Nuestro más joven residente\, Bojak\, presenta Drastic Grooves. Un evento de música electrónica de carácter poderoso que llega al club por primera vez. En esta edición le acompañan Yasmine\, Trance Mafia\, VIC069 y BEEKTHOR.\nPreparados para disfrutar de una noche única a ritmo del sonido hard-melancólico que todos estábamos esperando?\n\nEntrada Anticipada 8€ / Taquilla 10€
URL:https://jazzbah.es/event/drastic-grooves/
CATEGORIES:2023,Concerts,Destacats,Dj,Jazzbah
ATTACH;FMTTYPE=image/jpeg:https://jazzbah.es/wp-content/uploads/2023/03/Slide-Jazzbah-4.jpg
END:VEVENT
BEGIN:VEVENT
DTSTART;TZID=Europe/Paris:20230407T000000
DTEND;TZID=Europe/Paris:20230408T053000
DTSTAMP:20260421T195524
CREATED:20230318T070050Z
LAST-MODIFIED:20230318T070050Z
UID:1890-1680825600-1680931800@jazzbah.es
SUMMARY:Ley Dj
DESCRIPTION:LEY DJ >> Obertura i tancament / Resident artist BOJAK << \nLey DJ és un referent dins de la música indie i electrònica a escala nacional. Ha obert shows per a bandes com Bruno Mars\, Coldplay o U2. Una sessió enèrgica que basteix ponts entre l’indie i l’electrònica i que posarà a ballar a tothom fins a l’extenuació. \nLey DJ és una de les poquíssimes a actuar a l’escenari principal del FIB i en altres festivals com Mallorca Live\, Dcode\, Arenal Sound\, Low Festival\, Sonorama\, WARM\, Eivissa Rocks o San San\, freqüents escapades a clubs indies forans com l’Scala londinenc. \nDurant els seus anys de carrera ha compartit cabina amb artistes com Boys Noize\, 2Manydj’s\, Digitalism\, Alex Metric\, Boston Bun o Roger Sanchez entre d’altres\, i ha obert shows per a bandes com Bruno Mars\, Coldplay\, Delasoul\, Bastille\, Amaral o U2 a recintes tan emblemàtics com el Palau Sant Jordi o l’Estadi Olímpic de Barcelona. \nEntrada lliure
URL:https://jazzbah.es/event/ley-dj-2/
CATEGORIES:2023,Concerts,Destacats,Dj,Jazzbah
ATTACH;FMTTYPE=image/jpeg:https://jazzbah.es/wp-content/uploads/2023/03/Slide-Jazzbah-2.jpg
END:VEVENT
BEGIN:VEVENT
DTSTART;TZID=Europe/Paris:20230408T000000
DTEND;TZID=Europe/Paris:20230408T053000
DTSTAMP:20260421T195524
CREATED:20230406T164238Z
LAST-MODIFIED:20230406T164238Z
UID:1908-1680912000-1680931800@jazzbah.es
SUMMARY:Easter Mambow
DESCRIPTION:we back!!\nNatx & Newjoss \n\nSi! estamos de vuelta\, con muchas ganas de poner la sala jazzbah del revés\n\n\nA partir de las 00:00h\nFree entrance
URL:https://jazzbah.es/event/easter-mambow/
CATEGORIES:2023,Concerts,Destacats,Dj,Jazzbah,Party
ATTACH;FMTTYPE=image/jpeg:https://jazzbah.es/wp-content/uploads/2023/04/Slide-Jazzbah.jpg
END:VEVENT
BEGIN:VEVENT
DTSTART;TZID=Europe/Paris:20230408T190000
DTEND;TZID=Europe/Paris:20230408T190000
DTSTAMP:20260421T195524
CREATED:20230322T071523Z
LAST-MODIFIED:20230322T071555Z
UID:1893-1680980400-1680980400@jazzbah.es
SUMMARY:La Movida Band (Festa Tribut a la movida Madrileña)
DESCRIPTION:La Movida Band és sinònim de diversió! \nLa banda mallorquina neix el 2015 amb l’objectiu de tornar a recrear els èxits que van marcar l’edat daurada del Pop Espanyol: La movida madrilenya. Ells no es limiten a realitzar versions\, sinó que realitzen un autèntic tribut\, respectant fidelment les cançons originals\, destacant els canvis de registres amb el camaleònic Joan Bagur a la veu. La resta de la formació la componen Matías Tortella i Víctor Vidal a la guitarra\, David Trillo al baix i Leo Villar a la bateria. Una formació que ha anat creixent des del primer dia i que segueix regalant viatges en el temps a través dels concerts! \nDues hores i mitja de concert amb un repàs dels grans èxits de Los Secretos\, El Último de la Fila\, La Unión\, Mecano\, M Clan\, Duncan Dhu\, Los Ronaldos\, Miguel Ríos\, Alaska\, Hombres G\, Loquillo\, Radio Futura\, Tequila\, Ramoncín\, entre d’altres… \nEntrada anticipada 12€ / Taquilla 15€
URL:https://jazzbah.es/event/la-movida-band-festa-tribut-a-la-movida-madrilena/
CATEGORIES:2023,Concerts,Destacats,Jazzbah,P-tardeo
ATTACH;FMTTYPE=image/jpeg:https://jazzbah.es/wp-content/uploads/2018/06/FOTO-OFICIAL-LMB-copia.jpg
END:VEVENT
BEGIN:VEVENT
DTSTART;TZID=Europe/Paris:20230428T230000
DTEND;TZID=Europe/Paris:20230428T230000
DTSTAMP:20260421T195524
CREATED:20230310T143324Z
LAST-MODIFIED:20230310T232211Z
UID:1880-1682722800-1682722800@jazzbah.es
SUMMARY:Festival de Música Urbana "BAJO MUNDO"
DESCRIPTION:Un evento underground que seguro no os dejará indiferentes. \nAndalucía\, Canarias y Baleares se reúnen en un evento underground en Jazzbah. Varios artistas van a compartir una parte de su corazón con todos nosotros\, viviendo la fiesta y creando un ambiente muy cercano con el público. Rap\, trap\, dancehall\, drill\, tecno y un poco de reaggeton. ¡Un show que sin duda no vas a querer perderte! \nArtistas: \nDESAM (subgénero: detroit\, dancehall\, house) y rap)\nDRE$$ (Rap y trap)\nTR MAKER (Trap (subgénero: dancehall) y rap)\nFIORELLI (subgénero: detroit\, dancehall)\nRICO AKA FANVI (Trap / subgénero: drill\, electrónico\, dancehall)\, rap y reaggeton\nSUFO CORVUS CORAX (Rap)\nSADYMASAKRE (Rap)\nWE$ (Rap y trap)\nNGUA (Trap / subgénero: dancehall) y reaggeton melancólico\nBONFI (DJ\, productor musical) \nAndalusia\, Canàries i Balears es reuneixen en un esdeveniment underground a Jazzbah. Diferents artistes compartiran un bocí del seu cor amb tots nosaltres\, vivint sa festa i creant un ambient molt proper amb el públic. Rap\, trap\, dancehall\, drill i un poc de reaggeton. Un show que segur no et voldràs perdre! \nEntrada anticipada 15€ / Taquilla 20€
URL:https://jazzbah.es/event/festival-de-musica-urbana-bajo-mundo/
CATEGORIES:2023,Concerts,Destacats,Dj,Jazzbah
ATTACH;FMTTYPE=image/jpeg:https://jazzbah.es/wp-content/uploads/2023/03/Slide-Jazzbah.jpg
END:VEVENT
BEGIN:VEVENT
DTSTART;TZID=Europe/Paris:20230429T200000
DTEND;TZID=Europe/Paris:20230429T200000
DTSTAMP:20260421T195524
CREATED:20230418T142234Z
LAST-MODIFIED:20230418T142325Z
UID:1921-1682798400-1682798400@jazzbah.es
SUMMARY:Hummus (Rock progressiu 70's)
DESCRIPTION:HUMMUS és un grup de música especialitzat en el hard rock i rock progressiu dels anys 70. \nLa banda ciutadellenca realitza un extens repertori de covers de grans grups com Deep Purple\, The Beatles\, Jimi Hendrix\, Taste\, Jethro Tull\, Camel\, King Crimson\, Genesis\, etc… \nUn show que et transportarà al rock progressiu i psicodèlic dels anys 70’s\, HUMMUS donen el seu toc personal als covers que realitzen\, aportant arranjaments propis. La premisa de la banda és oferir una selecció de covers que no s’hagin interpretat mai a Menorca\, causant sorpresa entre el públic amant de la música setentera. \nHUMMUS està integrat per: \nSergi Cleofé (cantant)\, Borja Moll (flauta travessera\, teclats i coros)\, Pedro Gelabert (baix elèctric i coros)\, Pere Gelabert (bateria)\, Damià Gelabert (teclats)\, Pacífic Camps (guitarra i coros). \nEntrada Lliure 
URL:https://jazzbah.es/event/hummus-rock-progressiu-70s/
CATEGORIES:2023,Concerts,Destacats,Jazzbah,P-tardeo
ATTACH;FMTTYPE=image/jpeg:https://jazzbah.es/wp-content/uploads/2023/04/Slide-Jazzbah-3.jpg
END:VEVENT
END:VCALENDAR