BEGIN:VCALENDAR
VERSION:2.0
PRODID:-//Jazzbah (Port de Ciutadella) - ECPv6.15.20//NONSGML v1.0//EN
CALSCALE:GREGORIAN
METHOD:PUBLISH
X-ORIGINAL-URL:https://jazzbah.es
X-WR-CALDESC:Esdeveniments per Jazzbah (Port de Ciutadella)
REFRESH-INTERVAL;VALUE=DURATION:PT1H
X-Robots-Tag:noindex
X-PUBLISHED-TTL:PT1H
BEGIN:VTIMEZONE
TZID:Europe/Paris
BEGIN:DAYLIGHT
TZOFFSETFROM:+0100
TZOFFSETTO:+0200
TZNAME:CEST
DTSTART:20220327T010000
END:DAYLIGHT
BEGIN:STANDARD
TZOFFSETFROM:+0200
TZOFFSETTO:+0100
TZNAME:CET
DTSTART:20221030T010000
END:STANDARD
BEGIN:DAYLIGHT
TZOFFSETFROM:+0100
TZOFFSETTO:+0200
TZNAME:CEST
DTSTART:20230326T010000
END:DAYLIGHT
BEGIN:STANDARD
TZOFFSETFROM:+0200
TZOFFSETTO:+0100
TZNAME:CET
DTSTART:20231029T010000
END:STANDARD
BEGIN:DAYLIGHT
TZOFFSETFROM:+0100
TZOFFSETTO:+0200
TZNAME:CEST
DTSTART:20240331T010000
END:DAYLIGHT
BEGIN:STANDARD
TZOFFSETFROM:+0200
TZOFFSETTO:+0100
TZNAME:CET
DTSTART:20241027T010000
END:STANDARD
END:VTIMEZONE
BEGIN:VEVENT
DTSTART;TZID=Europe/Paris:20230304T190000
DTEND;TZID=Europe/Paris:20230304T190000
DTSTAMP:20260421T214901
CREATED:20230127T163549Z
LAST-MODIFIED:20230223T175416Z
UID:1822-1677956400-1677956400@jazzbah.es
SUMMARY:The Buzz Lovers “The best tribute to Nirvana”
DESCRIPTION:El próximo 4 de marzo aterriza en Menorca el WORLD TOUR 2023 de THE BUZZ LOVERS\, la mejor y más aclamada banda tributo a NIRVANA del mundo\, para ofrecer un concierto exclusivo en la sala Jazzbah de Ciutadella de Menorca. \nDespués de un intenso tour por toda Europa\, que los ha llevado a visitar las principales ciudades de países como España\, Portugal\, Francia\, Noruega\, Holanda\, entre otros… agotando todas las entradas en la mayoría de sus conciertos\, “The Buzz Lovers” ofrecerá sus dos últimos conciertos en Baleares\, antes de poner rumbo a Latinoamérica\, para posteriormente visitar los continentes de Asia y África. \nSin duda una oportunidad de oro para sumergirse\, revivir y/o conocer por primera vez la esencia de la mejor y más transgresora banda de grunge y rock de la historia. \n…………………………………………………………………………………………………………………………………………… \nEl proper 4 de març aterra a Menorca el WORLD TOUR 2023 de THE BUZZ LOVERS\, la millor i més aclamada banda tribut a NIRVANA del món\, per oferir un concert exclusiu a la sala Jazzbah de Ciutadella de Menorca. \nDesprés d’un intens tour per tot Europa\, que els ha portat a visitar les principals ciutats de països com Espanya\, Portugal\, França\, Noruega\, Holanda\, entre d’altres… esgotant totes les entrades a la majoria dels seus concerts\, “The Buzz Lovers” oferirà els seus dos darrers concerts a Balears\, abans de posar rumb a Llatinoamèrica\, per visitar posteriorment els continents d’Àsia i Àfrica. \nSens dubte\, una oportunitat d’or per submergir-se\, reviure i/o conèixer per primera vegada l’essència de la millor i més transgressora banda de grunge i rock de la història. 
URL:https://jazzbah.es/event/the-buzz-lovers-the-best-tribute-to-nirvana/
CATEGORIES:2023,Concerts,Destacats,Jazzbah,P-tardeo
ATTACH;FMTTYPE=image/jpeg:https://jazzbah.es/wp-content/uploads/2023/01/WhatsApp-Image-2023-02-23-at-18.52.03.jpeg
END:VEVENT
BEGIN:VEVENT
DTSTART;TZID=Europe/Paris:20230310T000000
DTEND;TZID=Europe/Paris:20230310T053000
DTSTAMP:20260421T214901
CREATED:20230226T025733Z
LAST-MODIFIED:20230307T150622Z
UID:1867-1678406400-1678426200@jazzbah.es
SUMMARY:Dance Forever with EBER & GODIE
DESCRIPTION:El día 10 de marzo llega al Jazzbah DANCE FOREVER\, una noche de emociones fuertes donde sonarán los temas más míticos de la escena Dance\, House\, Disco y Electrónica de todos los tiempos\, seleccionados por Eber y Godie. \nEntrada libre
URL:https://jazzbah.es/event/dance-forever/
CATEGORIES:2023,Concerts,Destacats,Dj,Jazzbah,Party
ATTACH;FMTTYPE=image/jpeg:https://jazzbah.es/wp-content/uploads/2023/02/Slide-Jazzbah-3.jpg
END:VEVENT
BEGIN:VEVENT
DTSTART;TZID=Europe/Paris:20230311T190000
DTEND;TZID=Europe/Paris:20230311T190000
DTSTAMP:20260421T214901
CREATED:20230131T151749Z
LAST-MODIFIED:20230223T053542Z
UID:1828-1678561200-1678561200@jazzbah.es
SUMMARY:Disccovers
DESCRIPTION:Jazzbah presenta per primera vegada a Menorca a DISCCOVERS  \nUna de les bandes més aclamades i reconegudes del panorama musical mallorquí i habitual als esdeveniments més internacionals celebrats a l’illa. \nUn espectacle\, un directe i una originalitat fora del comú. Amb un ample ventall d’autèntics hits dels 90’s fins avui\, Disccovers ret homenatge als millors clàssics del disc\, el funk\, el dance o el pop. \nUna banda que en pocs anys ha esdevingut imprescindible per als principals festivals\, concerts i esdeveniments més exclusius de Mallorca. \nCançons de grans dives com Dua Lipa\, Rihanna\, Lady Gaga\, Christina Aguilera entre d’altres o inconfusibles artistes com Michael Jackson\, Avicii\, David Guetta\, Bruno Mars… formen part d’un repertori escollit i elaborat per gaudir d’una nova experiència. \nNo us els perdeu que xalareu fort! \n…………………………………………………………………………………………………………………………………………… \nJazzbah presenta por primera vez en Menorca a DISCCOVERS. \nUna de las bandas más aclamadas y reconocidas del panorama musical mallorquín y habitual en los eventos más internacionales celebrados en la isla. \nUn espectáculo\, un directo y una originalidad fuera de lo común. Con un ancho abanico de auténticos hits de los 90’s hasta hoy\, Disccovers rinde homenaje a los mejores clásicos del disco\, el funk\, el dance o el pop. \nUna banda que en pocos años se ha convertido en imprescindible para los principales festivales\, conciertos y eventos más exclusivos de Mallorca. \nCanciones de grandes divas como Dua Lipa\, Rihanna\, Lady Gaga\, Christina Aguilera entre otras o inconfundibles artistas como Michael Jackson\, Avicii\, David Guetta\, Bruno Mars…forman parte de un repertorio elegido y elaborado para disfrutar de una nueva experiencia. \n¡No te lo pierdas!
URL:https://jazzbah.es/event/disccovers/
CATEGORIES:2023,Concerts,Destacats,Jazzbah,P-tardeo
ATTACH;FMTTYPE=image/jpeg:https://jazzbah.es/wp-content/uploads/2023/01/Slide-Jazzbah-3.jpg
END:VEVENT
BEGIN:VEVENT
DTSTART;TZID=Europe/Paris:20230318T190000
DTEND;TZID=Europe/Paris:20230318T190000
DTSTAMP:20260421T214901
CREATED:20230224T063230Z
LAST-MODIFIED:20230226T090130Z
UID:1851-1679166000-1679166000@jazzbah.es
SUMMARY:La Hoguera (Tribut a Extremoduro)
DESCRIPTION:Potente y fiel interpretación con descaro y sentimiento de los éxitos cosechados durante décadas por la banda más influyente del panorama musical nacional como es Extremoduro. \nLa Hoguera se formó en Felanitx (Mallorca) en el año 2009 con la más sincera admiración y reconocimiento al grupo liderado por Roberto Iniesta\, pero\, sobre todo en agradecimiento por ser la banda sonora de nuestras vidas\, desde la adolescencia hasta el día de hoy. \nCon excelente directo\, sonido leal al original y una voz que llega a emocionar a los seguidores de la banda placentina. \nLa Hoguera no dejará a nadie indiferente. \nEntrada anticipada 15€ | Taquilla 18€
URL:https://jazzbah.es/event/la-hoguera-tribut-a-extremuduro/
CATEGORIES:2023,Concerts,Destacats,Jazzbah,P-tardeo
ATTACH;FMTTYPE=image/jpeg:https://jazzbah.es/wp-content/uploads/2019/12/Slide-la-hoguera.jpg
END:VEVENT
BEGIN:VEVENT
DTSTART;TZID=Europe/Paris:20230325T190000
DTEND;TZID=Europe/Paris:20230325T190000
DTSTAMP:20260421T214901
CREATED:20230224T065532Z
LAST-MODIFIED:20230306T155419Z
UID:1864-1679770800-1679770800@jazzbah.es
SUMMARY:Coverland
DESCRIPTION:Us presentem a COVERLAND\, un quartet elèctric que us prometem us sorprendrà amb les seves versions! Recentment aterrats dintre del panorama musical menorquí\, han irromput amb força i energia. \nCOVERLAND no només versionen \, si no més bé re-versionen hits. Inspirats en grups com Scary Pockets o Pomplamoose\, desprenen creativitat i imprimeixen un caràcter innovador per acabar esculpint versions fresques\, originals i sorprenents amb un toc molt personal. \nCOVERLAND es fonamenta sobre una base rítmica enèrgica que us farà ballar sense parar des de la primera a la darrera nota. La veu de Dani Juanico\, dona caràcter als seus temes. Pinzellades de disco\, funk\, soul\, latin… El seu repertori és de lo més pintoresc i divertit. \nPodreu escoltar cançons des de grans clàssics nacionals com Camilo Sexto\, Mecano\, Alaska\,… o bé d’internacionals com Rick Astley\, Police\, Coldplay\,… així com d’altres ben actuals com: Chanel\, Rosalía\, Justin Bieber\, Lady Gaga\,… i una llarga llista més. \nUs convidem a descobrir i gaudir de COVERLAND i la seva original proposta. Diversió assegurada!  \nEntrada lliure.
URL:https://jazzbah.es/event/coverland/
CATEGORIES:2023,Concerts,Destacats,Jazzbah,P-tardeo
ATTACH;FMTTYPE=image/jpeg:https://jazzbah.es/wp-content/uploads/2023/02/Slide-Jazzbah-2.jpg
END:VEVENT
END:VCALENDAR