BEGIN:VCALENDAR
VERSION:2.0
PRODID:-//Jazzbah (Port de Ciutadella) - ECPv6.15.20//NONSGML v1.0//EN
CALSCALE:GREGORIAN
METHOD:PUBLISH
X-ORIGINAL-URL:https://jazzbah.es
X-WR-CALDESC:Esdeveniments per Jazzbah (Port de Ciutadella)
REFRESH-INTERVAL;VALUE=DURATION:PT1H
X-Robots-Tag:noindex
X-PUBLISHED-TTL:PT1H
BEGIN:VTIMEZONE
TZID:Europe/Paris
BEGIN:DAYLIGHT
TZOFFSETFROM:+0100
TZOFFSETTO:+0200
TZNAME:CEST
DTSTART:20220327T010000
END:DAYLIGHT
BEGIN:STANDARD
TZOFFSETFROM:+0200
TZOFFSETTO:+0100
TZNAME:CET
DTSTART:20221030T010000
END:STANDARD
BEGIN:DAYLIGHT
TZOFFSETFROM:+0100
TZOFFSETTO:+0200
TZNAME:CEST
DTSTART:20230326T010000
END:DAYLIGHT
BEGIN:STANDARD
TZOFFSETFROM:+0200
TZOFFSETTO:+0100
TZNAME:CET
DTSTART:20231029T010000
END:STANDARD
BEGIN:DAYLIGHT
TZOFFSETFROM:+0100
TZOFFSETTO:+0200
TZNAME:CEST
DTSTART:20240331T010000
END:DAYLIGHT
BEGIN:STANDARD
TZOFFSETFROM:+0200
TZOFFSETTO:+0100
TZNAME:CET
DTSTART:20241027T010000
END:STANDARD
END:VTIMEZONE
BEGIN:VEVENT
DTSTART;TZID=Europe/Paris:20230101T010000
DTEND;TZID=Europe/Paris:20230101T063000
DTSTAMP:20260422T015714
CREATED:20221227T153930Z
LAST-MODIFIED:20221227T185408Z
UID:1797-1672534800-1672554600@jazzbah.es
SUMMARY:Festa Cap d'Any
DESCRIPTION:Entrada + copa 20€ (a taquilla)\n\nNo et mengis més el cap! Per Cap d’Any vine a #Jazzbah i dona la benvinguda al 2023 amb una festa de dalt de tot. Us esperam! \nLine up: \n>>Sala\n@realbojak\n@ricardtriay \n>> Terrassa\n@carlosgazquezmusic\n@angel_plens
URL:https://jazzbah.es/event/festa-de-cap-dany/
CATEGORIES:2023,Concerts,Destacats,Dj,Jazzbah
ATTACH;FMTTYPE=image/jpeg:https://jazzbah.es/wp-content/uploads/2022/12/Slide-cap-dany.jpg
END:VEVENT
BEGIN:VEVENT
DTSTART;TZID=Europe/Paris:20230114T190000
DTEND;TZID=Europe/Paris:20230114T190000
DTSTAMP:20260422T015714
CREATED:20221225T091408Z
LAST-MODIFIED:20221225T091739Z
UID:1793-1673722800-1673722800@jazzbah.es
SUMMARY:Shanti & Friends
DESCRIPTION:Grup liderat per el cantant i teclista de Ciutadella\, Shanti. Acompanyat per 3 musics reconeguts com son en David Marquès a la bateria\, Tony Olmedo al baix i Simo Bosch a la guitarra. El quartet repassa cançons que han sonat a les nostres vides i ho fa amb fidelitat i respecte. Cançons que son conegudes per tothom. Un concert que no us podeu perdre si el que voleu és cantar i passar-vos-ho be!
URL:https://jazzbah.es/event/shanti-friends/
CATEGORIES:2023,Concerts,Destacats,Jazzbah,P-tardeo
ATTACH;FMTTYPE=image/jpeg:https://jazzbah.es/wp-content/uploads/2022/12/Slide-Jazzbah-1.jpg
END:VEVENT
BEGIN:VEVENT
DTSTART;TZID=Europe/Paris:20230121T190000
DTEND;TZID=Europe/Paris:20230121T190000
DTSTAMP:20260422T015714
CREATED:20221227T190406Z
LAST-MODIFIED:20221227T190854Z
UID:1807-1674327600-1674327600@jazzbah.es
SUMMARY:A Tu Lado (Tribut Los Secretos)
DESCRIPTION:A TU LADO (Tributo a Los Secretos) es un grupo mallorquín con grandes músicos homenaje a Enrique Urquijo y Los Secretos. \nSus directos se caracterizan por una gran fidelidad en el sonido y puesta en escena. \n¡Un show espectacular de 2 horas! \nCanciones tan emblemáticas como “Déjame”\, “Sobre un vidrio mojado”\, “Pero a tu lado”\, etc. harán deleitar a los seguidores de Los Secretos en particular y a todo aquel que le guste la buena música.
URL:https://jazzbah.es/event/a-tu-lado-tribut-los-secretos/
CATEGORIES:2023,Concerts,Destacats,Jazzbah,P-tardeo
ATTACH;FMTTYPE=image/jpeg:https://jazzbah.es/wp-content/uploads/2022/12/Slide-Jazzbah-3.jpg
END:VEVENT
BEGIN:VEVENT
DTSTART;TZID=Europe/Paris:20230128T190000
DTEND;TZID=Europe/Paris:20230128T190000
DTSTAMP:20260422T015714
CREATED:20221227T154718Z
LAST-MODIFIED:20221227T154913Z
UID:1801-1674932400-1674932400@jazzbah.es
SUMMARY:Dile Al Sol (Tribut a La Oreja de Van Gogh)
DESCRIPTION:DILE AL SOL nació en 2018 en Palma de Mallorca para recordar esa época pletórica del Pop español con LA OREJA DE VAN GOGH. \nA partir de ahí\, su historia la escriben cada vez que se suben a un escenario y hacen recordar a la gente esa época tan especial\, transportándose a los años 90 de golpe. \nDILE AL SOL nos ofrece un repaso a los grandes éxitos de LA OREJA DE VAN GOGH de la época dónde Amaya Montero lideraba la banda. Un homenaje al grupo donostiarra que marcó a toda una generación con sus grandes éxitos y que te hará disfrutar desde la primera hasta la última nota.
URL:https://jazzbah.es/event/dile-al-sol-tribut-a-la-oreja-de-van-gogh-2/
CATEGORIES:2023,Concerts,Destacats,Jazzbah,P-tardeo
ATTACH;FMTTYPE=image/jpeg:https://jazzbah.es/wp-content/uploads/2022/12/Slide-Jazzbah-2.jpg
END:VEVENT
END:VCALENDAR