BEGIN:VCALENDAR
VERSION:2.0
PRODID:-//Jazzbah (Port de Ciutadella) - ECPv6.15.20//NONSGML v1.0//EN
CALSCALE:GREGORIAN
METHOD:PUBLISH
X-WR-CALNAME:Jazzbah (Port de Ciutadella)
X-ORIGINAL-URL:https://jazzbah.es
X-WR-CALDESC:Esdeveniments per Jazzbah (Port de Ciutadella)
REFRESH-INTERVAL;VALUE=DURATION:PT1H
X-Robots-Tag:noindex
X-PUBLISHED-TTL:PT1H
BEGIN:VTIMEZONE
TZID:Europe/Paris
BEGIN:DAYLIGHT
TZOFFSETFROM:+0100
TZOFFSETTO:+0200
TZNAME:CEST
DTSTART:20210328T010000
END:DAYLIGHT
BEGIN:STANDARD
TZOFFSETFROM:+0200
TZOFFSETTO:+0100
TZNAME:CET
DTSTART:20211031T010000
END:STANDARD
BEGIN:DAYLIGHT
TZOFFSETFROM:+0100
TZOFFSETTO:+0200
TZNAME:CEST
DTSTART:20220327T010000
END:DAYLIGHT
BEGIN:STANDARD
TZOFFSETFROM:+0200
TZOFFSETTO:+0100
TZNAME:CET
DTSTART:20221030T010000
END:STANDARD
BEGIN:DAYLIGHT
TZOFFSETFROM:+0100
TZOFFSETTO:+0200
TZNAME:CEST
DTSTART:20230326T010000
END:DAYLIGHT
BEGIN:STANDARD
TZOFFSETFROM:+0200
TZOFFSETTO:+0100
TZNAME:CET
DTSTART:20231029T010000
END:STANDARD
BEGIN:DAYLIGHT
TZOFFSETFROM:+0100
TZOFFSETTO:+0200
TZNAME:CEST
DTSTART:20240331T010000
END:DAYLIGHT
BEGIN:STANDARD
TZOFFSETFROM:+0200
TZOFFSETTO:+0100
TZNAME:CET
DTSTART:20241027T010000
END:STANDARD
END:VTIMEZONE
BEGIN:VEVENT
DTSTART;TZID=Europe/Paris:20221203T200000
DTEND;TZID=Europe/Paris:20221203T200000
DTSTAMP:20260422T035528
CREATED:20221108T193746Z
LAST-MODIFIED:20221109T162737Z
UID:1755-1670097600-1670097600@jazzbah.es
SUMMARY:Ulisses Bar 10 anys
DESCRIPTION:Inici 20h.\nObertura portes 19h. \nUlisses Bar celebra els seus 10 anys. I volem celebrar-ho el 3 de desembre amb una festa en què combinarem dues de les coses que més ens agraden: música i gastronomia. \nComençarem amb l’actuació de Mikel Erentxun\, un imprescindible de sempre a la música espanyola. Tot seguit\, serà el torn dels menorquins Fandango All Stars amb els seus covers. Mentrestant\, podrem gaudir d’un sopar “pica-pica” elaborat per Ulisses\, amb el millor producte del mercat. Però no acabarem aquí. Volem celebrar aquests 10 anys tal com es mereixen\, així que seguirem amb una llarga sessió de DJ’s per tancar aquesta gran festa!
URL:https://jazzbah.es/event/ulisses-10-anys-festa-daniversari-amb-les-actuacions-de-mikel-erentxun-fandango-all-stars-djs-i-sopar-pica-pica/
CATEGORIES:2022,Concerts,Destacats,Dj,Jazzbah,Party
ATTACH;FMTTYPE=image/jpeg:https://jazzbah.es/wp-content/uploads/2022/11/Jazzbah_SlideHome_cat_OK.jpeg
END:VEVENT
BEGIN:VEVENT
DTSTART;TZID=Europe/Paris:20221210T190000
DTEND;TZID=Europe/Paris:20221210T190000
DTSTAMP:20260422T035528
CREATED:20221114T144312Z
LAST-MODIFIED:20221210T094203Z
UID:1766-1670698800-1670698800@jazzbah.es
SUMMARY:Héroes Tribut Band (Tribut a Héroes del Silencio)
DESCRIPTION:Héroes Tribut Band és una banda mallorquina que fa homenatge a una de les bandes de rock estatal més importants de tots els temps\, Héroes del Silencio. Héroes Tribut Band va ser formada el 2007 amb la intenció de portar als escenaris les emocions\, els sentiments i la força que trobem a les cançons de la famosa banda de rock Héroes del Silencio. \nFins ara\, Héroes Tribut Band compta amb extensa trajectòria de concerts per tot l’estat\, recollint molt bones crítiques i en la majoria dels seus shows penjant el cartell de “Sold Out”. \nActualment Heroes Tribut Band el componen Joan Bagur (veu)\, Matías Tortella (guitarra)\, David Trillo (baix)\, Víctor Manuel Vidal (guitarra) i Cristian Ibarra (bateria). \nFes-te amb la teva entrada anticipada\, ja que l’aforament és reduït!
URL:https://jazzbah.es/event/heroes-tribut-band-tribut-a-heroes-del-silencio-2/
CATEGORIES:2022,Concerts,Destacats,Jazzbah,P-tardeo
ATTACH;FMTTYPE=image/png:https://jazzbah.es/wp-content/uploads/2022/11/SOLD-OUT-HÉROES.png
END:VEVENT
BEGIN:VEVENT
DTSTART;TZID=Europe/Paris:20221216T230000
DTEND;TZID=Europe/Paris:20221216T230000
DTSTAMP:20260422T035528
CREATED:20221201T171158Z
LAST-MODIFIED:20221201T171158Z
UID:1782-1671231600-1671231600@jazzbah.es
SUMMARY:Boom 90's!
DESCRIPTION:Dj Byone\nEntrada Lliure\n\nLa música de los 90 está muy de moda últimamente y Jazzbah no podía mas que subirse a la ola y surfearla. Podrás escuchar desde Estopa a Daft Punk\, pasando por Bon Jovi o el dance que nos volvió locos en la tan nombrada “Ruta del Bakalao” con la nueva serie en TV. Podrás escuchar todos los hits habidos y por haber con todos los estilos musicales que mas pegaron\, en una de las grandes épocas doradas de la música donde se mezclaba el pasado con el futuro en un presente que nos dejó a todos unos himnos que podrás bailar y cantar en una noche que nos lo vamos a pasar como nunca.
URL:https://jazzbah.es/event/boom-90s-2/
CATEGORIES:2022,Concerts,Destacats,Dj,Jazzbah,Party
ATTACH;FMTTYPE=image/jpeg:https://jazzbah.es/wp-content/uploads/2022/12/Slide-Jazzbah.jpg
END:VEVENT
BEGIN:VEVENT
DTSTART;TZID=Europe/Paris:20221217T190000
DTEND;TZID=Europe/Paris:20221217T190000
DTSTAMP:20260422T035528
CREATED:20221114T144609Z
LAST-MODIFIED:20221209T151212Z
UID:1769-1671303600-1671303600@jazzbah.es
SUMMARY:Me Colé (Tribut a  Mecano)
DESCRIPTION:La banda mallorquina\, Me Colé “Tributo a Mecano” combina experiència\, entusiasme i sobretot\, passió pel que fos una de les bandes més importants de la història del pop espanyol. A càrrec de 5 músics amb àmplia trajectòria professional\, ofereix un espectacle homenatge que repassa els èxits de Mecano amb un show de gran qualitat i una cuidada escenificació. \nFes-te amb la teva entrada anticipada\, ja que l’aforament és reduït!
URL:https://jazzbah.es/event/me-cole-tribut-a-mecano/
CATEGORIES:2022,Concerts,Destacats,Jazzbah,P-tardeo
ATTACH;FMTTYPE=image/png:https://jazzbah.es/wp-content/uploads/2022/11/SOLD-OUT-ME-COLE.png
END:VEVENT
BEGIN:VEVENT
DTSTART;TZID=Europe/Paris:20221223T220000
DTEND;TZID=Europe/Paris:20221223T220000
DTSTAMP:20260422T035528
CREATED:20221121T164100Z
LAST-MODIFIED:20221121T164736Z
UID:1777-1671832800-1671832800@jazzbah.es
SUMMARY:PÈPIT! Festival de Músiques Urbanes de Menorca (SUC I SOPES\, DOS SIPIOTS\,  LEONMANSO i MALÁNIMA)
DESCRIPTION:Obertura de portes 21h \nArriba la 1a edició de PÈPIT! Festival de Músiques Urbanes de Menorca  \nUna trobada de música jove menorquina\, on noves bandes\, artistes emergents i en plena efervescència ens confirmaran que ja són una realitat\, sense deixar de banda els artistes consolidats. Vols escoltar les seves propostes? Idò les trobaràs al PÈPIT! Festival de Músiques Urbanes de Menorca. \nAmb: \nSUC I SOPES\nDOS SIPIOTS\nLEONMANSO\nMALÁNIMA \nPrimeres 30 entrades a 5€!!!
URL:https://jazzbah.es/event/pepit-festival-de-musiques-urbanes-de-menorca-suc-i-sopes-dos-sipiots-leonmanso-i-malanima/
CATEGORIES:2022,Concerts,Destacats,Jazzbah
ATTACH;FMTTYPE=image/jpeg:https://jazzbah.es/wp-content/uploads/2022/11/Slide-Pèpit-1.jpg
END:VEVENT
BEGIN:VEVENT
DTSTART;TZID=Europe/Paris:20221224T233000
DTEND;TZID=Europe/Paris:20221224T233000
DTSTAMP:20260422T035528
CREATED:20221209T152140Z
LAST-MODIFIED:20221209T152140Z
UID:1789-1671924600-1671924600@jazzbah.es
SUMMARY:MAMBOW Christmas Party
DESCRIPTION:Sábado 24 diciembre. A partir de las 00h\nEntrada a taquilla (incluye consumición)\n\n¡Especial Navidad by Mambow! No te pierdas la Nochebuena más salvaje junto con los mejores hits de siempre. Música rock\, electrónica pop\, indie…\n\n>>Line Up:\nNewjoss (@newjossh)\nNatx (@natxomoll)
URL:https://jazzbah.es/event/mambow-christmas-party/
CATEGORIES:2022,Concerts,Destacats,Dj,Jazzbah,Party
ATTACH;FMTTYPE=image/jpeg:https://jazzbah.es/wp-content/uploads/2022/12/MAMBOW-Christmas-Party-Slide.jpg
END:VEVENT
BEGIN:VEVENT
DTSTART;TZID=Europe/Paris:20221228T230000
DTEND;TZID=Europe/Paris:20221228T230000
DTSTAMP:20260422T035528
CREATED:20221209T151831Z
LAST-MODIFIED:20221209T151831Z
UID:1786-1672268400-1672268400@jazzbah.es
SUMMARY:ANTI FIN DE AÑO
DESCRIPTION:Costa Oeste vs Costa Este\nMiércoles 28 de diciembre. A partir de las 23:00h\nEntrada Libre \n¿Eres de los que no te gusta salir en fin de año? Ha llegado tu fiesta. Una selección de dj’s de un lado y de otro de la isla en formato dúos y poniendo sus mejores temas para que hagan de una noche random el festival con el que acabar “de dalt de tot” el año que volvimos a ser libres. \nWarm-Up\nBUBBA b2b JESUS CASTELL \n>>Line Up:\nNOLOÖP b2b GODIE\nBOJAK b2b EBER\nBYONE b2b BIG RAN
URL:https://jazzbah.es/event/anti-fin-de-ano/
CATEGORIES:2022,Concerts,Destacats,Dj,Jazzbah,Party
ATTACH;FMTTYPE=image/jpeg:https://jazzbah.es/wp-content/uploads/2022/12/Slide-ANTI-FIN-DE-ANYO.jpg
END:VEVENT
BEGIN:VEVENT
DTSTART;TZID=Europe/Paris:20230101T010000
DTEND;TZID=Europe/Paris:20230101T063000
DTSTAMP:20260422T035528
CREATED:20221227T153930Z
LAST-MODIFIED:20221227T185408Z
UID:1797-1672534800-1672554600@jazzbah.es
SUMMARY:Festa Cap d'Any
DESCRIPTION:Entrada + copa 20€ (a taquilla)\n\nNo et mengis més el cap! Per Cap d’Any vine a #Jazzbah i dona la benvinguda al 2023 amb una festa de dalt de tot. Us esperam! \nLine up: \n>>Sala\n@realbojak\n@ricardtriay \n>> Terrassa\n@carlosgazquezmusic\n@angel_plens
URL:https://jazzbah.es/event/festa-de-cap-dany/
CATEGORIES:2023,Concerts,Destacats,Dj,Jazzbah
ATTACH;FMTTYPE=image/jpeg:https://jazzbah.es/wp-content/uploads/2022/12/Slide-cap-dany.jpg
END:VEVENT
END:VCALENDAR