BEGIN:VCALENDAR
VERSION:2.0
PRODID:-//Jazzbah (Port de Ciutadella) - ECPv6.15.20//NONSGML v1.0//EN
CALSCALE:GREGORIAN
METHOD:PUBLISH
X-WR-CALNAME:Jazzbah (Port de Ciutadella)
X-ORIGINAL-URL:https://jazzbah.es
X-WR-CALDESC:Esdeveniments per Jazzbah (Port de Ciutadella)
REFRESH-INTERVAL;VALUE=DURATION:PT1H
X-Robots-Tag:noindex
X-PUBLISHED-TTL:PT1H
BEGIN:VTIMEZONE
TZID:Europe/Paris
BEGIN:DAYLIGHT
TZOFFSETFROM:+0100
TZOFFSETTO:+0200
TZNAME:CEST
DTSTART:20210328T010000
END:DAYLIGHT
BEGIN:STANDARD
TZOFFSETFROM:+0200
TZOFFSETTO:+0100
TZNAME:CET
DTSTART:20211031T010000
END:STANDARD
BEGIN:DAYLIGHT
TZOFFSETFROM:+0100
TZOFFSETTO:+0200
TZNAME:CEST
DTSTART:20220327T010000
END:DAYLIGHT
BEGIN:STANDARD
TZOFFSETFROM:+0200
TZOFFSETTO:+0100
TZNAME:CET
DTSTART:20221030T010000
END:STANDARD
BEGIN:DAYLIGHT
TZOFFSETFROM:+0100
TZOFFSETTO:+0200
TZNAME:CEST
DTSTART:20230326T010000
END:DAYLIGHT
BEGIN:STANDARD
TZOFFSETFROM:+0200
TZOFFSETTO:+0100
TZNAME:CET
DTSTART:20231029T010000
END:STANDARD
END:VTIMEZONE
BEGIN:VEVENT
DTSTART;TZID=Europe/Paris:20221105T190000
DTEND;TZID=Europe/Paris:20221105T190000
DTSTAMP:20260422T054703
CREATED:20221002T062031Z
LAST-MODIFIED:20221005T151123Z
UID:1735-1667674800-1667674800@jazzbah.es
SUMMARY:La Movida Band
DESCRIPTION:La Movida és sinònim de diversió! \nLa banda mallorquina neix el 2015 amb l’objectiu de tornar a recrear els èxits que van marcar l’edat daurada del Pop Espanyol: La movida madrilenya. Ells no es limiten a realitzar versions\, sinó que realitzen un autèntic tribut\, respectant fidelment les cançons originals\, destacant els canvis de registres amb el camaleònic Joan Bagur a la veu. La resta de la formació la componen Matías Tortella i Víctor Vidal a la guitarra\, David Trillo al baix i Leo Villar a la bateria. Una formació que ha anat creixent des del primer dia i que segueix regalant viatges en el temps a través dels concerts! \nDues hores i mitja de concert amb un repàs dels grans èxits de Los Secretos\, El Último de la Fila\, La Unión\, Mecano\, M Clan\, Duncan Dhu\, Los Ronaldos\, Miguel Ríos\, Alaska\, Hombres G\, Loquillo\, Radio Futura\, Tequila\, Ramoncín\, entre d’altres…
URL:https://jazzbah.es/event/la-movida-band-4/
CATEGORIES:2022,Concerts,Destacats,Jazzbah,P-tardeo
ATTACH;FMTTYPE=image/jpeg:https://jazzbah.es/wp-content/uploads/2022/05/Slide-LA-Movida.jpg
END:VEVENT
BEGIN:VEVENT
DTSTART;TZID=Europe/Paris:20221112T190000
DTEND;TZID=Europe/Paris:20221112T190000
DTSTAMP:20260422T054703
CREATED:20221002T070835Z
LAST-MODIFIED:20221108T192947Z
UID:1738-1668279600-1668279600@jazzbah.es
SUMMARY:Estados de Ánimo (El millor tribut a El Canto del Loco)
DESCRIPTION:“Estados de Ánimo”\, la banda tributo a El Canto del Loco\, liderada por Juanpe\, ha estado girando por todo el territorio nacional\, llenando las salas más importantes del País.  \nLa banda Mallorquina con su fiel y cuidada puesta en escena\, se ha ganado la reconocida admiración del líder de El Canto del Loco (Dani Martín) como la mejor banda Tributo a El Canto del loco de toda España. \nSin duda alguna\, una ocasión única para revivir todos los éxitos de El Canto del loco. 
URL:https://jazzbah.es/event/estados-de-animo-el-millor-tribut-a-el-canto-del-loco/
CATEGORIES:2022,Concerts,Destacats,Jazzbah,P-tardeo
ATTACH;FMTTYPE=image/jpeg:https://jazzbah.es/wp-content/uploads/2022/10/WhatsApp-Image-2022-11-08-at-18.37.47.jpeg
END:VEVENT
BEGIN:VEVENT
DTSTART;TZID=Europe/Paris:20221119T190000
DTEND;TZID=Europe/Paris:20221119T190000
DTSTAMP:20260422T054703
CREATED:20221007T141342Z
LAST-MODIFIED:20221107T193024Z
UID:1744-1668884400-1668884400@jazzbah.es
SUMMARY:Whole Lotta Band (Tribut a Led Zepellin)
DESCRIPTION:Una posada en escena impecable i un xou explosiu! 💥 \nAmb l’obsessió de transformar-se en la millor banda tribut a Led Zeppelin\, Whole Lotta Band ha consumat amb èxit gires per la península. Foguejant les seves versions i solidificant el seu directe\, van penjar el cartell «Entrades exhaurides» a ciutats com Bilbao\, Barcelona\, ​​la Corunya i Vigo. El secret de la seva proposta rau en la seva posada en escena\, en què intenten emular el que era un concert de Led Zeppelin als setanta\, fins i tot porten els seus mateixos instruments: guitarra de dos màstils\, mandolina i una bateria de color taronja com la que feien servir els originals. Un altre dels puntals de la seva proposta és el so\, que aconsegueixen portar de la dècada dels setanta a cotes més actuals\, conferint una prestància molt poderosa i actual. \nEls mallorquins no es consideren un conjunt tribut a l’ús\, van un pas més enllà en la confecció del que seria un show de Led Zeppelin del segle XXI. \nNo us ho podeu perdeu!
URL:https://jazzbah.es/event/whole-lotta-band-tribut-a-led-zepellin/
CATEGORIES:2022,Concerts,Destacats,Jazzbah,P-tardeo
ATTACH;FMTTYPE=image/jpeg:https://jazzbah.es/wp-content/uploads/2022/10/Slide-Jazzbah.jpg
END:VEVENT
BEGIN:VEVENT
DTSTART;TZID=Europe/Paris:20221126T190000
DTEND;TZID=Europe/Paris:20221126T190000
DTSTAMP:20260422T054703
CREATED:20221002T072216Z
LAST-MODIFIED:20221006T134441Z
UID:1741-1669489200-1669489200@jazzbah.es
SUMMARY:Coldday (A Very Special Tribute to Coldplay)
DESCRIPTION:Después de su exitosa gira “Viva la vida Anniversary Tour“\, rindiendo homenaje al disco más icónico de Coldplay\, vuelve su banda tributo más aclamada del mundo por la crítica. \nRegresa a los escenarios presentando en esta ocasión su nueva gira Music of the Spheres Tour\, con motivo del último lanzamiento discográfico de la banda británica\, y haciendo un repaso por todas las grandes canciones de Coldplay\, muchas convertidas ya en auténticos himnos generacionales. \nDesde 2012 Coldday ha girado por distintos países: España\, Andorra\, Portugal\, Bélgica\, Francia\, Reino Unido\, Austria\, Alemania\, Luxemburgo\, Rumanía\, Indonesia o Malaisia\, con una puesta en escena enérgica y vital\, fiel a la esencia de Coldplay y cuidada hasta el más mínimo detalle\, con proyecciones espectaculares y un repertorio muy pensado para conectar con un público muy amplio\, desde sus grandes éxitos más clásicos como Yellow\, The scientist o Viva la vida hasta los más recientes Adventure of a lifetime\, a Sky full of stars o My universe. \nUn espectáculo único que transporta el público a la experiencia más cercana a un auténtico directo de Coldplay.
URL:https://jazzbah.es/event/coldday-a-very-special-tribute-to-coldplay-2/
CATEGORIES:2022,Concerts,Destacats,Jazzbah,P-tardeo
ATTACH;FMTTYPE=image/jpeg:https://jazzbah.es/wp-content/uploads/2020/02/Slide-Coldday-1.jpg
END:VEVENT
END:VCALENDAR