BEGIN:VCALENDAR
VERSION:2.0
PRODID:-//Jazzbah (Port de Ciutadella) - ECPv6.15.20//NONSGML v1.0//EN
CALSCALE:GREGORIAN
METHOD:PUBLISH
X-WR-CALNAME:Jazzbah (Port de Ciutadella)
X-ORIGINAL-URL:https://jazzbah.es
X-WR-CALDESC:Esdeveniments per Jazzbah (Port de Ciutadella)
REFRESH-INTERVAL;VALUE=DURATION:PT1H
X-Robots-Tag:noindex
X-PUBLISHED-TTL:PT1H
BEGIN:VTIMEZONE
TZID:Europe/Paris
BEGIN:DAYLIGHT
TZOFFSETFROM:+0100
TZOFFSETTO:+0200
TZNAME:CEST
DTSTART:20210328T010000
END:DAYLIGHT
BEGIN:STANDARD
TZOFFSETFROM:+0200
TZOFFSETTO:+0100
TZNAME:CET
DTSTART:20211031T010000
END:STANDARD
BEGIN:DAYLIGHT
TZOFFSETFROM:+0100
TZOFFSETTO:+0200
TZNAME:CEST
DTSTART:20220327T010000
END:DAYLIGHT
BEGIN:STANDARD
TZOFFSETFROM:+0200
TZOFFSETTO:+0100
TZNAME:CET
DTSTART:20221030T010000
END:STANDARD
BEGIN:DAYLIGHT
TZOFFSETFROM:+0100
TZOFFSETTO:+0200
TZNAME:CEST
DTSTART:20230326T010000
END:DAYLIGHT
BEGIN:STANDARD
TZOFFSETFROM:+0200
TZOFFSETTO:+0100
TZNAME:CET
DTSTART:20231029T010000
END:STANDARD
END:VTIMEZONE
BEGIN:VEVENT
DTSTART;TZID=Europe/Paris:20221008T230000
DTEND;TZID=Europe/Paris:20221008T233000
DTSTAMP:20260422T073114
CREATED:20220927T144357Z
LAST-MODIFIED:20221007T040816Z
UID:1732-1665270000-1665271800@jazzbah.es
SUMMARY:Bah! Oscar Aguilera
DESCRIPTION:Hay dos características que definen el trabajo de Oscar Aguilera como DJ yartista: pasión y dedicación.\nOA es un auténtico trabajador de la escena electrónica que se ha forjado un lugar destacado en el circuito local e internacional a base de mostrar su calidad con continuidad y amor por lo que hace. Es también un performer poderoso\, que entrega sesiones eléctricas\, desprendiendo de forma natural una gran energía\, física y musical. Y por último\, es un productor que se está ganando\, disco a disco\, hit a hit\, su momento en el competitivo mundo de la producción techno. \nOscar Aguilera inició su carrera profesional como DJ en el año 2005\, con una residencia en La Terrazza Barcelona\, uno de los house-clubs más tempranos y legendarios de España\, donde permaneció hasta elaño 2011. En ese momento\, dio el salto al prestigioso Grupo Enter\, que le llevó a mantener residencias simultáneas en los clubes Florida 135 y elrow (en Row14\, y Poble Espanyol de Barcelona\, en Space de Ibiza\, y Fabrik de Madrid) y Monegros Festival\, donde actuó por 4\naños consecutivos\, y protagonizó un cierre épico en el año 2012\, ante 25.000 asis tentes\, que aún es el video más visitado de la historia del Festival.
URL:https://jazzbah.es/event/bah-oscar-aguilera/
CATEGORIES:2022,Bah!,Concerts,Destacats,Dj,Jazzbah
ATTACH;FMTTYPE=image/jpeg:https://jazzbah.es/wp-content/uploads/2022/09/Aguilera-slide.jpg
END:VEVENT
BEGIN:VEVENT
DTSTART;TZID=Europe/Paris:20221029T230000
DTEND;TZID=Europe/Paris:20221029T230000
DTSTAMP:20260422T073114
CREATED:20221022T085454Z
LAST-MODIFIED:20221022T085454Z
UID:1748-1667084400-1667084400@jazzbah.es
SUMMARY:MAMBOW ESPECIAL HALLOWEEN
DESCRIPTION:(ENTRADA LLIURE) \n>>Line Up:\nNewjoss (@newjossh)\nNatx (@natxomoll) \nUs esperam a #jazzbah per passar un vespre terroríficament festiu amb els millors hits de sempre. Rock\, electrònica pop\, indie… \nWho you gonna call? Mambow!
URL:https://jazzbah.es/event/mambow-especial-halloween/
CATEGORIES:2022,Concerts,Destacats,Dj,Jazzbah,Party
ATTACH;FMTTYPE=image/jpeg:https://jazzbah.es/wp-content/uploads/2022/10/Slide-Jazzbah-1.jpg
END:VEVENT
END:VCALENDAR