BEGIN:VCALENDAR
VERSION:2.0
PRODID:-//Jazzbah (Port de Ciutadella) - ECPv6.15.20//NONSGML v1.0//EN
CALSCALE:GREGORIAN
METHOD:PUBLISH
X-WR-CALNAME:Jazzbah (Port de Ciutadella)
X-ORIGINAL-URL:https://jazzbah.es
X-WR-CALDESC:Esdeveniments per Jazzbah (Port de Ciutadella)
REFRESH-INTERVAL;VALUE=DURATION:PT1H
X-Robots-Tag:noindex
X-PUBLISHED-TTL:PT1H
BEGIN:VTIMEZONE
TZID:Europe/Paris
BEGIN:DAYLIGHT
TZOFFSETFROM:+0100
TZOFFSETTO:+0200
TZNAME:CEST
DTSTART:20210328T010000
END:DAYLIGHT
BEGIN:STANDARD
TZOFFSETFROM:+0200
TZOFFSETTO:+0100
TZNAME:CET
DTSTART:20211031T010000
END:STANDARD
BEGIN:DAYLIGHT
TZOFFSETFROM:+0100
TZOFFSETTO:+0200
TZNAME:CEST
DTSTART:20220327T010000
END:DAYLIGHT
BEGIN:STANDARD
TZOFFSETFROM:+0200
TZOFFSETTO:+0100
TZNAME:CET
DTSTART:20221030T010000
END:STANDARD
BEGIN:DAYLIGHT
TZOFFSETFROM:+0100
TZOFFSETTO:+0200
TZNAME:CEST
DTSTART:20230326T010000
END:DAYLIGHT
BEGIN:STANDARD
TZOFFSETFROM:+0200
TZOFFSETTO:+0100
TZNAME:CET
DTSTART:20231029T010000
END:STANDARD
END:VTIMEZONE
BEGIN:VEVENT
DTSTART;TZID=Europe/Paris:20220803T233000
DTEND;TZID=Europe/Paris:20220803T233000
DTSTAMP:20260422T110803
CREATED:20220727T164944Z
LAST-MODIFIED:20221002T063231Z
UID:1700-1659569400-1659569400@jazzbah.es
SUMMARY:BAH! Nakadia
DESCRIPTION:Nakadia es una de las mujeres mas respetadas en el mundo del techno. Desde su Tailandia natal donde hacia fiestas en la isla de Koh Samui con invitados como Sven Vath o Loco Dice\, dio el salto a Berlin para desarrollar su carrera en la meca del techno y el clubbing. \nRecientemente ha sido una de los 150 artistas seleccionados para pinchar en la multitudinaria LOVE PARADE que reunió a 300.000 personas por las calles de Berlin\, tambien ha actuado en TOMORROWLAND o DOCKYARD por poner algunos ejemplos. \nComo productora ha publicado temas por Intec de Carl Cox o Filth on Acid de Reinier Zonneveld. \nSi querias TECHNO en BAH!\, aqui lo tienes.
URL:https://jazzbah.es/event/bah-nakadia/
CATEGORIES:2022,Bah!,Concerts,Dj,Jazzbah
ATTACH;FMTTYPE=image/jpeg:https://jazzbah.es/wp-content/uploads/2022/07/Slide-.jpg
END:VEVENT
BEGIN:VEVENT
DTSTART;TZID=Europe/Paris:20220804T010000
DTEND;TZID=Europe/Paris:20220804T053000
DTSTAMP:20260422T110803
CREATED:20220712T101029Z
LAST-MODIFIED:20221002T063201Z
UID:1689-1659574800-1659591000@jazzbah.es
SUMMARY:Ley Dj
DESCRIPTION:En tiempos como los que vivimos\, reconforta encontrarse con DJs que se resuelven sus\nshows con eclecticismo y versatilidad\, sabiendo adaptarse al medio en función del lugar.\nEsas son algunas de las características principales de Ley DJ\, quien siempre tiende\npuentes entre el indie y la electrónica como la mejor forma de poner a todo el mundo a\nbailar hasta la extenuación. \nEsta valenciana afincada en Barcelona también ha publicado sus propios temas (“Get You\nUp” en 2014\, “The Reel” en 2015 o los ocho temas que integran su Periscope EP pt 1 y pt.\n2 en 2018 y 2019 respectivamente)\, además de haber trabajado para bandas como Crystal\nfighters (por partida doble)\, editando a través del sello PIAS\, y para los también británicos\nTELEMAN a través de moshi moshi\, sello donde también editan Metronomy. Destacados\nson también sus dos trabajos para la banda francesa Exsonvalves: “Days” y “En silencio”\nambos con la colaboración de David Van Bylen. En el territorio español ha trabajado para\nla banda vasca Skakeitan remezclando su canción con Manu Chao “Lerro Husten\nArtean”. Y ha producido remixes para Los Punsetes\, La Habitación Roja\, Polock\, Pol 3.14\no The Crab Apples. \nHa sido la primera DJ española en actuar el la isla de Cuba formando parte del festival\nEyeife de La Habana en 2018\, una de las poquísimas en actuar en el escenario principal\ndel FIB y también la única en pinchar dos veces en las campanadas de fin de año de la\nPlaza del Ayuntamiento valenciana. Entre los festivales españoles que han contado con\nsu trabajo figuran algunos de los más importantes del país: el ya mencionado FIB\,\nMallorca Live\, Dcode\, Arenal Sound\, Low Festival\, Sonorama\, WARM\, Ibiza Rocks o San\nSan. Y también frecuentes escapadas a clubes indies foráneos como el Scala londinense. \nDurante sus años de carrera ha compartido cabina con artistas como Boys Noize\,\n2Manydj’s\, Digitalism\, Alex Metric\, Boston Bun o Roger Sanchez entre otros\, y ha\nabierto shows para bandas como Bruno Mars\, Coldplay\, Delasoul\, Bastille\, Amaral\no U2 en recintos tan emblemáticos como el Palau Sant Jordi o el Estadi Olímpic\nde Barcelona.
URL:https://jazzbah.es/event/ley-dj/
CATEGORIES:2022,Concerts,Dj,Jazzbah
ATTACH;FMTTYPE=image/jpeg:https://jazzbah.es/wp-content/uploads/2022/07/Slide-Jazzbah-1.jpg
END:VEVENT
BEGIN:VEVENT
DTSTART;TZID=Europe/Paris:20220810T010000
DTEND;TZID=Europe/Paris:20220810T053000
DTSTAMP:20260422T110803
CREATED:20220714T090625Z
LAST-MODIFIED:20221002T063146Z
UID:1695-1660093200-1660109400@jazzbah.es
SUMMARY:Flower Power Party
DESCRIPTION:
URL:https://jazzbah.es/event/flower-power-party-2/
CATEGORIES:2022,Concerts,Dj,Jazzbah,Party
ATTACH;FMTTYPE=image/jpeg:https://jazzbah.es/wp-content/uploads/2019/05/Slide-Flower.jpg
END:VEVENT
BEGIN:VEVENT
DTSTART;TZID=Europe/Paris:20220817T233000
DTEND;TZID=Europe/Paris:20220817T233000
DTSTAMP:20260422T110803
CREATED:20220805T153517Z
LAST-MODIFIED:20221002T063128Z
UID:1711-1660779000-1660779000@jazzbah.es
SUMMARY:BAH! Technasia
DESCRIPTION:Technasia ha estado convirtiendo a los amantes de la música electrónica en creyentes a lo largo de su carrera. Un artista provocador con gusto por la exploración\, Technasia combina una sensibilidad musical sofisticada con una curiosidad inquieta. \nCharles Siegling\, nacido en Francia\, creó Technasia cuando su amor por el cine lo llevó a Hong Kong para estudiar cine asiático. Fascinado con la cultura de ese continente\, eligió la música como su medio para crear una fusión única de emoción\, inteligencia y experiencia. \n¿El resultado? Docenas de éxitos en múltiples sellos a lo largo de su carrera. Con grandes discos como ‘Suga’ con Green Velvet\, ‘I Am Somebody’ y su remix de ‘All I Want’. En 2021\, su lanzamiento ‘Bring It Back’ fue mencionado como uno de los temas del año. \nSu tiempo en el estudio ha ayudado a su ascenso a la fama\, pero certeramente son sus shows en vivo los que lo hacen inolvidable. Un elemento básico en eventos y lugares de todo el mundo\, con actuaciones notables en festivales como Ultra Music Festival\, EDC\, Exit\, Monegros\, Dreambeach\, Awakenings\, Timewarp y Tomorrowland. Technasia ha aparecido en marcas importantes como Elrow\, The BPM Festival\, Paradise\, Vagabundos y ANTS\, así como en casi todos los clubes nocturnos importantes. \nDesde las giras hasta la producción\, Technasia se mueve por el deseo de compartir su amor por la música. “La música electrónica es el mejor lenguaje de todos”\, dice. “Sin palabras\, solo la vibración\,
URL:https://jazzbah.es/event/bah-technasia/
CATEGORIES:2022,Bah!,Concerts,Dj,Jazzbah
ATTACH;FMTTYPE=image/jpeg:https://jazzbah.es/wp-content/uploads/2022/08/Slide-Jazzbah.jpg
END:VEVENT
BEGIN:VEVENT
DTSTART;TZID=Europe/Paris:20220818T233000
DTEND;TZID=Europe/Paris:20220818T233000
DTSTAMP:20260422T110803
CREATED:20220811T145136Z
LAST-MODIFIED:20221002T063104Z
UID:1714-1660865400-1660865400@jazzbah.es
SUMMARY:MAMBOW IN JUMANJI
DESCRIPTION:MAMBOW IN JUMANJI \n(ENTRADA LIBRE)\n>>Line Up:\nNewjoss \nNatx  \nMambow is back! Los mejores hits conocidos y por descubrir. Música rock\, electrónica pop\, indie… \nY esta vez\, nos vamos a la jungla!
URL:https://jazzbah.es/event/mambow-in-jumanji/
CATEGORIES:2022,Concerts,Dj,Jazzbah,Party
ATTACH;FMTTYPE=image/jpeg:https://jazzbah.es/wp-content/uploads/2022/08/18-8-mambow.jpg
END:VEVENT
BEGIN:VEVENT
DTSTART;TZID=Europe/Paris:20220819T210000
DTEND;TZID=Europe/Paris:20220819T210000
DTSTAMP:20260422T110803
CREATED:20220524T081727Z
LAST-MODIFIED:20221002T063056Z
UID:1619-1660942800-1660942800@jazzbah.es
SUMMARY:Las Migas
DESCRIPTION:Cuatro mujeres músicas\, guerreras y viajeras renacen y se reinventan\, una y otra vez. Son ellas\, inconfundibles\, únicas: Son LAS MIGAS.\nDieciocho años después de su fundación\, son ya un pequeño clásico del flamenco más femenino\, valiente y alegre. Con una nominación a los Latin Grammy y un reciente Premio de la Música Independiente (MIN) al mejor álbum de flamenco\, Las Migas son ya una de las bandas consolidadas más mágicas e internacionales.\nMarta Robles a la direccion\, composición y guitarra\, Carolina “La Chispa” a la voz\, Alicia Grillo a la otra guitarra\, y Roser Loscos al violín\, forman este cuarteto camaleónico donde se atreven con todos los colores y estilos y con el que han recorrido ya casi medio mundo. Son aclamadas en países lejanos de latinoamérica\, pero también en sus tierras natales y en ciudades de media Europa. Su flamenco es claro\, es moderno\, es comprensible por un público muy amplio que las sigue desde muchísimos rincones del planeta.\nTras un intensísimo World Tour por toda Europa\, Estados Unidos y Latinoamérica\, esta banda de trayectoria imparable presenta por fin su esperado nuevo trabajo discográfico\, que han querido llamar LIBRES. \nEs su disco más luminoso\, alegre\, diferente\, arriesgado.\nDespojadas de todas las cadenas\, prejuicios y miedos\, Las Migas vuelven desnudas de alma a dar todo lo que tienen\, a crear nuevas emociones y a invitar a los oyentes a un viaje por mil lugares y sentimientos que estallan con cada una de las nuevas canciones de este disco que presentan y celebran.\nCanciones que huelen a mar\, a tierra\, a aire limpio\, a \, a esperanza y a mujeres fuertes. \nLIBRES de miedos y de cadenas\, libres para crear\, viajar y hacer disfrutar al mundo con este álbum\, una nueva aventura que no acaba más que empezar.
URL:https://jazzbah.es/event/las-migas-2/
LOCATION:Teatre Casino 17 de gener\, Avinguda de la Constitució\, 18\, Ciutadella\, ILLES BALEARS\, 07760
CATEGORIES:2022,Concerts,Jazzbah,Teatre Casino 17 de gener
ATTACH;FMTTYPE=image/jpeg:https://jazzbah.es/wp-content/uploads/2022/05/Slide2.jpg
END:VEVENT
BEGIN:VEVENT
DTSTART;TZID=Europe/Paris:20220822T233000
DTEND;TZID=Europe/Paris:20220822T233000
DTSTAMP:20260422T110803
CREATED:20220816T133613Z
LAST-MODIFIED:20221005T151556Z
UID:1717-1661211000-1661211000@jazzbah.es
SUMMARY:Disco Marisco
DESCRIPTION:
URL:https://jazzbah.es/event/disco-marisco-4/
CATEGORIES:2022,Concerts,Disco Marisco,Dj,Jazzbah,Party
ATTACH;FMTTYPE=image/jpeg:https://jazzbah.es/wp-content/uploads/2022/08/Slide-Jazzbah-1.jpg
END:VEVENT
BEGIN:VEVENT
DTSTART;TZID=Europe/Paris:20220825T233000
DTEND;TZID=Europe/Paris:20220825T233000
DTSTAMP:20260422T110803
CREATED:20220730T064944Z
LAST-MODIFIED:20221002T063026Z
UID:1708-1661470200-1661470200@jazzbah.es
SUMMARY:Axel Pi (Sidonie) Dj Set
DESCRIPTION:Axel Pi se dio a conocer junto al resto de sus compañeros de Sidonie gracias a un concurso de jóvenes talentos de la ciudad de Hospitalet de Llobregat que ganaron y por el que firmaron un contrato con una pequeña discográfica independiente catalana llamada Bip Bip Records. Durante su permanencia en esta compañía discográfica firmaron varios trabajos como las maquetas: Dragonfly y Roja\, pero la que los catapultó a la fama fue la homónima Sidonie\, de donde salieron varias canciones que sirvieron como sintonía publicitaria. \n\n 
URL:https://jazzbah.es/event/axel-pi-sidonie-dj-set/
CATEGORIES:2022,Concerts,Dj,Jazzbah
ATTACH;FMTTYPE=image/jpeg:https://jazzbah.es/wp-content/uploads/2022/07/Slide-Axel.jpg
END:VEVENT
BEGIN:VEVENT
DTSTART;TZID=Europe/Paris:20220831T233000
DTEND;TZID=Europe/Paris:20220831T233000
DTSTAMP:20260422T110803
CREATED:20220821T171017Z
LAST-MODIFIED:20221002T062813Z
UID:1720-1661988600-1661988600@jazzbah.es
SUMMARY:BAH! Andres Campo
DESCRIPTION:La ya floreciente carrera de Andrés Campo está experimentando un ascenso rápido y dramático. Uno de los DJ y productores más queridos de España\, la estrella de la portada de DJ Mag Spain es ahora sinónimo mundial de talento\, calidad y excitante música; tanto como DJ\, incluida su residencia en Florida 135 junto con muchos espectáculos internacionales\, y como productor\, firmando en Second State\, Intec\, Mood\, Odd Recordings\, Mindshake y RUKUS solo en el último año. 2019 lo vio expandirse como cofundador de sello discográfico\, con el lanzamiento de EI8HT con su amigo cercano Eats Everything. \nSiempre con un currículum impresionante de festivales (Printworks\, RESISTANCE\, Zurich Street Parade\, Tomorrowland\, Dockyard Festival ADE\, Mysteryland\, Summer Story y más)\, además de aparecer en el último año de Space Ibiza\, también lleva su marca de magia a clubes íntimos. Sus actuaciones anuales con entradas agotadas durante toda la noche en la emblemática “catedral del techno” Florida 135 en Barcelona\, son legendarias entre sus crecientes seguidores. Su residencia allí desde 2012 lo ha visto albergar a algunos de los gigantes del techno\, muy lejos de sus primeros dieciséis años como residente en pequeños clubes en su ciudad natal\, Huesca.
URL:https://jazzbah.es/event/bah-andres-campo-2/
CATEGORIES:2022,Bah!,Concerts,Dj,Jazzbah
ATTACH;FMTTYPE=image/jpeg:https://jazzbah.es/wp-content/uploads/2022/08/Slide-Jazzbah-2.jpg
END:VEVENT
END:VCALENDAR