BEGIN:VCALENDAR
VERSION:2.0
PRODID:-//Jazzbah (Port de Ciutadella) - ECPv6.15.20//NONSGML v1.0//EN
CALSCALE:GREGORIAN
METHOD:PUBLISH
X-WR-CALNAME:Jazzbah (Port de Ciutadella)
X-ORIGINAL-URL:https://jazzbah.es
X-WR-CALDESC:Esdeveniments per Jazzbah (Port de Ciutadella)
REFRESH-INTERVAL;VALUE=DURATION:PT1H
X-Robots-Tag:noindex
X-PUBLISHED-TTL:PT1H
BEGIN:VTIMEZONE
TZID:Europe/Paris
BEGIN:DAYLIGHT
TZOFFSETFROM:+0100
TZOFFSETTO:+0200
TZNAME:CEST
DTSTART:20210328T010000
END:DAYLIGHT
BEGIN:STANDARD
TZOFFSETFROM:+0200
TZOFFSETTO:+0100
TZNAME:CET
DTSTART:20211031T010000
END:STANDARD
BEGIN:DAYLIGHT
TZOFFSETFROM:+0100
TZOFFSETTO:+0200
TZNAME:CEST
DTSTART:20220327T010000
END:DAYLIGHT
BEGIN:STANDARD
TZOFFSETFROM:+0200
TZOFFSETTO:+0100
TZNAME:CET
DTSTART:20221030T010000
END:STANDARD
BEGIN:DAYLIGHT
TZOFFSETFROM:+0100
TZOFFSETTO:+0200
TZNAME:CEST
DTSTART:20230326T010000
END:DAYLIGHT
BEGIN:STANDARD
TZOFFSETFROM:+0200
TZOFFSETTO:+0100
TZNAME:CET
DTSTART:20231029T010000
END:STANDARD
END:VTIMEZONE
BEGIN:VEVENT
DTSTART;TZID=Europe/Paris:20220706T230000
DTEND;TZID=Europe/Paris:20220706T230000
DTSTAMP:20260424T104111
CREATED:20220621T141215Z
LAST-MODIFIED:20221002T063356Z
UID:1670-1657148400-1657148400@jazzbah.es
SUMMARY:BAH! Viviana Casanova
DESCRIPTION:Viviana Casanova.Vassnova \n(elRow resident dj) \nElegancia\, ritmo y versatilidad son tres valores que podrían definir la música de Viviana Casanova. A medio camino entre su Chile natal y su residencia actual en España\, ha crecido rodeada de influencias musicales entre su entorno local y la afición de su familia por el Blues\, Jazz\, Bossanova\, etc. Para posteriormente indagar en sonidos mucho más electrónicos. \nUna pasión por la música que la llevó a ser residente de varios clubs locales\, donde ganó experiencia durante varios años con sesiones All-night-long. Noche tras noche desarrolló su estilo personal propio con un Tech House explosivo y profundo a la vez\, con fuerte presencia de sonidos Funk y Hip Hop. \nEl punto de inflexión llegaría en 2016 cuando su calidad en cabina no pasó desapercibida\, ganándose así una destacada residencia mensual en Pacha Barcelona para luego unos años más tarde formar parte de las fiestas B Club\, estrenando su residencia en el CITY HALL de Barcelona. \nEn el 2019 Viviana se unió a la familia de “elrow”\, como nueva residente de las fiestas de elrow a nivel mundial. \nHa actuado en diferentes clubs y festivales de referencia por todo el mundo tales como “elrow” Barcelona\, Brunch in the Park (BCN)\, Fabrik (Spain)\, Labyrinth Club (BE)\, Straf Werk (NL)\, WHP (Manchester\, UK)\, Origen Fest (Mallorca)\, Industrial Copera (Spain)\, Wake Up Sala Pelícano (Galicia)\, Blue Marlin Ibiza (Ibiza) y muchos más.
URL:https://jazzbah.es/event/bah-viviana-casanova/
CATEGORIES:2022,Bah!,Concerts,Dj,Jazzbah
ATTACH;FMTTYPE=image/jpeg:https://jazzbah.es/wp-content/uploads/2022/06/Slide-Jazzbah-2.jpg
END:VEVENT
BEGIN:VEVENT
DTSTART;TZID=Europe/Paris:20220713T000000
DTEND;TZID=Europe/Paris:20220713T053000
DTSTAMP:20260424T104111
CREATED:20220710T162600Z
LAST-MODIFIED:20221002T063348Z
UID:1685-1657670400-1657690200@jazzbah.es
SUMMARY:Historie d’un Soir Funky Set
DESCRIPTION:
URL:https://jazzbah.es/event/historie-dun-soir-funky-set/
CATEGORIES:2022,Concerts,Dj,Jazzbah,Party
ATTACH;FMTTYPE=image/jpeg:https://jazzbah.es/wp-content/uploads/2022/07/13-jul-slide.jpg
END:VEVENT
BEGIN:VEVENT
DTSTART;TZID=Europe/Paris:20220714T000000
DTEND;TZID=Europe/Paris:20220714T053000
DTSTAMP:20260424T104111
CREATED:20220710T160855Z
LAST-MODIFIED:20221002T063341Z
UID:1682-1657756800-1657776600@jazzbah.es
SUMMARY:Disco Marisco
DESCRIPTION:GODIE + NOLOÖP \n\nEn nuestra próxima bacanal musical nos acompaña Godie. Este madrileño afincado en Menorca extiende su sonido entre el disco\, el house y el electro. Sus sesiones se caracterizan por cambios de ritmo y género\, con la fuerza y la contundencia necesaria para que no pares de bailar ni un segundo. \nEl support estará a cargo de Noloöp.
URL:https://jazzbah.es/event/disco-marisco-3/
CATEGORIES:2022,Concerts,Disco Marisco,Dj,Jazzbah,Party
ATTACH;FMTTYPE=image/jpeg:https://jazzbah.es/wp-content/uploads/2022/07/Slide-Jazzbah.jpg
END:VEVENT
BEGIN:VEVENT
DTSTART;TZID=Europe/Paris:20220720T230000
DTEND;TZID=Europe/Paris:20220720T230000
DTSTAMP:20260424T104111
CREATED:20220712T142116Z
LAST-MODIFIED:20221002T063306Z
UID:1692-1658358000-1658358000@jazzbah.es
SUMMARY:BAH! Lexlay
DESCRIPTION:Nacido en Barcelona\, Lexlay lleva mostrando al mundo su\nmanera de entender la música desde hace más de una década.\nTras años de trabajo y empujado por su carácter emprendedor\nse ha situado en una posición respetable en la escena\nelectrónica nacional.\nLexla\ny es sinónimo de alegría\, energía\, frescura y pasión; sus\nsets son garantía de espectáculo y diversión. Versátil como un\ncamaleón\, consigue adaptar su discurso musical a las\nexigencias de cada club transportando al público hacía un\nestallido de emociones c\nolectivas. Elegancia y ritmo\ncaracterizan su estilo musical\, siendo capaz de alternar desde\nla sensibilidad del house hasta el techno más bailongo. Las\nsalas y clubs de prestigio que han requerido sus servicios\nincrementan día a día\, prueba de ello son sus\nactuaciones en\nlugares como: Space\, Pacha\, Privilege (Ibiza)\, Fabrik (Madrid)\,\nFlorida 135\, Elrow\, Supermartxé (Barcelona)\, SaoClub (Dubai);\nhabiendo compartido cartel con artistas de la talla de Carl Cox\,\nRichie Hawtin\, Luciano\, Marco Carola\, Loco Dice\,\nentre otros.\nActualmente es responsable y fundador de la reconocida marca\nHappy Techno\, que junto a todo su equipo\, ha logrado\nconquistar al público de la ciudad condal residiendo la noche\nde los sábados en una de las salas más emblemáticas. City\nHall.
URL:https://jazzbah.es/event/bah-lexlay/
CATEGORIES:2022,Bah!,Concerts,Dj,Jazzbah
ATTACH;FMTTYPE=image/jpeg:https://jazzbah.es/wp-content/uploads/2022/07/Slide-Jazzbah-2.jpg
END:VEVENT
BEGIN:VEVENT
DTSTART;TZID=Europe/Paris:20220727T233000
DTEND;TZID=Europe/Paris:20220727T233000
DTSTAMP:20260424T104111
CREATED:20220722T135308Z
LAST-MODIFIED:20221002T063253Z
UID:1697-1658964600-1658964600@jazzbah.es
SUMMARY:Boom 90's
DESCRIPTION:La fiebre de los Noventa llega a Menorca con las actuaciones de New Limit y sus éxitos convertidos en himnos para toda una generación y conocidas por casi todos\, y la sesión de Buenri\, 50% de la mítica pareja Pastis&Buenri\, que están viviendo una 2da juventud con el auge de los festivales de remember que congregan a miles de personas por toda España\, con una sesion al mas estilo X-Que? y Pont Aeri\, salas de las que fue residente. \nAcompañados por los djs locales Ivan Khanet en un B2B con Santi An\, Dj Popus con una seleccion de cantadas y bases de los 2000 y Byone en la main room. \nTambien tendremos a Marc Rock dj en la cuevita con lo mejor del rock e indie de los 90…que no todo era chumba chumba!
URL:https://jazzbah.es/event/boom-90s/
CATEGORIES:2022,Concerts,Dj,Jazzbah,Party
ATTACH;FMTTYPE=image/jpeg:https://jazzbah.es/wp-content/uploads/2022/07/90s-slide.jpg
END:VEVENT
END:VCALENDAR