BEGIN:VCALENDAR
VERSION:2.0
PRODID:-//Jazzbah (Port de Ciutadella) - ECPv6.15.20//NONSGML v1.0//EN
CALSCALE:GREGORIAN
METHOD:PUBLISH
X-WR-CALNAME:Jazzbah (Port de Ciutadella)
X-ORIGINAL-URL:https://jazzbah.es
X-WR-CALDESC:Esdeveniments per Jazzbah (Port de Ciutadella)
REFRESH-INTERVAL;VALUE=DURATION:PT1H
X-Robots-Tag:noindex
X-PUBLISHED-TTL:PT1H
BEGIN:VTIMEZONE
TZID:Europe/Paris
BEGIN:DAYLIGHT
TZOFFSETFROM:+0100
TZOFFSETTO:+0200
TZNAME:CEST
DTSTART:20210328T010000
END:DAYLIGHT
BEGIN:STANDARD
TZOFFSETFROM:+0200
TZOFFSETTO:+0100
TZNAME:CET
DTSTART:20211031T010000
END:STANDARD
BEGIN:DAYLIGHT
TZOFFSETFROM:+0100
TZOFFSETTO:+0200
TZNAME:CEST
DTSTART:20220327T010000
END:DAYLIGHT
BEGIN:STANDARD
TZOFFSETFROM:+0200
TZOFFSETTO:+0100
TZNAME:CET
DTSTART:20221030T010000
END:STANDARD
BEGIN:DAYLIGHT
TZOFFSETFROM:+0100
TZOFFSETTO:+0200
TZNAME:CEST
DTSTART:20230326T010000
END:DAYLIGHT
BEGIN:STANDARD
TZOFFSETFROM:+0200
TZOFFSETTO:+0100
TZNAME:CET
DTSTART:20231029T010000
END:STANDARD
END:VTIMEZONE
BEGIN:VEVENT
DTSTART;TZID=Europe/Paris:20220616T000000
DTEND;TZID=Europe/Paris:20220617T053000
DTSTAMP:20260424T120911
CREATED:20220609T035140Z
LAST-MODIFIED:20221002T063502Z
UID:1652-1655337600-1655443800@jazzbah.es
SUMMARY:Disco Marisco (Opening)
DESCRIPTION:Seguir hablando de lo pasado en los últimos años es perder el tiempo\, el presente tampoco está siendo demasiado alentador\, y está claro que la actualidad nos marca. \nPese a todo\, seguimos aquí.\nNo “estamos de vuelta” porque nunca nos fuimos.\nComo dijo un famoso personaje\, a nosotros lo que nos gusta es celebrar. \nAsí que aquí va un plan. \nDISCO MARISCO Jazzbah.\nComienza la fiesta más gamberra de la isla. \nTurtur (Jonny Knüppel) Berlín.\nNoloöp (Disco Marisco)
URL:https://jazzbah.es/event/disco-marisco-opening-2/
CATEGORIES:2022,Concerts,Disco Marisco,Dj,Jazzbah
ATTACH;FMTTYPE=image/jpeg:https://jazzbah.es/wp-content/uploads/2022/06/Slide-Jazzbah.jpg
END:VEVENT
END:VCALENDAR