BEGIN:VCALENDAR
VERSION:2.0
PRODID:-//Jazzbah (Port de Ciutadella) - ECPv6.15.20//NONSGML v1.0//EN
CALSCALE:GREGORIAN
METHOD:PUBLISH
X-WR-CALNAME:Jazzbah (Port de Ciutadella)
X-ORIGINAL-URL:https://jazzbah.es
X-WR-CALDESC:Esdeveniments per Jazzbah (Port de Ciutadella)
REFRESH-INTERVAL;VALUE=DURATION:PT1H
X-Robots-Tag:noindex
X-PUBLISHED-TTL:PT1H
BEGIN:VTIMEZONE
TZID:Europe/Paris
BEGIN:DAYLIGHT
TZOFFSETFROM:+0100
TZOFFSETTO:+0200
TZNAME:CEST
DTSTART:20220327T010000
END:DAYLIGHT
BEGIN:STANDARD
TZOFFSETFROM:+0200
TZOFFSETTO:+0100
TZNAME:CET
DTSTART:20221030T010000
END:STANDARD
BEGIN:DAYLIGHT
TZOFFSETFROM:+0100
TZOFFSETTO:+0200
TZNAME:CEST
DTSTART:20230326T010000
END:DAYLIGHT
BEGIN:STANDARD
TZOFFSETFROM:+0200
TZOFFSETTO:+0100
TZNAME:CET
DTSTART:20231029T010000
END:STANDARD
BEGIN:DAYLIGHT
TZOFFSETFROM:+0100
TZOFFSETTO:+0200
TZNAME:CEST
DTSTART:20240331T010000
END:DAYLIGHT
BEGIN:STANDARD
TZOFFSETFROM:+0200
TZOFFSETTO:+0100
TZNAME:CET
DTSTART:20241027T010000
END:STANDARD
END:VTIMEZONE
BEGIN:VEVENT
DTSTART;TZID=Europe/Paris:20230721T233000
DTEND;TZID=Europe/Paris:20230721T233000
DTSTAMP:20260425T230547
CREATED:20230712T151659Z
LAST-MODIFIED:20230712T151659Z
UID:2117-1689982200-1689982200@jazzbah.es
SUMMARY:Festa de presentació del Cranc Illa de Menorca Festival 2023
DESCRIPTION:Una cita que comptarà amb el brutal directe de Fundación Francisco Frankenstein\, banda mallorquina que evoca el millor rock underground seguits per Ley Dj (Indie Nights) i Uncle Frankie als plats.\n\nUn immillorable preàmbul per a la pròxima edició del Cranc Festival que se celebrarà entre el 21 i 24 de septembre a Maó\, convertit ja en un dels festivals més singulars i amb major encant de la nostra geografia. El cartell de 2023 inclou bandes com Nada Surf\, _juno\, Crocodiles\, Belako\, Kitty\, Daisy & Lewis\, La Paloma o Dj Coco entre molts altres.\n\nEntrada lliure.
URL:https://jazzbah.es/event/festa-de-presentacio-del-cranc-illa-de-menorca-festival-2023/
CATEGORIES:2023,Concerts,Destacats,Dj,Indie Nights,Jazzbah
ATTACH;FMTTYPE=image/jpeg:https://jazzbah.es/wp-content/uploads/2023/07/Slide-Jazzbah-2.jpg
END:VEVENT
END:VCALENDAR