BEGIN:VCALENDAR
VERSION:2.0
PRODID:-//Jazzbah (Port de Ciutadella) - ECPv6.15.20//NONSGML v1.0//EN
CALSCALE:GREGORIAN
METHOD:PUBLISH
X-ORIGINAL-URL:https://jazzbah.es
X-WR-CALDESC:Esdeveniments per Jazzbah (Port de Ciutadella)
REFRESH-INTERVAL;VALUE=DURATION:PT1H
X-Robots-Tag:noindex
X-PUBLISHED-TTL:PT1H
BEGIN:VTIMEZONE
TZID:Europe/Paris
BEGIN:DAYLIGHT
TZOFFSETFROM:+0100
TZOFFSETTO:+0200
TZNAME:CEST
DTSTART:20250330T010000
END:DAYLIGHT
BEGIN:STANDARD
TZOFFSETFROM:+0200
TZOFFSETTO:+0100
TZNAME:CET
DTSTART:20251026T010000
END:STANDARD
BEGIN:DAYLIGHT
TZOFFSETFROM:+0100
TZOFFSETTO:+0200
TZNAME:CEST
DTSTART:20260329T010000
END:DAYLIGHT
BEGIN:STANDARD
TZOFFSETFROM:+0200
TZOFFSETTO:+0100
TZNAME:CET
DTSTART:20261025T010000
END:STANDARD
BEGIN:DAYLIGHT
TZOFFSETFROM:+0100
TZOFFSETTO:+0200
TZNAME:CEST
DTSTART:20270328T010000
END:DAYLIGHT
BEGIN:STANDARD
TZOFFSETFROM:+0200
TZOFFSETTO:+0100
TZNAME:CET
DTSTART:20271031T010000
END:STANDARD
END:VTIMEZONE
BEGIN:VEVENT
DTSTART;TZID=Europe/Paris:20260711T223000
DTEND;TZID=Europe/Paris:20260711T223000
DTSTAMP:20260424T141022
CREATED:20260422T140934Z
LAST-MODIFIED:20260424T120303Z
UID:3887-1783809000-1783809000@jazzbah.es
SUMMARY:LA MUJER DE VERDE + LEY DJ (INDIE NIGHTS)
DESCRIPTION:LA MUJER DE VERDE porta als escenaris els grans himnes de l’indie estatal amb un repertori ampli i molt cuidat de versions. És l’únic grup de Mallorca amb un repertori 100% de covers indie\, i destaca per una proposta fresca\, elegant i totalment actual. \nEl seu directe és impecable\, potent i absolutament fidel a les cançons originals\, amb una execució musical d’alt nivell i una posada en escena enèrgica i vibrant. Per això\, LA MUJER DE VERDE està considerada una de les millors bandes homenatge a l’indie de tot l’Estat\, capaç de connectar amb el públic des del primer acord. \nLa banda presenta també la seva música original en un concert audiovisual únic\, amb el millor de Vetusta Morla\, IZAL\, Viva Suecia\, Lori Meyers\, Sidonie\, Arde Bogotá\, Los Piratas\, León Benavente\, Siloé i molts més. \nAnticipades 15 € (+dg)\nhttps://entradium.com/events/la-mujer-de-verde-en-jazzbah-ciutadella-de-menorca\n\n*Prohibida l’entrada a menors de 18 anys.\n\nObertura portes: 22:00 h\nConcert: 22:30 h
URL:https://jazzbah.es/event/la-mujer-de-verde-indie-nights/
CATEGORIES:2026,Concerts,Destacats,Indie Nights Live!,Jazzbah
ATTACH;FMTTYPE=image/jpeg:https://jazzbah.es/wp-content/uploads/2026/04/slide-LA-MUJER-DE-VERDE.jpeg
END:VEVENT
END:VCALENDAR