BEGIN:VCALENDAR
VERSION:2.0
PRODID:-//Jazzbah (Port de Ciutadella) - ECPv6.15.20//NONSGML v1.0//EN
CALSCALE:GREGORIAN
METHOD:PUBLISH
X-WR-CALNAME:Jazzbah (Port de Ciutadella)
X-ORIGINAL-URL:https://jazzbah.es
X-WR-CALDESC:Esdeveniments per Jazzbah (Port de Ciutadella)
REFRESH-INTERVAL;VALUE=DURATION:PT1H
X-Robots-Tag:noindex
X-PUBLISHED-TTL:PT1H
BEGIN:VTIMEZONE
TZID:Europe/Paris
BEGIN:DAYLIGHT
TZOFFSETFROM:+0100
TZOFFSETTO:+0200
TZNAME:CEST
DTSTART:20220327T010000
END:DAYLIGHT
BEGIN:STANDARD
TZOFFSETFROM:+0200
TZOFFSETTO:+0100
TZNAME:CET
DTSTART:20221030T010000
END:STANDARD
BEGIN:DAYLIGHT
TZOFFSETFROM:+0100
TZOFFSETTO:+0200
TZNAME:CEST
DTSTART:20230326T010000
END:DAYLIGHT
BEGIN:STANDARD
TZOFFSETFROM:+0200
TZOFFSETTO:+0100
TZNAME:CET
DTSTART:20231029T010000
END:STANDARD
BEGIN:DAYLIGHT
TZOFFSETFROM:+0100
TZOFFSETTO:+0200
TZNAME:CEST
DTSTART:20240331T010000
END:DAYLIGHT
BEGIN:STANDARD
TZOFFSETFROM:+0200
TZOFFSETTO:+0100
TZNAME:CET
DTSTART:20241027T010000
END:STANDARD
END:VTIMEZONE
BEGIN:VEVENT
DTSTART;TZID=Europe/Paris:20230712T000000
DTEND;TZID=Europe/Paris:20230712T050000
DTSTAMP:20260425T202134
CREATED:20230602T041550Z
LAST-MODIFIED:20230710T134554Z
UID:1963-1689120000-1689138000@jazzbah.es
SUMMARY:Malánima + TBA
DESCRIPTION:Malánima\, és el projecte artístic del músic\, compositor i productor menorquí Àngel Gómez acompanyat de l’Iris Medina\, que s’encarrega de rodar els videoclips i la posada en escena dels directes. Aquest és un projecte de música urbana on hi conflueixen estils diversos com la rumba\, el reggaeton\, el rock espanyol\, el flamenc\, el drum’n’bass i la cançó d’autor amb una essència trencadora i de gran projecció.
URL:https://jazzbah.es/event/malanima-tba/
CATEGORIES:2023,Concerts,Destacats,Indie Nights Live!,Jazzbah
ATTACH;FMTTYPE=image/png:https://jazzbah.es/wp-content/uploads/2023/06/MALÁNIMA-TDA-V2-OK.png
END:VEVENT
END:VCALENDAR