BEGIN:VCALENDAR
VERSION:2.0
PRODID:-//Jazzbah (Port de Ciutadella) - ECPv6.15.20//NONSGML v1.0//EN
CALSCALE:GREGORIAN
METHOD:PUBLISH
X-ORIGINAL-URL:https://jazzbah.es
X-WR-CALDESC:Esdeveniments per Jazzbah (Port de Ciutadella)
REFRESH-INTERVAL;VALUE=DURATION:PT1H
X-Robots-Tag:noindex
X-PUBLISHED-TTL:PT1H
BEGIN:VTIMEZONE
TZID:Europe/Paris
BEGIN:DAYLIGHT
TZOFFSETFROM:+0100
TZOFFSETTO:+0200
TZNAME:CEST
DTSTART:20220327T010000
END:DAYLIGHT
BEGIN:STANDARD
TZOFFSETFROM:+0200
TZOFFSETTO:+0100
TZNAME:CET
DTSTART:20221030T010000
END:STANDARD
BEGIN:DAYLIGHT
TZOFFSETFROM:+0100
TZOFFSETTO:+0200
TZNAME:CEST
DTSTART:20230326T010000
END:DAYLIGHT
BEGIN:STANDARD
TZOFFSETFROM:+0200
TZOFFSETTO:+0100
TZNAME:CET
DTSTART:20231029T010000
END:STANDARD
BEGIN:DAYLIGHT
TZOFFSETFROM:+0100
TZOFFSETTO:+0200
TZNAME:CEST
DTSTART:20240331T010000
END:DAYLIGHT
BEGIN:STANDARD
TZOFFSETFROM:+0200
TZOFFSETTO:+0100
TZNAME:CET
DTSTART:20241027T010000
END:STANDARD
END:VTIMEZONE
BEGIN:VEVENT
DTSTART;TZID=Europe/Paris:20230615T000000
DTEND;TZID=Europe/Paris:20230615T050000
DTSTAMP:20260425T175349
CREATED:20230602T035442Z
LAST-MODIFIED:20230605T143133Z
UID:1955-1686787200-1686805200@jazzbah.es
SUMMARY:Disco Marisco
DESCRIPTION:Nos plantamos en junio y vamos calentando motores para la segunda fiesta de la temporada. \nPara haceros bailar en la próxima noche vuelve el clásico entre los clásicos HIGINIO. \nPara quien no lo conozca es uno de los pioneros en la música electrónica de nuestro país\, y ha plasmado su ingenio en festivales como Sonar\, Aquasella o Doctor Music. \nDesde el levante menorquín nos visita GODIÉ. \nSus sesiones dancefloor se extienden a lo largo de las líneas que van desde el disco y el house más old school\, al electro crudo y emotivo. \nEl warm up correrá a cargo del promotor y residente de Disco Marisco\, NOLOÖP. \nHIGINIO\nGODIÉ\nNOLOÖP \nLet´s dance! \n 
URL:https://jazzbah.es/event/disco-marisco-5/
CATEGORIES:2023,Concerts,Destacats,Disco Marisco,Dj,Jazzbah
ATTACH;FMTTYPE=image/jpeg:https://jazzbah.es/wp-content/uploads/2023/06/Slide-Jazzbah.jpg
END:VEVENT
END:VCALENDAR