BEGIN:VCALENDAR
VERSION:2.0
PRODID:-//Jazzbah (Port de Ciutadella) - ECPv6.15.20//NONSGML v1.0//EN
CALSCALE:GREGORIAN
METHOD:PUBLISH
X-ORIGINAL-URL:https://jazzbah.es
X-WR-CALDESC:Esdeveniments per Jazzbah (Port de Ciutadella)
REFRESH-INTERVAL;VALUE=DURATION:PT1H
X-Robots-Tag:noindex
X-PUBLISHED-TTL:PT1H
BEGIN:VTIMEZONE
TZID:Europe/Paris
BEGIN:DAYLIGHT
TZOFFSETFROM:+0100
TZOFFSETTO:+0200
TZNAME:CEST
DTSTART:20220327T010000
END:DAYLIGHT
BEGIN:STANDARD
TZOFFSETFROM:+0200
TZOFFSETTO:+0100
TZNAME:CET
DTSTART:20221030T010000
END:STANDARD
BEGIN:DAYLIGHT
TZOFFSETFROM:+0100
TZOFFSETTO:+0200
TZNAME:CEST
DTSTART:20230326T010000
END:DAYLIGHT
BEGIN:STANDARD
TZOFFSETFROM:+0200
TZOFFSETTO:+0100
TZNAME:CET
DTSTART:20231029T010000
END:STANDARD
BEGIN:DAYLIGHT
TZOFFSETFROM:+0100
TZOFFSETTO:+0200
TZNAME:CEST
DTSTART:20240331T010000
END:DAYLIGHT
BEGIN:STANDARD
TZOFFSETFROM:+0200
TZOFFSETTO:+0100
TZNAME:CET
DTSTART:20241027T010000
END:STANDARD
END:VTIMEZONE
BEGIN:VEVENT
DTSTART;TZID=Europe/Paris:20230512T233000
DTEND;TZID=Europe/Paris:20230512T233000
DTSTAMP:20260425T194126
CREATED:20230424T134806Z
LAST-MODIFIED:20230424T134806Z
UID:1924-1683934200-1683934200@jazzbah.es
SUMMARY:Disco Marisco Opening!
DESCRIPTION:Amigos y amigas! El próximo viernes 12 de Mayo a eso de la medianoche comienza la guasa en la Disco Marisco.\nPara nuestra primera cita de la temporada vuelve el baile alemán de Tutti aka Turtur\, que tras varias visitas\, regresa con más ganas que nunca de hacernos sudar. Para quien aún no lo conozca\, Tutti es diseñador de audio de Berlín\, y parte responsable del booking y la gestión del club Jonny Knüppel de la capital Alemana. Hablar de estilos es confuso para él\, pués varían desde el techno más ácido y oscuro al house de los 90\, sin dejar de lado la parte más dark de la música disco.\n\nCómo support contaremos con Noloöp\, que hará los honores en la primera noche de la temporada. \n \nTUTTI / JONNY KNÜPPEL. BERLÍN\nNOLOÖOP / DISCO MARISCO\n\nEntrada libre
URL:https://jazzbah.es/event/disco-marisco-opening-3/
CATEGORIES:2023,Concerts,Destacats,Disco Marisco,Dj,Party
ATTACH;FMTTYPE=image/jpeg:https://jazzbah.es/wp-content/uploads/2023/04/Slide-Jazzbah-4.jpg
END:VEVENT
END:VCALENDAR