BEGIN:VCALENDAR
VERSION:2.0
PRODID:-//Jazzbah (Port de Ciutadella) - ECPv6.15.20//NONSGML v1.0//EN
CALSCALE:GREGORIAN
METHOD:PUBLISH
X-ORIGINAL-URL:https://jazzbah.es
X-WR-CALDESC:Esdeveniments per Jazzbah (Port de Ciutadella)
REFRESH-INTERVAL;VALUE=DURATION:PT1H
X-Robots-Tag:noindex
X-PUBLISHED-TTL:PT1H
BEGIN:VTIMEZONE
TZID:Europe/Paris
BEGIN:DAYLIGHT
TZOFFSETFROM:+0100
TZOFFSETTO:+0200
TZNAME:CEST
DTSTART:20220327T010000
END:DAYLIGHT
BEGIN:STANDARD
TZOFFSETFROM:+0200
TZOFFSETTO:+0100
TZNAME:CET
DTSTART:20221030T010000
END:STANDARD
BEGIN:DAYLIGHT
TZOFFSETFROM:+0100
TZOFFSETTO:+0200
TZNAME:CEST
DTSTART:20230326T010000
END:DAYLIGHT
BEGIN:STANDARD
TZOFFSETFROM:+0200
TZOFFSETTO:+0100
TZNAME:CET
DTSTART:20231029T010000
END:STANDARD
BEGIN:DAYLIGHT
TZOFFSETFROM:+0100
TZOFFSETTO:+0200
TZNAME:CEST
DTSTART:20240331T010000
END:DAYLIGHT
BEGIN:STANDARD
TZOFFSETFROM:+0200
TZOFFSETTO:+0100
TZNAME:CET
DTSTART:20241027T010000
END:STANDARD
END:VTIMEZONE
BEGIN:VEVENT
DTSTART;TZID=Europe/Paris:20230901T210000
DTEND;TZID=Europe/Paris:20230901T210000
DTSTAMP:20260425T131637
CREATED:20230821T135338Z
LAST-MODIFIED:20230823T122525Z
UID:2213-1693602000-1693602000@jazzbah.es
SUMMARY:Indigo
DESCRIPTION:Divendres dia 1 de setembre al Teatre del Casino de Ciutadella\, concert recital de n’Indigo acompanyada al piano per n’Armando Lore. Junts ens delectaran amb una fusió i selecció dels grans clàssics del jazz i modern de la música espanyola i anglosaxona. \nLa jove cantant menorquina guanyadora del Talent Show televisiu “Kids Idol”. Actualment\, compagina els seus estudis amb l’Acadèmia musical. \nUBICACIÓ: Teatre del Casino 17 de Gener. Avinguda Constitució\, 18 (Ciutadella de Menorca)
URL:https://jazzbah.es/event/indigo/
CATEGORIES:2023,Concerts,Destacats,Teatre Casino 17 de gener
ATTACH;FMTTYPE=image/jpeg:https://jazzbah.es/wp-content/uploads/2023/08/Slide-Jazzbah-2.jpg
END:VEVENT
BEGIN:VEVENT
DTSTART;TZID=Europe/Paris:20230907T213000
DTEND;TZID=Europe/Paris:20230907T213000
DTSTAMP:20260425T131637
CREATED:20230904T141421Z
LAST-MODIFIED:20230904T141512Z
UID:2220-1694122200-1694122200@jazzbah.es
SUMMARY:Casino Jazz Club amb "Our Five Band"
DESCRIPTION:EDICIÓ EXTRA‼️ després de rebre les vostres peticions\, el CASINO JAZZ CLUB segueix una setmana més a l’emblemàtic Teatre del Casino de Ciutadella! El pròxim dijous 7 de setembre vine al teatre i gaudeix del ball i la música en directe en un ambient que et transportarà a una altra època. \n20:30 h. Classe Oberta de LINDY HOP. Aprèn a ballar la música de Swing abans del concert. (Apte per a tots els nivells). \n21:30 h. Concert amb la nostra orquestra OUR FIVE BAND (swing\, jazz\, mambo\, estàndards) \n…………………………… \nEDICIÓN EXTRA‼️ después de recibir vuestas peticiones\, el CASINO JAZZ CLUB sigue una semana más en el emblemático Teatro del Casino de Ciutadella! El próximo jueves 7 de septiembre\, ven al teatro y disfruta del baile y la música en directo en un ambiente que te transportará a otra época. \n20:30 h. Clase Abierta de LINDY HOP. Aprende a bailar la música de Swing antes del concierto. (Apto para todos los niveles). \n21:30 h. Concierto con nuestra orquesta OUR FIVE BAND (swing\, jazz\, mambo\, estándars) \n🎟️ TAQUILLA INVERSA\nAjuda’ns a fer-ho possible! Tu decideixes el preu a pagar de l’espectacle. Aportació voluntaria al sortir de la sala. \n🎟️ TAQUILLA INVERSA. ¡Ayúdanos a hacerlo posible! Tú decides el precio a pagar del espectáculo. Aportación voluntaria al salir de la sala. \nUBICACIÓ: Teatre del Casino 17 de Gener. Avinguda Constitució\, 18 (Ciutadella de Menorca)
URL:https://jazzbah.es/event/casino-jazz-club-amb-our-five-band-10/
CATEGORIES:2023,Casino Jazz Club,Concerts,Destacats,Teatre Casino 17 de gener
ATTACH;FMTTYPE=image/jpeg:https://jazzbah.es/wp-content/uploads/2023/09/Casino-extra-set.jpeg
END:VEVENT
BEGIN:VEVENT
DTSTART;TZID=Europe/Paris:20230907T233000
DTEND;TZID=Europe/Paris:20230907T233000
DTSTAMP:20260425T131637
CREATED:20230814T145637Z
LAST-MODIFIED:20230814T145637Z
UID:2202-1694129400-1694129400@jazzbah.es
SUMMARY:Cherries on Top
DESCRIPTION:Las Cherries on Top volveran por segunda vez a la Isla este verano\, a el legendario club Jazzbah\, no te lo puedes perder! \nAcompáñanos este 7 de Septiembre para una noche inolvidable con el mejor house\, funky house\, tech house y afro house. \nPrepárate para bailar toda la noche con nuestro increíble line up de Cherries 🍒 @AndreaLove\, @aliceyoungling @vaaleriejane & @violeta_villa_ \, compartiendo escenario con nuestra queridas invitadas locales @nayfitz y @sandrapalmap 🚀🍒 \nCompra tus tickets ya antes de que se acaben! \nhttps://www.passline.com/eventos/cherries-on-top-at-jazzbah?fbclid=PAAaZ_oNjWVk2hVyMebZD5o8U5Kp-nsUzcOhj5cBCYVGawtknt3Vg4dmA6cYM
URL:https://jazzbah.es/event/cherries-on-top-3/
CATEGORIES:2023,Concerts,Destacats,Dj,Jazzbah
ATTACH;FMTTYPE=image/jpeg:https://jazzbah.es/wp-content/uploads/2023/08/cherries-slide.jpg
END:VEVENT
BEGIN:VEVENT
DTSTART;TZID=Europe/Paris:20230910T235900
DTEND;TZID=Europe/Paris:20230910T235900
DTSTAMP:20260425T131637
CREATED:20230905T173404Z
LAST-MODIFIED:20230905T173642Z
UID:2223-1694390340-1694390340@jazzbah.es
SUMMARY:Sabotage
DESCRIPTION:Sabotage llega por primera vez a Jazzbah! \n\nLa marca promotora de música urbana llega directamente desde Córdoba este domingo para sumarse a nuestra despedida de verano. \nEn esta edición\, con los Dj’s @ivansalacuba y @elmolka – que estarán a cargo de la noche presentando una sesión que viaja desde el dembow y reggaeton más duro del momento hasta los ritmos más rotos de la electrónica. \nUna noche única que no vas a querer perderte. Puro sabotage! \nEntradas disponibles en https://www.xipocio.es/evento/reggaeton-sabotage-night-en-jazzbah/ \n 
URL:https://jazzbah.es/event/sabotage/
CATEGORIES:2023,Concerts,Destacats,Dj,Jazzbah
ATTACH;FMTTYPE=image/jpeg:https://jazzbah.es/wp-content/uploads/2023/09/Slide-Jazzbah.jpg
END:VEVENT
BEGIN:VEVENT
DTSTART;TZID=Europe/Paris:20230916T230000
DTEND;TZID=Europe/Paris:20230916T230000
DTSTAMP:20260425T131637
CREATED:20230628T062405Z
LAST-MODIFIED:20230727T133412Z
UID:2046-1694905200-1694905200@jazzbah.es
SUMMARY:House152 - Ride The Wave
DESCRIPTION:The London based record label 152 RECORDS presents:\nHOUSE152 – RIDE THE WAVE \nOne of the most powerful events of the summer is landing in Menorca. \nAn exclusive line up of international artists will fuse the freshest Tech-House\, Bass House and Techno music together. \nMain Room:\nBOJAK 🇪🇸\nALEX VON MARTIN 🇬🇧\nDJ EKL b2b TECNIK CURR 🇮🇹 \nSpecial Guest:\nEMEYE 🌎 \nTerrace:\nINEXXSTABLE 🇪🇸 \nMake special memories this summer\, RIDE THE WAVE with us! \nLimited Vip Tables\nMore info at www.152records.com\ndrop us a message to info@152records.com \nVideo Intro:
URL:https://jazzbah.es/event/house152-ride-the-wave/
CATEGORIES:2023,Concerts,Destacats,Dj,Jazzbah
ATTACH;FMTTYPE=image/jpeg:https://jazzbah.es/wp-content/uploads/2023/06/Slide-Jazzbahok.jpg
END:VEVENT
BEGIN:VEVENT
DTSTART;TZID=Europe/Paris:20230921T203000
DTEND;TZID=Europe/Paris:20230921T203000
DTSTAMP:20260425T131637
CREATED:20230915T135341Z
LAST-MODIFIED:20230915T135410Z
UID:2239-1695328200-1695328200@jazzbah.es
SUMMARY:Casino Jazz Club amb "Our Five Band"
DESCRIPTION:DARRER CASINO JAZZ CLUB DEL CICLE D’ESTIU‼️ \nEl pròxim dijous 21 de setembre vine al teatre i gaudeix del ball i la música en directe en un ambient que et transportarà a una altra època. \n20:30 h. Classe Oberta de LINDY HOP. Aprèn a ballar la música de Swing abans del concert. (Apte per a tots els nivells). \n21:30 h. Concert amb la nostra orquestra OUR FIVE BAND (swing\, jazz\, mambo\, estàndards) \n…………………………………………………………………………………………………………………………………………… \nÚLTIMO CASINO JAZZ CLUB DEL CICLO DE VERANO!!  \nEl próximo jueves 21 de septiembre\, ven al teatro y disfruta del baile y la música en directo en un ambiente que te transportará a otra época. \n20:30 h. Clase Abierta de LINDY HOP. Aprende a bailar la música de Swing antes del concierto. (Apto para todos los niveles). \n21:30 h. Concierto con nuestra orquesta OUR FIVE BAND (swing\, jazz\, mambo\, estándars) \n🎟️ TAQUILLA INVERSA\nAjuda’ns a fer-ho possible! Tu decideixes el preu a pagar de l’espectacle. Aportació voluntaria al sortir de la sala. \n🎟️ TAQUILLA INVERSA. ¡Ayúdanos a hacerlo posible! Tú decides el precio a pagar del espectáculo. Aportación voluntaria al salir de la sala. \nUBICACIÓ: Teatre del Casino 17 de Gener. Avinguda Constitució\, 18 (Ciutadella de Menorca)
URL:https://jazzbah.es/event/casino-jazz-club-amb-our-five-band-11/
CATEGORIES:2023,Casino Jazz Club,Concerts,Destacats,Teatre Casino 17 de gener
ATTACH;FMTTYPE=image/jpeg:https://jazzbah.es/wp-content/uploads/2023/09/21-set.jpeg
END:VEVENT
END:VCALENDAR