BEGIN:VCALENDAR
VERSION:2.0
PRODID:-//Jazzbah (Port de Ciutadella) - ECPv6.15.20//NONSGML v1.0//EN
CALSCALE:GREGORIAN
METHOD:PUBLISH
X-ORIGINAL-URL:https://jazzbah.es
X-WR-CALDESC:Esdeveniments per Jazzbah (Port de Ciutadella)
REFRESH-INTERVAL;VALUE=DURATION:PT1H
X-Robots-Tag:noindex
X-PUBLISHED-TTL:PT1H
BEGIN:VTIMEZONE
TZID:Europe/Paris
BEGIN:DAYLIGHT
TZOFFSETFROM:+0100
TZOFFSETTO:+0200
TZNAME:CEST
DTSTART:20240331T010000
END:DAYLIGHT
BEGIN:STANDARD
TZOFFSETFROM:+0200
TZOFFSETTO:+0100
TZNAME:CET
DTSTART:20241027T010000
END:STANDARD
BEGIN:DAYLIGHT
TZOFFSETFROM:+0100
TZOFFSETTO:+0200
TZNAME:CEST
DTSTART:20250330T010000
END:DAYLIGHT
BEGIN:STANDARD
TZOFFSETFROM:+0200
TZOFFSETTO:+0100
TZNAME:CET
DTSTART:20251026T010000
END:STANDARD
BEGIN:DAYLIGHT
TZOFFSETFROM:+0100
TZOFFSETTO:+0200
TZNAME:CEST
DTSTART:20260329T010000
END:DAYLIGHT
BEGIN:STANDARD
TZOFFSETFROM:+0200
TZOFFSETTO:+0100
TZNAME:CET
DTSTART:20261025T010000
END:STANDARD
END:VTIMEZONE
BEGIN:VEVENT
DTSTART;TZID=Europe/Paris:20250930T193000
DTEND;TZID=Europe/Paris:20250930T193000
DTSTAMP:20260424T194552
CREATED:20250911T124504Z
LAST-MODIFIED:20250915T065658Z
UID:3544-1759260600-1759260600@jazzbah.es
SUMMARY:CINE CENA - JAPÓ
DESCRIPTION:Dimarts 30 de setembre\, a les 19:30 h\, els Cinemes Moix Negre es convertiran en un racó del país del sol ixent amb una nova edició de Cine-Cena. Una vetlada on el cinema\, la gastronomia i la música s’ajunten per oferir-te una experiència única. \nLa vetlada inclourà la projecció de la sorprenent comèdia de ciència-ficció japonesa Més enllà dels dos minuts infinits (Junta Yamaguchi\, 2023)\, en VOSE\, un relat enginyós i divertit que juga amb el temps i l’amistat. \nEn l’apartat gastronòmic\, el restaurant Subarashi Fornells\, obert fa poc a Fornells\, ens oferirà un autèntic menú japonès\, amb dues opcions a triar: vegetariana o tradicional\, acompanyades de begudes típiques del Japó. \n\nHi haurà dos tipus d’entrada: \nCine-Cena completa – 45 €: inclou tapa japonesa\, sopar complet\, beguda japonesa i pel·lícula. \nCine-Tapa – 20 €: inclou tapa japonesa\, beguda japonesa i pel·lícula. \nLa nit es completarà amb festa i música en directe de la mà de DJ Sonido Puñal\, que ens farà viatjar amb sons que mesclen l’esperit nipó amb el Mediterrani. \nCine-Cena és una coproducció entre Jazzbah\, Cinemes Moix Negre i Anna Gonzalvo (creadora del projecte)\, amb la col·laboració molt especial de David Peña\, àlies Puño àlies Sonido Puñal. \n——————————————————————————————————————————————– \nEl próximo martes 30 de septiembre\, a las 19:30 h\, los Cinemes Moix Negre se transformarán en un rincón del país del sol naciente con una nueva edición de Cine-Cena. Una noche donde el cine\, la gastronomía y la música se unen para ofrecerte una experiencia única. \nLa velada incluirá la proyección de la sorprendente comedia de ciencia ficción japonesa Más allá de los dos minutos infinitos (Junta Yamaguchi\, 2023)\, en VOSE\, un relato ingenioso y divertido que juega con el tiempo y la amistad. \nEn el apartado gastronómico\, el restaurante Subarashi Fornells\, recientemente inaugurado en Fornells\, nos ofrecerá un auténtico menú japonés\, con dos opciones a elegir: vegetariana o tradicional\, acompañado de bebidas típicas del país nipón. \n  \nHabrá dos tipos de entrada: \nCine-Cena completa – 45 €: incluye tapa japonesa\, cena completa\, bebida japonesa y película. \nCine-Tapa – 20 €: incluye tapa japonesa\, bebida japonesa y película. \nLa noche se completará con fiesta y música en directo de la mano de DJ Sonido Puñal\, que nos hará viajar con sonidos que mezclan el espíritu japonés con el Mediterráneo. \nCine-Cena es una coproducción entre Jazzbah\, Cinemes Moix Negre y Anna Gonzalvo (creadora del proyecto)\, con la colaboración muy especial de David Peña\, alias Puño alias Sonido Puñal. \nhttps://cinesmoixnegre.sacatuentrada.es/es/productos/descripcion/cine-cena-japon
URL:https://jazzbah.es/event/cine-cena-japo/
CATEGORIES:2025,Cine cena,Cinemes Moix Negre,Concerts,Destacats
ATTACH;FMTTYPE=image/jpeg:https://jazzbah.es/wp-content/uploads/2025/09/slide-CINE-CENA-JAPO-208.jpg
END:VEVENT
END:VCALENDAR