BEGIN:VCALENDAR
VERSION:2.0
PRODID:-//Jazzbah (Port de Ciutadella) - ECPv6.15.20//NONSGML v1.0//EN
CALSCALE:GREGORIAN
METHOD:PUBLISH
X-WR-CALNAME:Jazzbah (Port de Ciutadella)
X-ORIGINAL-URL:https://jazzbah.es
X-WR-CALDESC:Esdeveniments per Jazzbah (Port de Ciutadella)
REFRESH-INTERVAL;VALUE=DURATION:PT1H
X-Robots-Tag:noindex
X-PUBLISHED-TTL:PT1H
BEGIN:VTIMEZONE
TZID:Europe/Paris
BEGIN:DAYLIGHT
TZOFFSETFROM:+0100
TZOFFSETTO:+0200
TZNAME:CEST
DTSTART:20230326T010000
END:DAYLIGHT
BEGIN:STANDARD
TZOFFSETFROM:+0200
TZOFFSETTO:+0100
TZNAME:CET
DTSTART:20231029T010000
END:STANDARD
BEGIN:DAYLIGHT
TZOFFSETFROM:+0100
TZOFFSETTO:+0200
TZNAME:CEST
DTSTART:20240331T010000
END:DAYLIGHT
BEGIN:STANDARD
TZOFFSETFROM:+0200
TZOFFSETTO:+0100
TZNAME:CET
DTSTART:20241027T010000
END:STANDARD
BEGIN:DAYLIGHT
TZOFFSETFROM:+0100
TZOFFSETTO:+0200
TZNAME:CEST
DTSTART:20250330T010000
END:DAYLIGHT
BEGIN:STANDARD
TZOFFSETFROM:+0200
TZOFFSETTO:+0100
TZNAME:CET
DTSTART:20251026T010000
END:STANDARD
END:VTIMEZONE
BEGIN:VEVENT
DTSTART;TZID=Europe/Paris:20240801T213000
DTEND;TZID=Europe/Paris:20240801T213000
DTSTAMP:20260425T010333
CREATED:20240630T075445Z
LAST-MODIFIED:20240706T070445Z
UID:2801-1722547800-1722547800@jazzbah.es
SUMMARY:Casino Jazz Club: Our Five Band amb Anna Szostack
DESCRIPTION:Aquest estiu el Teatre del Casino es torna a vestir amb les seves millors gales per a oferir-vos una experiència única. Gaudeix del millor jazz\, swing i soul amb actuacions en directe\, molt de ball i copes servides amb elegància. \n20:30 h. Classe Oberta de LINDY HOP. Aprèn a ballar la música de Swing abans del concert. (Apte per a tots els nivells). \n 21:30 h. Concert: Our Five Band amb Anna Szostack \nEntrades a taquilla: 8 €\nPREU ESPECIAL: Socis Casino 17 de Gener i Jazz Obert: 5 € (mostrant el carnet de soci a taquilla) \nUBICACIÓ: Teatre del Casino 17 de Gener. Avinguda Constitució\, 18 (Ciutadella de Menorca)
URL:https://jazzbah.es/event/casino-jazz-club-our-five-band-3/
CATEGORIES:2024,25è Aniversari,Casino Jazz Club,Concerts,Destacats,Teatre Casino 17 de gener
ATTACH;FMTTYPE=image/jpeg:https://jazzbah.es/wp-content/uploads/2024/06/Slide-Jazzbah-2.jpg
END:VEVENT
BEGIN:VEVENT
DTSTART;TZID=Europe/Paris:20240808T213000
DTEND;TZID=Europe/Paris:20240808T213000
DTSTAMP:20260425T010333
CREATED:20240630T075609Z
LAST-MODIFIED:20240702T174925Z
UID:2803-1723152600-1723152600@jazzbah.es
SUMMARY:Casino Jazz Club: Our Five Band amb Anna Szostack
DESCRIPTION:Aquest estiu el Teatre del Casino es torna a vestir amb les seves millors gales per a oferir-vos una experiència única. Gaudeix del millor jazz\, swing i soul amb actuacions en directe\, molt de ball i copes servides amb elegància. \n20:30 h. Classe Oberta de LINDY HOP. Aprèn a ballar la música de Swing abans del concert. (Apte per a tots els nivells). \n 21:30 h. Concert: Our Five Band amb Anna Szostack \nEntrades a taquilla: 8 €\nPREU ESPECIAL: Socis Casino 17 de Gener i Jazz Obert: 5 € (mostrant el carnet de soci a taquilla) \nUBICACIÓ: Teatre del Casino 17 de Gener. Avinguda Constitució\, 18 (Ciutadella de Menorca)
URL:https://jazzbah.es/event/casino-jazz-club-our-five-band-4/
CATEGORIES:2024,25è Aniversari,Casino Jazz Club,Concerts,Destacats,Teatre Casino 17 de gener
ATTACH;FMTTYPE=image/jpeg:https://jazzbah.es/wp-content/uploads/2024/06/Slide-Jazzbah-2.jpg
END:VEVENT
BEGIN:VEVENT
DTSTART;TZID=Europe/Paris:20240816T213000
DTEND;TZID=Europe/Paris:20240816T213000
DTSTAMP:20260425T010333
CREATED:20240630T075759Z
LAST-MODIFIED:20240702T174723Z
UID:2805-1723843800-1723843800@jazzbah.es
SUMMARY:Casino Jazz Club: Our Five Band amb Anna Szostack
DESCRIPTION:Aquest estiu el Teatre del Casino es torna a vestir amb les seves millors gales per a oferir-vos una experiència única. Gaudeix del millor jazz\, swing i soul amb actuacions en directe\, molt de ball i copes servides amb elegància. \n20:30 h. Classe Oberta de LINDY HOP. Aprèn a ballar la música de Swing abans del concert. (Apte per a tots els nivells). \n 21:30 h. Concert: Our Five Band amb Anna Szostack \nEntrades a taquilla: 8 €\nPREU ESPECIAL: Socis Casino 17 de Gener i Jazz Obert: 5 € (mostrant el carnet de soci a taquilla) \nUBICACIÓ: Teatre del Casino 17 de Gener. Avinguda Constitució\, 18 (Ciutadella de Menorca)
URL:https://jazzbah.es/event/casino-jazz-club-our-five-band-5/
CATEGORIES:2024,25è Aniversari,Casino Jazz Club,Concerts,Destacats,Teatre Casino 17 de gener
ATTACH;FMTTYPE=image/jpeg:https://jazzbah.es/wp-content/uploads/2024/06/Slide-Jazzbah-2.jpg
END:VEVENT
BEGIN:VEVENT
DTSTART;TZID=Europe/Paris:20240823T213000
DTEND;TZID=Europe/Paris:20240823T213000
DTSTAMP:20260425T010333
CREATED:20240630T080216Z
LAST-MODIFIED:20240707T062058Z
UID:2809-1724448600-1724448600@jazzbah.es
SUMMARY:Casino Jazz Club: Our Five Band + Bernard Van Rossum
DESCRIPTION:Aquest estiu el Teatre del Casino es torna a vestir amb les seves millors gales per a oferir-vos una experiència única. Gaudeix del millor jazz\, swing i soul amb actuacions en directe\, molt de ball i copes servides amb elegància. \n20:30 h. Classe Oberta de LINDY HOP. Aprèn a ballar la música de Swing abans del concert. (Apte per a tots els nivells). \n 21:30 h. Concert: Our Five Band + Bernard Van Rossum (Artista convidat) \nEntrades a taquilla: 8 €\nPREU ESPECIAL: Socis Casino 17 de Gener i Jazz Obert: 5 € (mostrant el carnet de soci a taquilla) \nUBICACIÓ: Teatre del Casino 17 de Gener. Avinguda Constitució\, 18 (Ciutadella de Menorca)
URL:https://jazzbah.es/event/casino-jazz-club-our-five-band-bernard-van-rossum/
CATEGORIES:2024,25è Aniversari,Casino Jazz Club,Concerts,Destacats,Teatre Casino 17 de gener
ATTACH;FMTTYPE=image/jpeg:https://jazzbah.es/wp-content/uploads/2024/06/Slide-Jazzbah-2.jpg
END:VEVENT
END:VCALENDAR